BEGIN:VCALENDAR
VERSION:2.0
PRODID:-//The Towers - ECPv6.10.3//NONSGML v1.0//EN
CALSCALE:GREGORIAN
METHOD:PUBLISH
X-ORIGINAL-URL:https://towerlane.org
X-WR-CALDESC:Events for The Towers
REFRESH-INTERVAL;VALUE=DURATION:PT1H
X-Robots-Tag:noindex
X-PUBLISHED-TTL:PT1H
BEGIN:VTIMEZONE
TZID:America/New_York
BEGIN:DAYLIGHT
TZOFFSETFROM:-0500
TZOFFSETTO:-0400
TZNAME:EDT
DTSTART:20210314T070000
END:DAYLIGHT
BEGIN:STANDARD
TZOFFSETFROM:-0400
TZOFFSETTO:-0500
TZNAME:EST
DTSTART:20211107T060000
END:STANDARD
END:VTIMEZONE
BEGIN:VEVENT
DTSTART;TZID=America/New_York:20210616T190000
DTEND;TZID=America/New_York:20210616T190000
DTSTAMP:20260424T045746
CREATED:20210601T150039Z
LAST-MODIFIED:20210601T150039Z
UID:1670-1623870000-1623870000@towerlane.org
SUMMARY:Movie & Discussion with Jim Brochin
DESCRIPTION:
URL:https://towerlane.org/event/movie-discussion-with-jim-brochin-7/
LOCATION:Dining Room
END:VEVENT
BEGIN:VEVENT
DTSTART;TZID=America/New_York:20210616T140000
DTEND;TZID=America/New_York:20210616T140000
DTSTAMP:20260424T045746
CREATED:20210601T143538Z
LAST-MODIFIED:20210601T143538Z
UID:1608-1623852000-1623852000@towerlane.org
SUMMARY:HealthPro Info. Session\, Device Safety Check & Blood Pressure Screening\, with Darcy\, Dean & Utopia
DESCRIPTION:
URL:https://towerlane.org/event/healthpro-info-session-device-safety-check-blood-pressure-screening-with-darcy-dean-utopia/
LOCATION:Dining Room
END:VEVENT
BEGIN:VEVENT
DTSTART;TZID=America/New_York:20210614T141500
DTEND;TZID=America/New_York:20210614T141500
DTSTAMP:20260424T045746
CREATED:20210601T142643Z
LAST-MODIFIED:20210601T142643Z
UID:1595-1623680100-1623680100@towerlane.org
SUMMARY:Bingo
DESCRIPTION:
URL:https://towerlane.org/event/bingo-18/2021-06-14/
LOCATION:Dining Room
END:VEVENT
BEGIN:VEVENT
DTSTART;TZID=America/New_York:20210614T130000
DTEND;TZID=America/New_York:20210614T130000
DTSTAMP:20260424T045746
CREATED:20210601T142426Z
LAST-MODIFIED:20210601T142426Z
UID:1582-1623675600-1623675600@towerlane.org
SUMMARY:Bingo
DESCRIPTION:
URL:https://towerlane.org/event/bingo-17/2021-06-14/
LOCATION:Dining Room
END:VEVENT
BEGIN:VEVENT
DTSTART;TZID=America/New_York:20210612T130000
DTEND;TZID=America/New_York:20210612T130000
DTSTAMP:20260424T045746
CREATED:20210601T184014Z
LAST-MODIFIED:20210601T184014Z
UID:1728-1623502800-1623502800@towerlane.org
SUMMARY:Piano with Ben
DESCRIPTION:
URL:https://towerlane.org/event/piano-with-ben/
LOCATION:Dining Room
END:VEVENT
BEGIN:VEVENT
DTSTART;TZID=America/New_York:20210612T100000
DTEND;TZID=America/New_York:20210612T100000
DTSTAMP:20260424T045746
CREATED:20210601T183812Z
LAST-MODIFIED:20210601T183812Z
UID:1724-1623492000-1623492000@towerlane.org
SUMMARY:Shabbat Services with Ruthie
DESCRIPTION:
URL:https://towerlane.org/event/shabbat-services-with-ruthie-15/
LOCATION:Dining Room
END:VEVENT
BEGIN:VEVENT
DTSTART;TZID=America/New_York:20210609T190000
DTEND;TZID=America/New_York:20210609T190000
DTSTAMP:20260424T045746
CREATED:20210601T150155Z
LAST-MODIFIED:20210601T150155Z
UID:1672-1623265200-1623265200@towerlane.org
SUMMARY:Movie Night
DESCRIPTION:
URL:https://towerlane.org/event/movie-night-8/
LOCATION:Dining Room
END:VEVENT
BEGIN:VEVENT
DTSTART;TZID=America/New_York:20210608T190000
DTEND;TZID=America/New_York:20210608T190000
DTSTAMP:20260424T045746
CREATED:20210601T145322Z
LAST-MODIFIED:20210601T145322Z
UID:1642-1623178800-1623178800@towerlane.org
SUMMARY:Discussion with Sydney Perry
DESCRIPTION:
URL:https://towerlane.org/event/discussion-with-sydney-perry-7/
LOCATION:Dining Room
END:VEVENT
BEGIN:VEVENT
DTSTART;TZID=America/New_York:20210608T113000
DTEND;TZID=America/New_York:20210608T113000
DTSTAMP:20260424T045746
CREATED:20210601T144626Z
LAST-MODIFIED:20210601T144626Z
UID:1625-1623151800-1623151800@towerlane.org
SUMMARY:Arts & Crafts
DESCRIPTION:
URL:https://towerlane.org/event/arts-crafts-7/
LOCATION:Dining Room
END:VEVENT
BEGIN:VEVENT
DTSTART;TZID=America/New_York:20210607T140000
DTEND;TZID=America/New_York:20210607T140000
DTSTAMP:20260424T045746
CREATED:20210601T143131Z
LAST-MODIFIED:20210601T143131Z
UID:1603-1623074400-1623074400@towerlane.org
SUMMARY:Welcome Magician David Crosson
DESCRIPTION:
URL:https://towerlane.org/event/welcome-magician-david-crosson/
LOCATION:Dining Room
END:VEVENT
BEGIN:VEVENT
DTSTART;TZID=America/New_York:20210605T190000
DTEND;TZID=America/New_York:20210605T190000
DTSTAMP:20260424T045746
CREATED:20210601T184310Z
LAST-MODIFIED:20210601T184310Z
UID:1737-1622919600-1622919600@towerlane.org
SUMMARY:Movie
DESCRIPTION:
URL:https://towerlane.org/event/movie-12/2021-06-05/
LOCATION:Dining Room
END:VEVENT
BEGIN:VEVENT
DTSTART;TZID=America/New_York:20210605T140000
DTEND;TZID=America/New_York:20210605T140000
DTSTAMP:20260424T045746
CREATED:20210601T184218Z
LAST-MODIFIED:20210601T184438Z
UID:1732-1622901600-1622901600@towerlane.org
SUMMARY:Movie
DESCRIPTION:
URL:https://towerlane.org/event/movie-11/2021-06-05/
LOCATION:Dining Room
END:VEVENT
BEGIN:VEVENT
DTSTART;TZID=America/New_York:20210604T190000
DTEND;TZID=America/New_York:20210604T190000
DTSTAMP:20260424T045746
CREATED:20210601T183633Z
LAST-MODIFIED:20210601T183633Z
UID:1720-1622833200-1622833200@towerlane.org
SUMMARY:Shabbat Services with Ruthie
DESCRIPTION:
URL:https://towerlane.org/event/shabbat-services-with-ruthie-13/
LOCATION:Dining Room
END:VEVENT
BEGIN:VEVENT
DTSTART;TZID=America/New_York:20210604T130000
DTEND;TZID=America/New_York:20210604T130000
DTSTAMP:20260424T045746
CREATED:20210601T183534Z
LAST-MODIFIED:20210601T183534Z
UID:1715-1622811600-1622811600@towerlane.org
SUMMARY:Healthy & Fit
DESCRIPTION:
URL:https://towerlane.org/event/healthy-fit-3/2021-06-04/
LOCATION:Dining Room
END:VEVENT
BEGIN:VEVENT
DTSTART;TZID=America/New_York:20210604T110000
DTEND;TZID=America/New_York:20210604T110000
DTSTAMP:20260424T045746
CREATED:20210601T183210Z
LAST-MODIFIED:20210601T183210Z
UID:1706-1622804400-1622804400@towerlane.org
SUMMARY:Bible Study with Howard Taylor
DESCRIPTION:
URL:https://towerlane.org/event/bible-study-with-howard-taylor-3/
LOCATION:Dining Room
END:VEVENT
BEGIN:VEVENT
DTSTART;TZID=America/New_York:20210603T190000
DTEND;TZID=America/New_York:20210603T190000
DTSTAMP:20260424T045746
CREATED:20210601T142858Z
LAST-MODIFIED:20210601T142858Z
UID:1599-1622746800-1622746800@towerlane.org
SUMMARY:Welcome Guitarist Dani Zanuttini-Frank from the Yale School of Music
DESCRIPTION:
URL:https://towerlane.org/event/welcome-guitarist-dani-zanuttini-frank-from-the-yale-school-of-music/
LOCATION:Dining Room
END:VEVENT
BEGIN:VEVENT
DTSTART;TZID=America/New_York:20210603T140000
DTEND;TZID=America/New_York:20210603T140000
DTSTAMP:20260424T045746
CREATED:20210601T150850Z
LAST-MODIFIED:20210601T150850Z
UID:1687-1622728800-1622728800@towerlane.org
SUMMARY:Managing Life Stressors with Andrea Joseph from JFS
DESCRIPTION:
URL:https://towerlane.org/event/managing-life-stressors-with-andrea-joseph-from-jfs-3/
LOCATION:Dining Room
END:VEVENT
BEGIN:VEVENT
DTSTART;TZID=America/New_York:20210603T130000
DTEND;TZID=America/New_York:20210603T130000
DTSTAMP:20260424T045746
CREATED:20210601T150658Z
LAST-MODIFIED:20210601T150658Z
UID:1683-1622725200-1622725200@towerlane.org
SUMMARY:Catholic Mass with Father Lerner
DESCRIPTION:
URL:https://towerlane.org/event/catholic-mass-with-father-lerner-7/
LOCATION:Dining Room
END:VEVENT
BEGIN:VEVENT
DTSTART;VALUE=DATE:20210603
DTEND;VALUE=DATE:20210604
DTSTAMP:20260424T045746
CREATED:20210601T182422Z
LAST-MODIFIED:20210601T182612Z
UID:1691-1622678400-1622764799@towerlane.org
SUMMARY:Throwback Thursday - Reminiscing with Quinnipiac
DESCRIPTION:Times will vary
URL:https://towerlane.org/event/throwback-thursday-reminiscing-with-quinnipiac/2021-06-03/
LOCATION:Dining Room
END:VEVENT
BEGIN:VEVENT
DTSTART;TZID=America/New_York:20210602T190000
DTEND;TZID=America/New_York:20210602T190000
DTSTAMP:20260424T045746
CREATED:20210601T145953Z
LAST-MODIFIED:20210601T145953Z
UID:1668-1622660400-1622660400@towerlane.org
SUMMARY:Movie & Discussion with Jim Brochin
DESCRIPTION:
URL:https://towerlane.org/event/movie-discussion-with-jim-brochin-6/
LOCATION:Dining Room
END:VEVENT
BEGIN:VEVENT
DTSTART;TZID=America/New_York:20210602T151500
DTEND;TZID=America/New_York:20210602T151500
DTSTAMP:20260424T045746
CREATED:20210601T145813Z
LAST-MODIFIED:20210601T145813Z
UID:1662-1622646900-1622646900@towerlane.org
SUMMARY:Current Events with Stephen & Dale
DESCRIPTION:
URL:https://towerlane.org/event/current-events-with-stephen-dale-9/2021-06-02/
LOCATION:Dining Room
END:VEVENT
BEGIN:VEVENT
DTSTART;TZID=America/New_York:20210602T130000
DTEND;TZID=America/New_York:20210602T130000
DTSTAMP:20260424T045746
CREATED:20210601T145705Z
LAST-MODIFIED:20210601T145705Z
UID:1656-1622638800-1622638800@towerlane.org
SUMMARY:Healthy & Fit
DESCRIPTION:
URL:https://towerlane.org/event/healthy-fit-2/2021-06-02/
LOCATION:Dining Room
END:VEVENT
BEGIN:VEVENT
DTSTART;TZID=America/New_York:20210602T080000
DTEND;TZID=America/New_York:20210602T170000
DTSTAMP:20260424T045746
CREATED:20210601T145611Z
LAST-MODIFIED:20210601T145611Z
UID:1650-1622620800-1622653200@towerlane.org
SUMMARY:Brain Games with Quinnipiac
DESCRIPTION:
URL:https://towerlane.org/event/brain-games-with-quinnipiac/2021-06-02/
LOCATION:Dining Room
END:VEVENT
BEGIN:VEVENT
DTSTART;TZID=America/New_York:20210601T150000
DTEND;TZID=America/New_York:20210601T150000
DTSTAMP:20260424T045746
CREATED:20210601T145223Z
LAST-MODIFIED:20210601T145505Z
UID:1636-1622559600-1622559600@towerlane.org
SUMMARY:Technology Tuesday - Tech Help with Quinnipiac
DESCRIPTION:
URL:https://towerlane.org/event/technology-tuesday-tech-help-with-quinnipiac/2021-06-01/
LOCATION:Dining Room
END:VEVENT
BEGIN:VEVENT
DTSTART;TZID=America/New_York:20210601T130000
DTEND;TZID=America/New_York:20210601T130000
DTSTAMP:20260424T045746
CREATED:20210601T144846Z
LAST-MODIFIED:20210601T144846Z
UID:1629-1622552400-1622552400@towerlane.org
SUMMARY:Healthy & Fit
DESCRIPTION:
URL:https://towerlane.org/event/healthy-fit/2021-06-01/
LOCATION:Dining Room
END:VEVENT
BEGIN:VEVENT
DTSTART;TZID=America/New_York:20210601T100000
DTEND;TZID=America/New_York:20210601T100000
DTSTAMP:20260424T045746
CREATED:20210430T172114Z
LAST-MODIFIED:20210601T144457Z
UID:1347-1622541600-1622541600@towerlane.org
SUMMARY:Coffee Talk with Jane Kasper
DESCRIPTION:
URL:https://towerlane.org/event/coffee-talk-with-jane-kasper-8/2021-06-01/
LOCATION:Dining Room
END:VEVENT
BEGIN:VEVENT
DTSTART;TZID=America/New_York:20210503T141500
DTEND;TZID=America/New_York:20210503T141500
DTSTAMP:20260424T045746
CREATED:20210430T171841Z
LAST-MODIFIED:20210601T142218Z
UID:1341-1620051300-1620051300@towerlane.org
SUMMARY:Bingo
DESCRIPTION:
URL:https://towerlane.org/event/bingo-16/2021-05-03/
LOCATION:Dining Room
END:VEVENT
END:VCALENDAR