BEGIN:VCALENDAR
VERSION:2.0
PRODID:-//The Towers - ECPv6.10.3//NONSGML v1.0//EN
CALSCALE:GREGORIAN
METHOD:PUBLISH
X-ORIGINAL-URL:https://towerlane.org
X-WR-CALDESC:Events for The Towers
REFRESH-INTERVAL;VALUE=DURATION:PT1H
X-Robots-Tag:noindex
X-PUBLISHED-TTL:PT1H
BEGIN:VTIMEZONE
TZID:America/New_York
BEGIN:DAYLIGHT
TZOFFSETFROM:-0500
TZOFFSETTO:-0400
TZNAME:EDT
DTSTART:20260308T070000
END:DAYLIGHT
BEGIN:STANDARD
TZOFFSETFROM:-0400
TZOFFSETTO:-0500
TZNAME:EST
DTSTART:20261101T060000
END:STANDARD
END:VTIMEZONE
BEGIN:VEVENT
DTSTART;TZID=America/New_York:20260424T183000
DTEND;TZID=America/New_York:20260424T183000
DTSTAMP:20260424T163820
CREATED:20260330T195836Z
LAST-MODIFIED:20260330T195836Z
UID:20235-1777055400-1777055400@towerlane.org
SUMMARY:Shabbat
DESCRIPTION:Part of our Spiritual Pathway.\nFriday night and Saturday morning Shabbat services with Ruthie Greenblatt and Sarah Moskowitz.
URL:https://towerlane.org/event/shabbat-91/2026-04-24/
LOCATION:Sanctuary
END:VEVENT
BEGIN:VEVENT
DTSTART;TZID=America/New_York:20260425T100000
DTEND;TZID=America/New_York:20260425T100000
DTSTAMP:20260424T163820
CREATED:20260330T200023Z
LAST-MODIFIED:20260330T200023Z
UID:20240-1777111200-1777111200@towerlane.org
SUMMARY:Shabbat
DESCRIPTION:Part of our Spiritual Pathway.\nFriday night and Saturday morning Shabbat services with Ruthie Greenblatt and Sarah Moskowitz.
URL:https://towerlane.org/event/shabbat-92/2026-04-25/
LOCATION:Sanctuary
END:VEVENT
BEGIN:VEVENT
DTSTART;TZID=America/New_York:20260425T140000
DTEND;TZID=America/New_York:20260425T140000
DTSTAMP:20260424T163820
CREATED:20260330T200202Z
LAST-MODIFIED:20260330T200202Z
UID:20245-1777125600-1777125600@towerlane.org
SUMMARY:Bingo
DESCRIPTION:Part of our Social Pathway.\nThe classic game.
URL:https://towerlane.org/event/bingo-150/2026-04-25/
LOCATION:Sanctuary
END:VEVENT
BEGIN:VEVENT
DTSTART;TZID=America/New_York:20260425T190000
DTEND;TZID=America/New_York:20260425T190000
DTSTAMP:20260424T163820
CREATED:20260330T204004Z
LAST-MODIFIED:20260330T204004Z
UID:20254-1777143600-1777143600@towerlane.org
SUMMARY:Movie Night
DESCRIPTION:
URL:https://towerlane.org/event/movie-night-99/2026-04-25/
LOCATION:Sanctuary
END:VEVENT
BEGIN:VEVENT
DTSTART;TZID=America/New_York:20260426T113000
DTEND;TZID=America/New_York:20260426T233000
DTSTAMP:20260424T163820
CREATED:20260330T213314Z
LAST-MODIFIED:20260330T213314Z
UID:20349-1777203000-1777246200@towerlane.org
SUMMARY:Dance for All
DESCRIPTION:
URL:https://towerlane.org/event/dance-for-all-4/2026-04-26/
LOCATION:Sanctuary
END:VEVENT
BEGIN:VEVENT
DTSTART;TZID=America/New_York:20260426T153000
DTEND;TZID=America/New_York:20260426T153000
DTSTAMP:20260424T163820
CREATED:20260330T213656Z
LAST-MODIFIED:20260330T213656Z
UID:20355-1777217400-1777217400@towerlane.org
SUMMARY:Nourish Group
DESCRIPTION:Part of our Intellectual Pathway.\nYale student-led 8 week wellness/education program. Promotes longevity\, healthy aging\, social connectedness etc. (Seasonal).
URL:https://towerlane.org/event/nourish-group/2026-04-26/
LOCATION:Sanctuary
END:VEVENT
BEGIN:VEVENT
DTSTART;TZID=America/New_York:20260426T190000
DTEND;TZID=America/New_York:20260426T190000
DTSTAMP:20260424T163820
CREATED:20260330T204726Z
LAST-MODIFIED:20260330T204726Z
UID:20267-1777230000-1777230000@towerlane.org
SUMMARY:Movie Night
DESCRIPTION:
URL:https://towerlane.org/event/movie-night-100/2026-04-26/
LOCATION:Sanctuary
END:VEVENT
BEGIN:VEVENT
DTSTART;TZID=America/New_York:20260427T140000
DTEND;TZID=America/New_York:20260427T140000
DTSTAMP:20260424T163820
CREATED:20260330T205954Z
LAST-MODIFIED:20260330T205954Z
UID:20292-1777298400-1777298400@towerlane.org
SUMMARY:Bingo
DESCRIPTION:Part of our Social Pathway.\nThe classic game.
URL:https://towerlane.org/event/bingo-151/2026-04-27/
LOCATION:Sanctuary
END:VEVENT
BEGIN:VEVENT
DTSTART;TZID=America/New_York:20260428T113000
DTEND;TZID=America/New_York:20260428T113000
DTSTAMP:20260424T163820
CREATED:20260330T210524Z
LAST-MODIFIED:20260330T210524Z
UID:20305-1777375800-1777375800@towerlane.org
SUMMARY:30-Minute Exercise
DESCRIPTION:Part of our Physical Pathway.\n\nA shortened\, modified version of our Healthy & Fit. These sessions are typically performed half seated\, half standing\, and can be modified to most ability levels. Practical strategies for minimizing fall risk are discussed.
URL:https://towerlane.org/event/30-minute-exercise-39/2026-04-28/
LOCATION:Sanctuary
END:VEVENT
BEGIN:VEVENT
DTSTART;TZID=America/New_York:20260428T140000
DTEND;TZID=America/New_York:20260428T140000
DTSTAMP:20260424T163820
CREATED:20260331T160121Z
LAST-MODIFIED:20260331T160121Z
UID:20426-1777384800-1777384800@towerlane.org
SUMMARY:Towers Storytellers: Sylvia Rifkin
DESCRIPTION:
URL:https://towerlane.org/event/towers-storytellers-sylvia-rifkin/
LOCATION:Sanctuary
END:VEVENT
BEGIN:VEVENT
DTSTART;TZID=America/New_York:20260428T190000
DTEND;TZID=America/New_York:20260428T190000
DTSTAMP:20260424T163820
CREATED:20260331T160335Z
LAST-MODIFIED:20260331T160335Z
UID:20430-1777402800-1777402800@towerlane.org
SUMMARY:Game Night with Charles Rosenay
DESCRIPTION:Part of our Social Pathway. \nConcerts\, themed game nights\, trivia and more scheduled throughout the month.
URL:https://towerlane.org/event/game-night-with-charles-rosenay-30/
LOCATION:Sanctuary
END:VEVENT
BEGIN:VEVENT
DTSTART;TZID=America/New_York:20260429T140000
DTEND;TZID=America/New_York:20260429T140000
DTSTAMP:20260424T163820
CREATED:20260330T194502Z
LAST-MODIFIED:20260330T194502Z
UID:20202-1777471200-1777471200@towerlane.org
SUMMARY:Healthy Minds & Living Support Group
DESCRIPTION:Part of our Emotional Pathway.\nThis group intends to empower older adults and help them evolve through learning new skills\, coping strategies\, and lifestyle tips. A different topic is discussed each week. Led by MSW-LMSW Grace Ford.
URL:https://towerlane.org/event/healthy-minds-living-support-group-5/2026-04-29/
LOCATION:Sanctuary
END:VEVENT
BEGIN:VEVENT
DTSTART;TZID=America/New_York:20260429T150000
DTEND;TZID=America/New_York:20260429T150000
DTSTAMP:20260424T163820
CREATED:20260331T160813Z
LAST-MODIFIED:20260331T160813Z
UID:20436-1777474800-1777474800@towerlane.org
SUMMARY:History Talk with Ted Eastwood: "Texas History"
DESCRIPTION:
URL:https://towerlane.org/event/history-talk-with-ted-eastwood-texas-history/
LOCATION:Sanctuary
END:VEVENT
BEGIN:VEVENT
DTSTART;TZID=America/New_York:20260430T110000
DTEND;TZID=America/New_York:20260430T110000
DTSTAMP:20260424T163820
CREATED:20260331T161023Z
LAST-MODIFIED:20260331T161023Z
UID:20440-1777546800-1777546800@towerlane.org
SUMMARY:Town Hall Meeting
DESCRIPTION:
URL:https://towerlane.org/event/town-hall-meeting-9/
LOCATION:Sanctuary
END:VEVENT
BEGIN:VEVENT
DTSTART;TZID=America/New_York:20260430T140000
DTEND;TZID=America/New_York:20260430T140000
DTSTAMP:20260424T163820
CREATED:20260331T161435Z
LAST-MODIFIED:20260331T161435Z
UID:20446-1777557600-1777557600@towerlane.org
SUMMARY:Towers Fashion Show
DESCRIPTION:
URL:https://towerlane.org/event/towers-fashion-show/
LOCATION:Sanctuary
END:VEVENT
BEGIN:VEVENT
DTSTART;TZID=America/New_York:20260430T190000
DTEND;TZID=America/New_York:20260430T190000
DTSTAMP:20260424T163820
CREATED:20260330T212718Z
LAST-MODIFIED:20260330T212718Z
UID:20340-1777575600-1777575600@towerlane.org
SUMMARY:Movie Night
DESCRIPTION:
URL:https://towerlane.org/event/movie-night-101/2026-04-30/
LOCATION:Sanctuary
END:VEVENT
END:VCALENDAR