BEGIN:VCALENDAR
VERSION:2.0
PRODID:-//The Towers - ECPv6.10.3//NONSGML v1.0//EN
CALSCALE:GREGORIAN
METHOD:PUBLISH
X-WR-CALNAME:The Towers
X-ORIGINAL-URL:https://towerlane.org
X-WR-CALDESC:Events for The Towers
REFRESH-INTERVAL;VALUE=DURATION:PT1H
X-Robots-Tag:noindex
X-PUBLISHED-TTL:PT1H
BEGIN:VTIMEZONE
TZID:America/New_York
BEGIN:DAYLIGHT
TZOFFSETFROM:-0500
TZOFFSETTO:-0400
TZNAME:EDT
DTSTART:20260308T070000
END:DAYLIGHT
BEGIN:STANDARD
TZOFFSETFROM:-0400
TZOFFSETTO:-0500
TZNAME:EST
DTSTART:20261101T060000
END:STANDARD
END:VTIMEZONE
BEGIN:VEVENT
DTSTART;TZID=America/New_York:20260305T130000
DTEND;TZID=America/New_York:20260305T130000
DTSTAMP:20260421T011705
CREATED:20260227T194953Z
LAST-MODIFIED:20260227T194953Z
UID:19932-1772715600-1772715600@towerlane.org
SUMMARY:Catholic Service
DESCRIPTION:Part of our Spiritual Pathway.\nTwice per month Catholic service with Father Ryan Lerner.
URL:https://towerlane.org/event/catholic-service-2/
LOCATION:Sanctuary
END:VEVENT
BEGIN:VEVENT
DTSTART;TZID=America/New_York:20260305T111500
DTEND;TZID=America/New_York:20260305T111500
DTSTAMP:20260421T011705
CREATED:20260227T194820Z
LAST-MODIFIED:20260227T194820Z
UID:19930-1772709300-1772709300@towerlane.org
SUMMARY:Brain Boosters
DESCRIPTION:Part of our Intellectual Pathway.\nA lively\, game-based cognitive program that keeps the mind active through puzzles and creative challenges. Designed for fun\, flexibility\, and fast-paced brain stimulation.
URL:https://towerlane.org/event/brain-boosters-3/
LOCATION:Sanctuary
END:VEVENT
BEGIN:VEVENT
DTSTART;TZID=America/New_York:20260305T103000
DTEND;TZID=America/New_York:20260305T103000
DTSTAMP:20260421T011705
CREATED:20260227T194134Z
LAST-MODIFIED:20260227T194134Z
UID:19926-1772706600-1772706600@towerlane.org
SUMMARY:30-Minute Exercise
DESCRIPTION:Part of our Physical Pathway.\n\n A shortened\, modified version of our Healthy & Fit. These sessions are typically performed half seated\, half standing\, and can be modified to most ability levels. Practical strategies for minimizing fall risk are discussed.
URL:https://towerlane.org/event/30-minute-exercise-37/2026-03-05/
LOCATION:Sanctuary
END:VEVENT
BEGIN:VEVENT
DTSTART;TZID=America/New_York:20260304T190000
DTEND;TZID=America/New_York:20260304T190000
DTSTAMP:20260421T011705
CREATED:20260227T193859Z
LAST-MODIFIED:20260227T193859Z
UID:19924-1772650800-1772650800@towerlane.org
SUMMARY:Documentary: "One Woman One Vote"
DESCRIPTION:
URL:https://towerlane.org/event/documentary-one-woman-one-vote/
LOCATION:Sanctuary
END:VEVENT
BEGIN:VEVENT
DTSTART;TZID=America/New_York:20260304T104500
DTEND;TZID=America/New_York:20260304T104500
DTSTAMP:20260421T011705
CREATED:20260227T192902Z
LAST-MODIFIED:20260227T192902Z
UID:19915-1772621100-1772621100@towerlane.org
SUMMARY:Chorus Rehearsal
DESCRIPTION:Part of our Psychological Pathway. \nChorus leader Kevin Mack leads weekly rehearsals culminating in themed performances throughout the year. Runs seasonally.
URL:https://towerlane.org/event/chorus-rehearsal-31/2026-03-04/
LOCATION:Sanctuary
END:VEVENT
BEGIN:VEVENT
DTSTART;TZID=America/New_York:20260303T190000
DTEND;TZID=America/New_York:20260303T190000
DTSTAMP:20260421T011705
CREATED:20260227T190458Z
LAST-MODIFIED:20260227T190458Z
UID:19912-1772564400-1772564400@towerlane.org
SUMMARY:Documentary Screening: "Harriet Tubman"
DESCRIPTION:
URL:https://towerlane.org/event/documentary-screening-harriet-tubman/
LOCATION:Sanctuary
END:VEVENT
BEGIN:VEVENT
DTSTART;TZID=America/New_York:20260303T104500
DTEND;TZID=America/New_York:20260303T104500
DTSTAMP:20260421T011705
CREATED:20260227T185837Z
LAST-MODIFIED:20260227T185837Z
UID:19900-1772534700-1772534700@towerlane.org
SUMMARY:Chorus Rehearsal
DESCRIPTION:Part of our Psychological Pathway. \nChorus leader Kevin Mack leads weekly rehearsals culminating in themed performances throughout the year. Runs seasonally.
URL:https://towerlane.org/event/chorus-rehearsal-30/
LOCATION:Sanctuary
END:VEVENT
BEGIN:VEVENT
DTSTART;TZID=America/New_York:20260302T183000
DTEND;TZID=America/New_York:20260302T183000
DTSTAMP:20260421T011705
CREATED:20260227T185016Z
LAST-MODIFIED:20260227T185016Z
UID:19885-1772476200-1772476200@towerlane.org
SUMMARY:Purim Party with Ruthie
DESCRIPTION:
URL:https://towerlane.org/event/purim-party-with-ruthie/
LOCATION:Sanctuary
END:VEVENT
BEGIN:VEVENT
DTSTART;TZID=America/New_York:20260301T190000
DTEND;TZID=America/New_York:20260301T190000
DTSTAMP:20260421T011705
CREATED:20260227T184007Z
LAST-MODIFIED:20260227T184007Z
UID:19861-1772391600-1772391600@towerlane.org
SUMMARY:Movie Night
DESCRIPTION:
URL:https://towerlane.org/event/movie-night-95/2026-03-01/
LOCATION:Sanctuary
END:VEVENT
BEGIN:VEVENT
DTSTART;TZID=America/New_York:20260301T113000
DTEND;TZID=America/New_York:20260301T113000
DTSTAMP:20260421T011705
CREATED:20260227T183517Z
LAST-MODIFIED:20260227T183517Z
UID:19854-1772364600-1772364600@towerlane.org
SUMMARY:The Joy of Drumming
DESCRIPTION:Part of our Physical Pathway. \nParticipants will be led through a warmup then play along to simple rhythmic patterns with classic songs. The numerous benefits of drumming include increased hand-eye coordination\, focus\, mental clarity\, and motor skill. Led by resident volunteer Ruby Benarroch.
URL:https://towerlane.org/event/the-joy-of-drumming/2026-03-01/
LOCATION:Sanctuary
END:VEVENT
BEGIN:VEVENT
DTSTART;TZID=America/New_York:20260228T190000
DTEND;TZID=America/New_York:20260228T190000
DTSTAMP:20260421T011705
CREATED:20260129T215255Z
LAST-MODIFIED:20260129T215255Z
UID:19439-1772305200-1772305200@towerlane.org
SUMMARY:Movie Night
DESCRIPTION:
URL:https://towerlane.org/event/movie-night-94/2026-02-28/
LOCATION:Sanctuary
END:VEVENT
BEGIN:VEVENT
DTSTART;TZID=America/New_York:20260228T140000
DTEND;TZID=America/New_York:20260228T140000
DTSTAMP:20260421T011705
CREATED:20260129T215039Z
LAST-MODIFIED:20260129T215039Z
UID:19432-1772287200-1772287200@towerlane.org
SUMMARY:Bingo
DESCRIPTION:Part of our Social Pathway.\nThe classic game.
URL:https://towerlane.org/event/bingo-146/2026-02-28/
LOCATION:Sanctuary
END:VEVENT
BEGIN:VEVENT
DTSTART;TZID=America/New_York:20260228T100000
DTEND;TZID=America/New_York:20260228T100000
DTSTAMP:20260421T011705
CREATED:20260129T214833Z
LAST-MODIFIED:20260129T214833Z
UID:19428-1772272800-1772272800@towerlane.org
SUMMARY:Shabbat
DESCRIPTION:Part of our Spiritual Pathway.\nFriday night and Saturday morning Shabbat services with Ruthie Greenblatt and Sarah Moskowitz.
URL:https://towerlane.org/event/shabbat-88/2026-02-28/
LOCATION:Sanctuary
END:VEVENT
BEGIN:VEVENT
DTSTART;TZID=America/New_York:20260227T183000
DTEND;TZID=America/New_York:20260227T183000
DTSTAMP:20260421T011705
CREATED:20260129T213711Z
LAST-MODIFIED:20260129T213711Z
UID:19423-1772217000-1772217000@towerlane.org
SUMMARY:Shabbat
DESCRIPTION:Part of our Spiritual Pathway.\nFriday night and Saturday morning Shabbat services with Ruthie Greenblatt and Sarah Moskowitz.
URL:https://towerlane.org/event/shabbat-87/2026-02-27/
LOCATION:Sanctuary
END:VEVENT
BEGIN:VEVENT
DTSTART;TZID=America/New_York:20260227T140000
DTEND;TZID=America/New_York:20260227T140000
DTSTAMP:20260421T011705
CREATED:20260131T163401Z
LAST-MODIFIED:20260131T163401Z
UID:19473-1772200800-1772200800@towerlane.org
SUMMARY:Current Events
DESCRIPTION:Part of our Intellectual Pathway.\nResident-led interactive discussion group.
URL:https://towerlane.org/event/current-events-41/2026-02-27/
LOCATION:Sanctuary
END:VEVENT
BEGIN:VEVENT
DTSTART;TZID=America/New_York:20260227T110000
DTEND;TZID=America/New_York:20260227T110000
DTSTAMP:20260421T011705
CREATED:20260131T171029Z
LAST-MODIFIED:20260131T171029Z
UID:19518-1772190000-1772190000@towerlane.org
SUMMARY:iPhone Class with Cheryl
DESCRIPTION:
URL:https://towerlane.org/event/iphone-class-with-cheryl/
LOCATION:Sanctuary
END:VEVENT
BEGIN:VEVENT
DTSTART;TZID=America/New_York:20260226T190000
DTEND;TZID=America/New_York:20260226T190000
DTSTAMP:20260421T011705
CREATED:20260131T170940Z
LAST-MODIFIED:20260131T170940Z
UID:19516-1772132400-1772132400@towerlane.org
SUMMARY:Welcome Back Singer Rich DiPalma
DESCRIPTION:Part of our Social Pathway.\nConcerts\, themed game nights\, trivia and more scheduled throughout the month.
URL:https://towerlane.org/event/welcome-back-singer-rich-dipalma/
LOCATION:Sanctuary
END:VEVENT
BEGIN:VEVENT
DTSTART;TZID=America/New_York:20260226T130000
DTEND;TZID=America/New_York:20260226T130000
DTSTAMP:20260421T011705
CREATED:20260131T170727Z
LAST-MODIFIED:20260131T170727Z
UID:19512-1772110800-1772110800@towerlane.org
SUMMARY:Chapel Haven Meet & Greet
DESCRIPTION:
URL:https://towerlane.org/event/chapel-haven-meet-greet/
LOCATION:Sanctuary
END:VEVENT
BEGIN:VEVENT
DTSTART;TZID=America/New_York:20260226T110000
DTEND;TZID=America/New_York:20260226T110000
DTSTAMP:20260421T011705
CREATED:20260131T170635Z
LAST-MODIFIED:20260131T170635Z
UID:19510-1772103600-1772103600@towerlane.org
SUMMARY:Town Hall Meeting
DESCRIPTION:
URL:https://towerlane.org/event/town-hall-meeting-7/
LOCATION:Sanctuary
END:VEVENT
BEGIN:VEVENT
DTSTART;TZID=America/New_York:20260225T140000
DTEND;TZID=America/New_York:20260225T140000
DTSTAMP:20260421T011705
CREATED:20260129T210313Z
LAST-MODIFIED:20260129T210313Z
UID:19370-1772028000-1772028000@towerlane.org
SUMMARY:Healthy Minds & Living Support Group
DESCRIPTION:Part of our Emotional Pathway. \nThis group intends to empower older adults and help them evolve through learning new skills\, coping strategies\, and lifestyle tips. A different topic is discussed each week. Led by MSW-LMSW Grace Ford.
URL:https://towerlane.org/event/healthy-minds-living-support-group/2026-02-25/
LOCATION:Sanctuary
END:VEVENT
BEGIN:VEVENT
DTSTART;TZID=America/New_York:20260225T130000
DTEND;TZID=America/New_York:20260225T130000
DTSTAMP:20260421T011705
CREATED:20260129T210006Z
LAST-MODIFIED:20260129T210006Z
UID:19366-1772024400-1772024400@towerlane.org
SUMMARY:Healthy & Fit
DESCRIPTION:Part of our Physical Pathway.\nA full body exercise session that can be scaled to most ability levels. These workouts aim to increase strength and balance\, improve flexibility and overall fitness levels.
URL:https://towerlane.org/event/healthy-fit-72/2026-02-25/
LOCATION:Sanctuary
END:VEVENT
BEGIN:VEVENT
DTSTART;TZID=America/New_York:20260225T104500
DTEND;TZID=America/New_York:20260225T104500
DTSTAMP:20260421T011705
CREATED:20260129T205832Z
LAST-MODIFIED:20260129T205832Z
UID:19361-1772016300-1772016300@towerlane.org
SUMMARY:Chorus Rehearsal
DESCRIPTION:Part of our Psychological Pathway.\nChorus leader Kevin Mack leads weekly rehearsals culminating in themed performances throughout the year. Runs seasonally.
URL:https://towerlane.org/event/chorus-rehearsal-29/2026-02-25/
LOCATION:Sanctuary
END:VEVENT
BEGIN:VEVENT
DTSTART;TZID=America/New_York:20260224T113000
DTEND;TZID=America/New_York:20260224T113000
DTSTAMP:20260421T011705
CREATED:20260129T205053Z
LAST-MODIFIED:20260129T205053Z
UID:19346-1771932600-1771932600@towerlane.org
SUMMARY:30-Minute Exercise
DESCRIPTION:Part of our Physical Pathway.\n\n A shortened\, modified version of our Healthy & Fit. These sessions are typically performed half seated\, half standing\, and can be modified to most ability levels. Practical strategies for minimizing fall risk are discussed.
URL:https://towerlane.org/event/30-minute-exercise-34/2026-02-24/
LOCATION:Sanctuary
END:VEVENT
BEGIN:VEVENT
DTSTART;TZID=America/New_York:20260223T190000
DTEND;TZID=America/New_York:20260223T190000
DTSTAMP:20260421T011705
CREATED:20260131T165851Z
LAST-MODIFIED:20260131T165851Z
UID:19503-1771873200-1771873200@towerlane.org
SUMMARY:Game Night with Charles Rosenay
DESCRIPTION:Part of our Social Pathway.\nConcerts\, themed game nights\, trivia and more scheduled throughout the month.
URL:https://towerlane.org/event/game-night-with-charles-rosenay-27/
LOCATION:Sanctuary
END:VEVENT
BEGIN:VEVENT
DTSTART;TZID=America/New_York:20260223T140000
DTEND;TZID=America/New_York:20260223T140000
DTSTAMP:20260421T011705
CREATED:20260129T203453Z
LAST-MODIFIED:20260129T203453Z
UID:19327-1771855200-1771855200@towerlane.org
SUMMARY:Bingo
DESCRIPTION:Part of our Social Pathway.\nThe classic game.
URL:https://towerlane.org/event/bingo-145/2026-02-23/
LOCATION:Sanctuary
END:VEVENT
BEGIN:VEVENT
DTSTART;TZID=America/New_York:20260222T190000
DTEND;TZID=America/New_York:20260222T190000
DTSTAMP:20260421T011705
CREATED:20260129T195538Z
LAST-MODIFIED:20260129T195538Z
UID:19300-1771786800-1771786800@towerlane.org
SUMMARY:Movie Night
DESCRIPTION:
URL:https://towerlane.org/event/movie-night-93/2026-02-22/
LOCATION:Sanctuary
END:VEVENT
BEGIN:VEVENT
DTSTART;TZID=America/New_York:20260222T153000
DTEND;TZID=America/New_York:20260222T153000
DTSTAMP:20260421T011705
CREATED:20260131T161911Z
LAST-MODIFIED:20260131T161911Z
UID:19454-1771774200-1771774200@towerlane.org
SUMMARY:Nourish Program
DESCRIPTION:Part of our Intellectual Pathway.\nYale student-led 8 week wellness/education program. Promotes longevity\, healthy aging\, social connectedness etc. (Seasonal)
URL:https://towerlane.org/event/nourish-program-9/2026-02-22/
LOCATION:Sanctuary
END:VEVENT
BEGIN:VEVENT
DTSTART;TZID=America/New_York:20260222T113000
DTEND;TZID=America/New_York:20260222T113000
DTSTAMP:20260421T011705
CREATED:20260131T161516Z
LAST-MODIFIED:20260131T161516Z
UID:19448-1771759800-1771759800@towerlane.org
SUMMARY:Dance for All
DESCRIPTION:
URL:https://towerlane.org/event/dance-for-all/2026-02-22/
LOCATION:Sanctuary
END:VEVENT
BEGIN:VEVENT
DTSTART;TZID=America/New_York:20260221T190000
DTEND;TZID=America/New_York:20260221T190000
DTSTAMP:20260421T011705
CREATED:20260129T215255Z
LAST-MODIFIED:20260129T215255Z
UID:19438-1771700400-1771700400@towerlane.org
SUMMARY:Movie Night
DESCRIPTION:
URL:https://towerlane.org/event/movie-night-94/2026-02-21/
LOCATION:Sanctuary
END:VEVENT
BEGIN:VEVENT
DTSTART;TZID=America/New_York:20260221T130000
DTEND;TZID=America/New_York:20260221T150000
DTSTAMP:20260421T011705
CREATED:20260131T165517Z
LAST-MODIFIED:20260131T165517Z
UID:19499-1771678800-1771686000@towerlane.org
SUMMARY:Game Day with Yale
DESCRIPTION:Part of our Intellectual/Social Pathway. \nResidents come together to play various games. Offered seasonally based on interest and volunteer availability.
URL:https://towerlane.org/event/game-day-with-yale/
LOCATION:Sanctuary
END:VEVENT
END:VCALENDAR