BEGIN:VCALENDAR
VERSION:2.0
PRODID:-//The Towers - ECPv6.10.3//NONSGML v1.0//EN
CALSCALE:GREGORIAN
METHOD:PUBLISH
X-ORIGINAL-URL:https://towerlane.org
X-WR-CALDESC:Events for The Towers
REFRESH-INTERVAL;VALUE=DURATION:PT1H
X-Robots-Tag:noindex
X-PUBLISHED-TTL:PT1H
BEGIN:VTIMEZONE
TZID:America/New_York
BEGIN:DAYLIGHT
TZOFFSETFROM:-0500
TZOFFSETTO:-0400
TZNAME:EDT
DTSTART:20260308T070000
END:DAYLIGHT
BEGIN:STANDARD
TZOFFSETFROM:-0400
TZOFFSETTO:-0500
TZNAME:EST
DTSTART:20261101T060000
END:STANDARD
END:VTIMEZONE
BEGIN:VEVENT
DTSTART;TZID=America/New_York:20260219T103000
DTEND;TZID=America/New_York:20260219T103000
DTSTAMP:20260421T095401
CREATED:20260129T211002Z
LAST-MODIFIED:20260129T211002Z
UID:19376-1771497000-1771497000@towerlane.org
SUMMARY:30-Minute Exercise
DESCRIPTION:Part of our Physical Pathway.\n\nA shortened\, modified version of our Healthy & Fit. These sessions are typically performed half seated\, half standing\, and can be modified to most ability levels. Practical strategies for minimizing fall risk are discussed.
URL:https://towerlane.org/event/30-minute-exercise-35/2026-02-19/
LOCATION:Sanctuary
END:VEVENT
BEGIN:VEVENT
DTSTART;TZID=America/New_York:20260218T190000
DTEND;TZID=America/New_York:20260218T190000
DTSTAMP:20260421T095401
CREATED:20260131T164621Z
LAST-MODIFIED:20260131T164621Z
UID:19491-1771441200-1771441200@towerlane.org
SUMMARY:Welcome Professor Clifton Graves
DESCRIPTION:
URL:https://towerlane.org/event/welcome-professor-clifton-graves/
LOCATION:Sanctuary
END:VEVENT
BEGIN:VEVENT
DTSTART;TZID=America/New_York:20260218T150000
DTEND;TZID=America/New_York:20260218T150000
DTSTAMP:20260421T095401
CREATED:20260131T164529Z
LAST-MODIFIED:20260131T164529Z
UID:19489-1771426800-1771426800@towerlane.org
SUMMARY:Welcome the Ann Marie Menta Trio
DESCRIPTION:Part of our Social Pathway.\nConcerts\, themed game nights\, trivia and more scheduled throughout the month.
URL:https://towerlane.org/event/welcome-the-ann-marie-menta-trio/
LOCATION:Sanctuary
END:VEVENT
BEGIN:VEVENT
DTSTART;TZID=America/New_York:20260218T134500
DTEND;TZID=America/New_York:20260218T134500
DTSTAMP:20260421T095401
CREATED:20260131T164255Z
LAST-MODIFIED:20260131T164255Z
UID:19487-1771422300-1771422300@towerlane.org
SUMMARY:Healthy Minds & Living Support Group
DESCRIPTION:Part of our Emotional Pathway. \nThis group intends to empower older adults and help them evolve through learning new skills\, coping strategies\, and lifestyle tips. A different topic is discussed each week. Led by MSW-LMSW Grace Ford.
URL:https://towerlane.org/event/healthy-minds-living-support-group-2/
LOCATION:Sanctuary
END:VEVENT
BEGIN:VEVENT
DTSTART;TZID=America/New_York:20260218T130000
DTEND;TZID=America/New_York:20260218T130000
DTSTAMP:20260421T095401
CREATED:20260129T210006Z
LAST-MODIFIED:20260129T210006Z
UID:19365-1771419600-1771419600@towerlane.org
SUMMARY:Healthy & Fit
DESCRIPTION:Part of our Physical Pathway.\nA full body exercise session that can be scaled to most ability levels. These workouts aim to increase strength and balance\, improve flexibility and overall fitness levels.
URL:https://towerlane.org/event/healthy-fit-72/2026-02-18/
LOCATION:Sanctuary
END:VEVENT
BEGIN:VEVENT
DTSTART;TZID=America/New_York:20260218T104500
DTEND;TZID=America/New_York:20260218T104500
DTSTAMP:20260421T095401
CREATED:20260129T205832Z
LAST-MODIFIED:20260129T205832Z
UID:19360-1771411500-1771411500@towerlane.org
SUMMARY:Chorus Rehearsal
DESCRIPTION:Part of our Psychological Pathway.\nChorus leader Kevin Mack leads weekly rehearsals culminating in themed performances throughout the year. Runs seasonally.
URL:https://towerlane.org/event/chorus-rehearsal-29/2026-02-18/
LOCATION:Sanctuary
END:VEVENT
BEGIN:VEVENT
DTSTART;TZID=America/New_York:20260217T190000
DTEND;TZID=America/New_York:20260217T190000
DTSTAMP:20260421T095401
CREATED:20260131T163928Z
LAST-MODIFIED:20260131T163928Z
UID:19481-1771354800-1771354800@towerlane.org
SUMMARY:Music Video Series: "John Coltrane Live in Belgium 1965"
DESCRIPTION:
URL:https://towerlane.org/event/music-video-series-john-coltrane-live-in-belgium-1965/
LOCATION:Sanctuary
END:VEVENT
BEGIN:VEVENT
DTSTART;TZID=America/New_York:20260217T113000
DTEND;TZID=America/New_York:20260217T113000
DTSTAMP:20260421T095401
CREATED:20260129T205053Z
LAST-MODIFIED:20260129T205053Z
UID:19345-1771327800-1771327800@towerlane.org
SUMMARY:30-Minute Exercise
DESCRIPTION:Part of our Physical Pathway.\n\n A shortened\, modified version of our Healthy & Fit. These sessions are typically performed half seated\, half standing\, and can be modified to most ability levels. Practical strategies for minimizing fall risk are discussed.
URL:https://towerlane.org/event/30-minute-exercise-34/2026-02-17/
LOCATION:Sanctuary
END:VEVENT
BEGIN:VEVENT
DTSTART;TZID=America/New_York:20260216T140000
DTEND;TZID=America/New_York:20260216T140000
DTSTAMP:20260421T095401
CREATED:20260129T203453Z
LAST-MODIFIED:20260129T203453Z
UID:19326-1771250400-1771250400@towerlane.org
SUMMARY:Bingo
DESCRIPTION:Part of our Social Pathway.\nThe classic game.
URL:https://towerlane.org/event/bingo-145/2026-02-16/
LOCATION:Sanctuary
END:VEVENT
BEGIN:VEVENT
DTSTART;TZID=America/New_York:20260215T190000
DTEND;TZID=America/New_York:20260215T190000
DTSTAMP:20260421T095401
CREATED:20260129T195538Z
LAST-MODIFIED:20260129T195538Z
UID:19299-1771182000-1771182000@towerlane.org
SUMMARY:Movie Night
DESCRIPTION:
URL:https://towerlane.org/event/movie-night-93/2026-02-15/
LOCATION:Sanctuary
END:VEVENT
BEGIN:VEVENT
DTSTART;TZID=America/New_York:20260215T153000
DTEND;TZID=America/New_York:20260215T153000
DTSTAMP:20260421T095401
CREATED:20260131T161911Z
LAST-MODIFIED:20260131T161911Z
UID:19453-1771169400-1771169400@towerlane.org
SUMMARY:Nourish Program
DESCRIPTION:Part of our Intellectual Pathway.\nYale student-led 8 week wellness/education program. Promotes longevity\, healthy aging\, social connectedness etc. (Seasonal)
URL:https://towerlane.org/event/nourish-program-9/2026-02-15/
LOCATION:Sanctuary
END:VEVENT
BEGIN:VEVENT
DTSTART;TZID=America/New_York:20260215T113000
DTEND;TZID=America/New_York:20260215T113000
DTSTAMP:20260421T095401
CREATED:20260129T195413Z
LAST-MODIFIED:20260129T204836Z
UID:19296-1771155000-1771155000@towerlane.org
SUMMARY:The Joy of Drumming
DESCRIPTION:Part of our Physical Pathway. \nParticipants will be led through a warmup then play along to simple rhythmic patterns with classic songs. The numerous benefits of drumming include increased hand-eye coordination\, focus\, mental clarity\, and motor skill. Led by resident volunteer Ruby Benarroch.
URL:https://towerlane.org/event/19295/2026-02-15/
LOCATION:Sanctuary
END:VEVENT
BEGIN:VEVENT
DTSTART;TZID=America/New_York:20260214T190000
DTEND;TZID=America/New_York:20260214T190000
DTSTAMP:20260421T095401
CREATED:20260129T215255Z
LAST-MODIFIED:20260129T215255Z
UID:19437-1771095600-1771095600@towerlane.org
SUMMARY:Movie Night
DESCRIPTION:
URL:https://towerlane.org/event/movie-night-94/2026-02-14/
LOCATION:Sanctuary
END:VEVENT
BEGIN:VEVENT
DTSTART;TZID=America/New_York:20260214T140000
DTEND;TZID=America/New_York:20260214T140000
DTSTAMP:20260421T095401
CREATED:20260129T215039Z
LAST-MODIFIED:20260129T215039Z
UID:19431-1771077600-1771077600@towerlane.org
SUMMARY:Bingo
DESCRIPTION:Part of our Social Pathway.\nThe classic game.
URL:https://towerlane.org/event/bingo-146/2026-02-14/
LOCATION:Sanctuary
END:VEVENT
BEGIN:VEVENT
DTSTART;TZID=America/New_York:20260214T100000
DTEND;TZID=America/New_York:20260214T100000
DTSTAMP:20260421T095401
CREATED:20260129T214833Z
LAST-MODIFIED:20260129T214833Z
UID:19426-1771063200-1771063200@towerlane.org
SUMMARY:Shabbat
DESCRIPTION:Part of our Spiritual Pathway.\nFriday night and Saturday morning Shabbat services with Ruthie Greenblatt and Sarah Moskowitz.
URL:https://towerlane.org/event/shabbat-88/2026-02-14/
LOCATION:Sanctuary
END:VEVENT
BEGIN:VEVENT
DTSTART;TZID=America/New_York:20260213T183000
DTEND;TZID=America/New_York:20260213T183000
DTSTAMP:20260421T095401
CREATED:20260129T213711Z
LAST-MODIFIED:20260129T213711Z
UID:19421-1771007400-1771007400@towerlane.org
SUMMARY:Shabbat
DESCRIPTION:Part of our Spiritual Pathway.\nFriday night and Saturday morning Shabbat services with Ruthie Greenblatt and Sarah Moskowitz.
URL:https://towerlane.org/event/shabbat-87/2026-02-13/
LOCATION:Sanctuary
END:VEVENT
BEGIN:VEVENT
DTSTART;TZID=America/New_York:20260213T140000
DTEND;TZID=America/New_York:20260213T140000
DTSTAMP:20260421T095401
CREATED:20260131T163401Z
LAST-MODIFIED:20260131T163401Z
UID:19471-1770991200-1770991200@towerlane.org
SUMMARY:Current Events
DESCRIPTION:Part of our Intellectual Pathway.\nResident-led interactive discussion group.
URL:https://towerlane.org/event/current-events-41/2026-02-13/
LOCATION:Sanctuary
END:VEVENT
BEGIN:VEVENT
DTSTART;TZID=America/New_York:20260212T133000
DTEND;TZID=America/New_York:20260212T133000
DTSTAMP:20260421T095401
CREATED:20260131T163208Z
LAST-MODIFIED:20260131T163208Z
UID:19469-1770903000-1770903000@towerlane.org
SUMMARY:Chorus Concert
DESCRIPTION:Part of our Psychological Pathway.\nChorus leader Kevin Mack leads weekly rehearsals culminating in themed performances throughout the year. Runs seasonally.
URL:https://towerlane.org/event/chorus-concert-11/
LOCATION:Sanctuary
END:VEVENT
BEGIN:VEVENT
DTSTART;TZID=America/New_York:20260212T111500
DTEND;TZID=America/New_York:20260212T111500
DTSTAMP:20260421T095401
CREATED:20260129T211216Z
LAST-MODIFIED:20260129T211216Z
UID:19379-1770894900-1770894900@towerlane.org
SUMMARY:NEW: Brain Boosters
DESCRIPTION:Part of our Intellectual Pathway.\nA lively\, game-based cognitive program that keeps the mind active through puzzles and creative challenges. Designed for fun\, flexibility\, and fast-paced brain stimulation.
URL:https://towerlane.org/event/new-brain-boosters/2026-02-12/
LOCATION:Sanctuary
END:VEVENT
BEGIN:VEVENT
DTSTART;TZID=America/New_York:20260212T103000
DTEND;TZID=America/New_York:20260212T103000
DTSTAMP:20260421T095401
CREATED:20260129T211002Z
LAST-MODIFIED:20260129T211002Z
UID:19375-1770892200-1770892200@towerlane.org
SUMMARY:30-Minute Exercise
DESCRIPTION:Part of our Physical Pathway.\n\nA shortened\, modified version of our Healthy & Fit. These sessions are typically performed half seated\, half standing\, and can be modified to most ability levels. Practical strategies for minimizing fall risk are discussed.
URL:https://towerlane.org/event/30-minute-exercise-35/2026-02-12/
LOCATION:Sanctuary
END:VEVENT
BEGIN:VEVENT
DTSTART;TZID=America/New_York:20260211T140000
DTEND;TZID=America/New_York:20260211T140000
DTSTAMP:20260421T095401
CREATED:20260129T210313Z
LAST-MODIFIED:20260129T210313Z
UID:19369-1770818400-1770818400@towerlane.org
SUMMARY:Healthy Minds & Living Support Group
DESCRIPTION:Part of our Emotional Pathway. \nThis group intends to empower older adults and help them evolve through learning new skills\, coping strategies\, and lifestyle tips. A different topic is discussed each week. Led by MSW-LMSW Grace Ford.
URL:https://towerlane.org/event/healthy-minds-living-support-group/2026-02-11/
LOCATION:Sanctuary
END:VEVENT
BEGIN:VEVENT
DTSTART;TZID=America/New_York:20260211T130000
DTEND;TZID=America/New_York:20260211T130000
DTSTAMP:20260421T095401
CREATED:20260129T210006Z
LAST-MODIFIED:20260129T210006Z
UID:19364-1770814800-1770814800@towerlane.org
SUMMARY:Healthy & Fit
DESCRIPTION:Part of our Physical Pathway.\nA full body exercise session that can be scaled to most ability levels. These workouts aim to increase strength and balance\, improve flexibility and overall fitness levels.
URL:https://towerlane.org/event/healthy-fit-72/2026-02-11/
LOCATION:Sanctuary
END:VEVENT
BEGIN:VEVENT
DTSTART;TZID=America/New_York:20260211T104500
DTEND;TZID=America/New_York:20260211T104500
DTSTAMP:20260421T095401
CREATED:20260129T205832Z
LAST-MODIFIED:20260129T205832Z
UID:19359-1770806700-1770806700@towerlane.org
SUMMARY:Chorus Rehearsal
DESCRIPTION:Part of our Psychological Pathway.\nChorus leader Kevin Mack leads weekly rehearsals culminating in themed performances throughout the year. Runs seasonally.
URL:https://towerlane.org/event/chorus-rehearsal-29/2026-02-11/
LOCATION:Sanctuary
END:VEVENT
BEGIN:VEVENT
DTSTART;TZID=America/New_York:20260210T183000
DTEND;TZID=America/New_York:20260210T183000
DTSTAMP:20260421T095401
CREATED:20260131T162831Z
LAST-MODIFIED:20260131T162831Z
UID:19465-1770748200-1770748200@towerlane.org
SUMMARY:Movie and Discussion with Jim Brochin
DESCRIPTION:Part of our Social Pathway.\nFilm studies teacher Jim Brochin screens and discusses films.
URL:https://towerlane.org/event/movie-and-discussion-with-jim-brochin-46/
LOCATION:Sanctuary
END:VEVENT
BEGIN:VEVENT
DTSTART;TZID=America/New_York:20260210T140000
DTEND;TZID=America/New_York:20260210T140000
DTSTAMP:20260421T095401
CREATED:20260131T162455Z
LAST-MODIFIED:20260131T162455Z
UID:19460-1770732000-1770732000@towerlane.org
SUMMARY:Health Talk with Gina and Dean
DESCRIPTION:Part of our Physical/Intellectual Pathway.\nInformation sessions on various health topics. Facilitated both in-house and through partnerships with local health organizations.
URL:https://towerlane.org/event/health-talk-with-gina-and-dean-4/
LOCATION:Sanctuary
END:VEVENT
BEGIN:VEVENT
DTSTART;TZID=America/New_York:20260210T113000
DTEND;TZID=America/New_York:20260210T113000
DTSTAMP:20260421T095401
CREATED:20260129T205053Z
LAST-MODIFIED:20260129T205053Z
UID:19344-1770723000-1770723000@towerlane.org
SUMMARY:30-Minute Exercise
DESCRIPTION:Part of our Physical Pathway.\n\n A shortened\, modified version of our Healthy & Fit. These sessions are typically performed half seated\, half standing\, and can be modified to most ability levels. Practical strategies for minimizing fall risk are discussed.
URL:https://towerlane.org/event/30-minute-exercise-34/2026-02-10/
LOCATION:Sanctuary
END:VEVENT
BEGIN:VEVENT
DTSTART;TZID=America/New_York:20260209T190000
DTEND;TZID=America/New_York:20260209T190000
DTSTAMP:20260421T095401
CREATED:20260131T162255Z
LAST-MODIFIED:20260131T162255Z
UID:19458-1770663600-1770663600@towerlane.org
SUMMARY:Game Night with Charles Rosenay
DESCRIPTION:Part of our Social Pathway.\nConcerts\, themed game nights\, trivia and more scheduled throughout the month.
URL:https://towerlane.org/event/game-night-with-charles-rosenay-26/
LOCATION:Sanctuary
END:VEVENT
BEGIN:VEVENT
DTSTART;TZID=America/New_York:20260209T140000
DTEND;TZID=America/New_York:20260209T140000
DTSTAMP:20260421T095401
CREATED:20260129T203453Z
LAST-MODIFIED:20260129T203453Z
UID:19325-1770645600-1770645600@towerlane.org
SUMMARY:Bingo
DESCRIPTION:Part of our Social Pathway.\nThe classic game.
URL:https://towerlane.org/event/bingo-145/2026-02-09/
LOCATION:Sanctuary
END:VEVENT
BEGIN:VEVENT
DTSTART;TZID=America/New_York:20260208T153000
DTEND;TZID=America/New_York:20260208T153000
DTSTAMP:20260421T095401
CREATED:20260131T161911Z
LAST-MODIFIED:20260131T161911Z
UID:19452-1770564600-1770564600@towerlane.org
SUMMARY:Nourish Program
DESCRIPTION:Part of our Intellectual Pathway.\nYale student-led 8 week wellness/education program. Promotes longevity\, healthy aging\, social connectedness etc. (Seasonal)
URL:https://towerlane.org/event/nourish-program-9/2026-02-08/
LOCATION:Sanctuary
END:VEVENT
BEGIN:VEVENT
DTSTART;TZID=America/New_York:20260208T130000
DTEND;TZID=America/New_York:20260208T130000
DTSTAMP:20260421T095401
CREATED:20260131T161643Z
LAST-MODIFIED:20260131T161643Z
UID:19450-1770555600-1770555600@towerlane.org
SUMMARY:Chair Volleyball with Gabby
DESCRIPTION:
URL:https://towerlane.org/event/chair-volleyball-with-gabby/
LOCATION:Sanctuary
END:VEVENT
END:VCALENDAR