BEGIN:VCALENDAR
VERSION:2.0
PRODID:-//The Towers - ECPv6.10.3//NONSGML v1.0//EN
CALSCALE:GREGORIAN
METHOD:PUBLISH
X-WR-CALNAME:The Towers
X-ORIGINAL-URL:https://towerlane.org
X-WR-CALDESC:Events for The Towers
REFRESH-INTERVAL;VALUE=DURATION:PT1H
X-Robots-Tag:noindex
X-PUBLISHED-TTL:PT1H
BEGIN:VTIMEZONE
TZID:America/New_York
BEGIN:DAYLIGHT
TZOFFSETFROM:-0500
TZOFFSETTO:-0400
TZNAME:EDT
DTSTART:20260308T070000
END:DAYLIGHT
BEGIN:STANDARD
TZOFFSETFROM:-0400
TZOFFSETTO:-0500
TZNAME:EST
DTSTART:20261101T060000
END:STANDARD
END:VTIMEZONE
BEGIN:VEVENT
DTSTART;TZID=America/New_York:20260206T140000
DTEND;TZID=America/New_York:20260206T140000
DTSTAMP:20260421T143101
CREATED:20260129T212952Z
LAST-MODIFIED:20260129T212952Z
UID:19409-1770386400-1770386400@towerlane.org
SUMMARY:Jeopardy! Residents vs. Staff
DESCRIPTION:Part of our Intellectual/Social Pathway. \nResidents come together to play various games. Offered seasonally based on interest and volunteer availability
URL:https://towerlane.org/event/jeopardy-residents-vs-staff/
LOCATION:Sanctuary
END:VEVENT
BEGIN:VEVENT
DTSTART;TZID=America/New_York:20260205T130000
DTEND;TZID=America/New_York:20260205T130000
DTSTAMP:20260421T143101
CREATED:20260129T211413Z
LAST-MODIFIED:20260129T211413Z
UID:19382-1770296400-1770296400@towerlane.org
SUMMARY:Catholic Service
DESCRIPTION:Part of our Spiritual Pathway.\nTwice per month Catholic service with Father Ryan Lerner.
URL:https://towerlane.org/event/catholic-service/
LOCATION:Sanctuary
END:VEVENT
BEGIN:VEVENT
DTSTART;TZID=America/New_York:20260205T111500
DTEND;TZID=America/New_York:20260205T111500
DTSTAMP:20260421T143101
CREATED:20260129T211216Z
LAST-MODIFIED:20260129T211216Z
UID:19378-1770290100-1770290100@towerlane.org
SUMMARY:NEW: Brain Boosters
DESCRIPTION:Part of our Intellectual Pathway.\nA lively\, game-based cognitive program that keeps the mind active through puzzles and creative challenges. Designed for fun\, flexibility\, and fast-paced brain stimulation.
URL:https://towerlane.org/event/new-brain-boosters/2026-02-05/
LOCATION:Sanctuary
END:VEVENT
BEGIN:VEVENT
DTSTART;TZID=America/New_York:20260205T103000
DTEND;TZID=America/New_York:20260205T103000
DTSTAMP:20260421T143101
CREATED:20260129T211002Z
LAST-MODIFIED:20260129T211002Z
UID:19374-1770287400-1770287400@towerlane.org
SUMMARY:30-Minute Exercise
DESCRIPTION:Part of our Physical Pathway.\n\nA shortened\, modified version of our Healthy & Fit. These sessions are typically performed half seated\, half standing\, and can be modified to most ability levels. Practical strategies for minimizing fall risk are discussed.
URL:https://towerlane.org/event/30-minute-exercise-35/2026-02-05/
LOCATION:Sanctuary
END:VEVENT
BEGIN:VEVENT
DTSTART;TZID=America/New_York:20260204T190000
DTEND;TZID=America/New_York:20260204T190000
DTSTAMP:20260421T143101
CREATED:20260129T210437Z
LAST-MODIFIED:20260129T210437Z
UID:19372-1770231600-1770231600@towerlane.org
SUMMARY:NEW: Applied Civics Series with Victor and Steve
DESCRIPTION:
URL:https://towerlane.org/event/new-applied-civics-series-with-victor-and-steve/
LOCATION:Sanctuary
END:VEVENT
BEGIN:VEVENT
DTSTART;TZID=America/New_York:20260204T140000
DTEND;TZID=America/New_York:20260204T140000
DTSTAMP:20260421T143101
CREATED:20260129T210313Z
LAST-MODIFIED:20260129T210313Z
UID:19368-1770213600-1770213600@towerlane.org
SUMMARY:Healthy Minds & Living Support Group
DESCRIPTION:Part of our Emotional Pathway. \nThis group intends to empower older adults and help them evolve through learning new skills\, coping strategies\, and lifestyle tips. A different topic is discussed each week. Led by MSW-LMSW Grace Ford.
URL:https://towerlane.org/event/healthy-minds-living-support-group/2026-02-04/
LOCATION:Sanctuary
END:VEVENT
BEGIN:VEVENT
DTSTART;TZID=America/New_York:20260204T130000
DTEND;TZID=America/New_York:20260204T130000
DTSTAMP:20260421T143101
CREATED:20260129T210006Z
LAST-MODIFIED:20260129T210006Z
UID:19363-1770210000-1770210000@towerlane.org
SUMMARY:Healthy & Fit
DESCRIPTION:Part of our Physical Pathway.\nA full body exercise session that can be scaled to most ability levels. These workouts aim to increase strength and balance\, improve flexibility and overall fitness levels.
URL:https://towerlane.org/event/healthy-fit-72/2026-02-04/
LOCATION:Sanctuary
END:VEVENT
BEGIN:VEVENT
DTSTART;TZID=America/New_York:20260204T104500
DTEND;TZID=America/New_York:20260204T104500
DTSTAMP:20260421T143101
CREATED:20260129T205832Z
LAST-MODIFIED:20260129T205832Z
UID:19358-1770201900-1770201900@towerlane.org
SUMMARY:Chorus Rehearsal
DESCRIPTION:Part of our Psychological Pathway.\nChorus leader Kevin Mack leads weekly rehearsals culminating in themed performances throughout the year. Runs seasonally.
URL:https://towerlane.org/event/chorus-rehearsal-29/2026-02-04/
LOCATION:Sanctuary
END:VEVENT
BEGIN:VEVENT
DTSTART;TZID=America/New_York:20260203T190000
DTEND;TZID=America/New_York:20260203T190000
DTSTAMP:20260421T143101
CREATED:20260129T205521Z
LAST-MODIFIED:20260129T205632Z
UID:19355-1770145200-1770145200@towerlane.org
SUMMARY:Documentary: "1964: The Fight for a Right to Vote"
DESCRIPTION:
URL:https://towerlane.org/event/documentary-1964-the-fight-for-the-right-to-vote/
LOCATION:Sanctuary
END:VEVENT
BEGIN:VEVENT
DTSTART;TZID=America/New_York:20260203T113000
DTEND;TZID=America/New_York:20260203T113000
DTSTAMP:20260421T143101
CREATED:20260129T205053Z
LAST-MODIFIED:20260129T205053Z
UID:19343-1770118200-1770118200@towerlane.org
SUMMARY:30-Minute Exercise
DESCRIPTION:Part of our Physical Pathway.\n\n A shortened\, modified version of our Healthy & Fit. These sessions are typically performed half seated\, half standing\, and can be modified to most ability levels. Practical strategies for minimizing fall risk are discussed.
URL:https://towerlane.org/event/30-minute-exercise-34/2026-02-03/
LOCATION:Sanctuary
END:VEVENT
BEGIN:VEVENT
DTSTART;TZID=America/New_York:20260202T190000
DTEND;TZID=America/New_York:20260202T190000
DTSTAMP:20260421T143101
CREATED:20260129T203757Z
LAST-MODIFIED:20260129T203757Z
UID:19329-1770058800-1770058800@towerlane.org
SUMMARY:Welcome Dr. David Chevan & The Afro-Semitic Experience
DESCRIPTION:Part of our Social Pathway.\nConcerts\, themed game nights\, trivia and more scheduled throughout the month.
URL:https://towerlane.org/event/welcome-dr-david-chevan-the-afro-semitic-experience/
LOCATION:Sanctuary
END:VEVENT
BEGIN:VEVENT
DTSTART;TZID=America/New_York:20260202T140000
DTEND;TZID=America/New_York:20260202T140000
DTSTAMP:20260421T143101
CREATED:20260129T203453Z
LAST-MODIFIED:20260129T203453Z
UID:19324-1770040800-1770040800@towerlane.org
SUMMARY:Bingo
DESCRIPTION:Part of our Social Pathway.\nThe classic game.
URL:https://towerlane.org/event/bingo-145/2026-02-02/
LOCATION:Sanctuary
END:VEVENT
BEGIN:VEVENT
DTSTART;TZID=America/New_York:20260201T190000
DTEND;TZID=America/New_York:20260201T190000
DTSTAMP:20260421T143101
CREATED:20260129T195538Z
LAST-MODIFIED:20260129T195538Z
UID:19298-1769972400-1769972400@towerlane.org
SUMMARY:Movie Night
DESCRIPTION:
URL:https://towerlane.org/event/movie-night-93/2026-02-01/
LOCATION:Sanctuary
END:VEVENT
BEGIN:VEVENT
DTSTART;TZID=America/New_York:20260201T113000
DTEND;TZID=America/New_York:20260201T113000
DTSTAMP:20260421T143101
CREATED:20260129T195413Z
LAST-MODIFIED:20260129T204836Z
UID:19295-1769945400-1769945400@towerlane.org
SUMMARY:The Joy of Drumming
DESCRIPTION:Part of our Physical Pathway. \nParticipants will be led through a warmup then play along to simple rhythmic patterns with classic songs. The numerous benefits of drumming include increased hand-eye coordination\, focus\, mental clarity\, and motor skill. Led by resident volunteer Ruby Benarroch.
URL:https://towerlane.org/event/19295/2026-02-01/
LOCATION:Sanctuary
END:VEVENT
BEGIN:VEVENT
DTSTART;TZID=America/New_York:20260131T190000
DTEND;TZID=America/New_York:20260131T190000
DTSTAMP:20260421T143101
CREATED:20251229T200029Z
LAST-MODIFIED:20251229T200029Z
UID:18874-1769886000-1769886000@towerlane.org
SUMMARY:Movie Night
DESCRIPTION:
URL:https://towerlane.org/event/movie-night-91/2026-01-31/
LOCATION:Sanctuary
END:VEVENT
BEGIN:VEVENT
DTSTART;TZID=America/New_York:20260131T140000
DTEND;TZID=America/New_York:20260131T140000
DTSTAMP:20260421T143101
CREATED:20251229T195913Z
LAST-MODIFIED:20251229T195913Z
UID:18868-1769868000-1769868000@towerlane.org
SUMMARY:Bingo
DESCRIPTION:Part of our Social Pathway.\nThe classic game.
URL:https://towerlane.org/event/bingo-143/2026-01-31/
LOCATION:Sanctuary
END:VEVENT
BEGIN:VEVENT
DTSTART;TZID=America/New_York:20260131T100000
DTEND;TZID=America/New_York:20260131T220000
DTSTAMP:20260421T143101
CREATED:20251229T195731Z
LAST-MODIFIED:20251229T195731Z
UID:18862-1769853600-1769896800@towerlane.org
SUMMARY:Shabbat
DESCRIPTION:Part of our Spiritual Pathway.\nFriday night and Saturday morning Shabbat services with Ruthie Greenblatt and Sarah Moskowitz.
URL:https://towerlane.org/event/shabbat-86/2026-01-31/
LOCATION:Sanctuary
END:VEVENT
BEGIN:VEVENT
DTSTART;TZID=America/New_York:20260130T183000
DTEND;TZID=America/New_York:20260130T183000
DTSTAMP:20260421T143101
CREATED:20251229T195516Z
LAST-MODIFIED:20251229T195516Z
UID:18856-1769797800-1769797800@towerlane.org
SUMMARY:Shabbat
DESCRIPTION:Part of our Spiritual Pathway.\nFriday night and Saturday morning Shabbat services with Ruthie Greenblatt and Sarah Moskowitz.
URL:https://towerlane.org/event/shabbat-85/2026-01-30/
LOCATION:Sanctuary
END:VEVENT
BEGIN:VEVENT
DTSTART;TZID=America/New_York:20260130T140000
DTEND;TZID=America/New_York:20260130T140000
DTSTAMP:20260421T143101
CREATED:20251229T195340Z
LAST-MODIFIED:20251229T195340Z
UID:18850-1769781600-1769781600@towerlane.org
SUMMARY:Current Events
DESCRIPTION:Part of our Intellectual Pathway.\nResident-led interactive discussion group.
URL:https://towerlane.org/event/current-events-40/2026-01-30/
LOCATION:Sanctuary
END:VEVENT
BEGIN:VEVENT
DTSTART;TZID=America/New_York:20260130T100000
DTEND;TZID=America/New_York:20260130T100000
DTSTAMP:20260421T143101
CREATED:20251229T220316Z
LAST-MODIFIED:20251229T220316Z
UID:19020-1769767200-1769767200@towerlane.org
SUMMARY:Interfaith Bible Study
DESCRIPTION:Part of our Spiritual Pathway.\n\nDiscuss selected passages from the Old and New Testaments.
URL:https://towerlane.org/event/interfaith-bible-study-14/
LOCATION:Sanctuary
END:VEVENT
BEGIN:VEVENT
DTSTART;TZID=America/New_York:20260129T110000
DTEND;TZID=America/New_York:20260129T110000
DTSTAMP:20260421T143101
CREATED:20251229T215857Z
LAST-MODIFIED:20251229T215857Z
UID:19014-1769684400-1769684400@towerlane.org
SUMMARY:Town Hall Meeting
DESCRIPTION:
URL:https://towerlane.org/event/town-hall-meeting-6/
LOCATION:Sanctuary
END:VEVENT
BEGIN:VEVENT
DTSTART;TZID=America/New_York:20260129T103000
DTEND;TZID=America/New_York:20260129T103000
DTSTAMP:20260421T143101
CREATED:20251229T211238Z
LAST-MODIFIED:20251229T211238Z
UID:18956-1769682600-1769682600@towerlane.org
SUMMARY:30-Minute Exercise
DESCRIPTION:Part of our Physical Pathway.\n\nA shortened\, modified version of our Healthy & Fit. These sessions are typically performed half seated\, half standing\, and can be modified to most ability levels. Practical strategies for minimizing fall risk are discussed.
URL:https://towerlane.org/event/30-minute-exercise-33/2026-01-29/
LOCATION:Sanctuary
END:VEVENT
BEGIN:VEVENT
DTSTART;TZID=America/New_York:20260128T140000
DTEND;TZID=America/New_York:20260128T140000
DTSTAMP:20260421T143101
CREATED:20251229T210819Z
LAST-MODIFIED:20251229T210819Z
UID:18952-1769608800-1769608800@towerlane.org
SUMMARY:NEW: Healthy Minds & Living Support Group
DESCRIPTION:Part of our Emotional Pathway. \nThis group intends to empower older adults and help them evolve through learning new skills\, coping strategies\, and lifestyle tips. A different topic is discussed each week. Led by MSW-LMSW Grace Ford.
URL:https://towerlane.org/event/new-healthy-minds-living-support-group/2026-01-28/
LOCATION:Sanctuary
END:VEVENT
BEGIN:VEVENT
DTSTART;TZID=America/New_York:20260128T130000
DTEND;TZID=America/New_York:20260128T130000
DTSTAMP:20260421T143101
CREATED:20251229T210410Z
LAST-MODIFIED:20251229T210410Z
UID:18947-1769605200-1769605200@towerlane.org
SUMMARY:Healthy & Fit
DESCRIPTION:Part of our Physical Pathway.\nA full body exercise session that can be scaled to most ability levels. These workouts aim to increase strength and balance\, improve flexibility and overall fitness levels.
URL:https://towerlane.org/event/healthy-fit-71/2026-01-28/
LOCATION:Sanctuary
END:VEVENT
BEGIN:VEVENT
DTSTART;TZID=America/New_York:20260128T104500
DTEND;TZID=America/New_York:20260128T104500
DTSTAMP:20260421T143101
CREATED:20251229T210233Z
LAST-MODIFIED:20251229T210233Z
UID:18942-1769597100-1769597100@towerlane.org
SUMMARY:Chorus Rehearsal
DESCRIPTION:Part of our Psychological Pathway.\nChorus leader Kevin Mack leads weekly rehearsals culminating in themed performances throughout the year. Runs seasonally.
URL:https://towerlane.org/event/chorus-rehearsal-28/2026-01-28/
LOCATION:Sanctuary
END:VEVENT
BEGIN:VEVENT
DTSTART;TZID=America/New_York:20260127T113000
DTEND;TZID=America/New_York:20260127T113000
DTSTAMP:20260421T143101
CREATED:20251229T202800Z
LAST-MODIFIED:20251229T202800Z
UID:18926-1769513400-1769513400@towerlane.org
SUMMARY:30-Minute Exercise
DESCRIPTION:Part of our Physical Pathway.\n\n A shortened\, modified version of our Healthy & Fit. These sessions are typically performed half seated\, half standing\, and can be modified to most ability levels. Practical strategies for minimizing fall risk are discussed.
URL:https://towerlane.org/event/30-minute-exercise-32/2026-01-27/
LOCATION:Sanctuary
END:VEVENT
BEGIN:VEVENT
DTSTART;TZID=America/New_York:20260126T190000
DTEND;TZID=America/New_York:20260126T190000
DTSTAMP:20260421T143101
CREATED:20251229T215628Z
LAST-MODIFIED:20251229T215628Z
UID:19010-1769454000-1769454000@towerlane.org
SUMMARY:Welcome Author Tony Renzoni
DESCRIPTION:
URL:https://towerlane.org/event/welcome-author-tony-renzoni/
LOCATION:Sanctuary
END:VEVENT
BEGIN:VEVENT
DTSTART;TZID=America/New_York:20260126T140000
DTEND;TZID=America/New_York:20260126T140000
DTSTAMP:20260421T143101
CREATED:20251229T201555Z
LAST-MODIFIED:20251229T201555Z
UID:18907-1769436000-1769436000@towerlane.org
SUMMARY:Bingo
DESCRIPTION:Part of our Social Pathway.\nThe classic game.
URL:https://towerlane.org/event/bingo-144/2026-01-26/
LOCATION:Sanctuary
END:VEVENT
BEGIN:VEVENT
DTSTART;TZID=America/New_York:20260125T190000
DTEND;TZID=America/New_York:20260125T190000
DTSTAMP:20260421T143101
CREATED:20251229T200529Z
LAST-MODIFIED:20251229T200529Z
UID:18882-1769367600-1769367600@towerlane.org
SUMMARY:Movie Night
DESCRIPTION:
URL:https://towerlane.org/event/movie-night-92/2026-01-25/
LOCATION:Sanctuary
END:VEVENT
BEGIN:VEVENT
DTSTART;TZID=America/New_York:20260125T123000
DTEND;TZID=America/New_York:20260125T123000
DTSTAMP:20260421T143101
CREATED:20251229T213655Z
LAST-MODIFIED:20251229T213655Z
UID:18981-1769344200-1769344200@towerlane.org
SUMMARY:NEW: Dance for All
DESCRIPTION:
URL:https://towerlane.org/event/new-dance-for-all/2026-01-25/
LOCATION:Sanctuary
END:VEVENT
END:VCALENDAR