BEGIN:VCALENDAR
VERSION:2.0
PRODID:-//The Towers - ECPv6.10.3//NONSGML v1.0//EN
CALSCALE:GREGORIAN
METHOD:PUBLISH
X-ORIGINAL-URL:https://towerlane.org
X-WR-CALDESC:Events for The Towers
REFRESH-INTERVAL;VALUE=DURATION:PT1H
X-Robots-Tag:noindex
X-PUBLISHED-TTL:PT1H
BEGIN:VTIMEZONE
TZID:America/New_York
BEGIN:DAYLIGHT
TZOFFSETFROM:-0500
TZOFFSETTO:-0400
TZNAME:EDT
DTSTART:20260308T070000
END:DAYLIGHT
BEGIN:STANDARD
TZOFFSETFROM:-0400
TZOFFSETTO:-0500
TZNAME:EST
DTSTART:20261101T060000
END:STANDARD
END:VTIMEZONE
BEGIN:VEVENT
DTSTART;TZID=America/New_York:20260416T130000
DTEND;TZID=America/New_York:20260416T130000
DTSTAMP:20260420T112454
CREATED:20260330T215453Z
LAST-MODIFIED:20260330T215453Z
UID:20390-1776344400-1776344400@towerlane.org
SUMMARY:Catholic Mass
DESCRIPTION:Part of our Spiritual Pathway.\nTwice per month Catholic service with Father Ryan Lerner.
URL:https://towerlane.org/event/catholic-mass-81/
LOCATION:Sanctuary
END:VEVENT
BEGIN:VEVENT
DTSTART;TZID=America/New_York:20260416T111500
DTEND;TZID=America/New_York:20260416T111500
DTSTAMP:20260420T112454
CREATED:20260330T215327Z
LAST-MODIFIED:20260330T215327Z
UID:20388-1776338100-1776338100@towerlane.org
SUMMARY:Brain Boosters
DESCRIPTION:Part of our Intellectual Pathway.\nA lively\, game-based cognitive program that keeps the mind active through puzzles and creative challenges. Designed for fun\, flexibility\, and fast-paced brain stimulation.
URL:https://towerlane.org/event/brain-boosters-7/
LOCATION:Sanctuary
END:VEVENT
BEGIN:VEVENT
DTSTART;TZID=America/New_York:20260416T103000
DTEND;TZID=America/New_York:20260416T103000
DTSTAMP:20260420T112454
CREATED:20260330T215050Z
LAST-MODIFIED:20260330T215050Z
UID:20377-1776335400-1776335400@towerlane.org
SUMMARY:30-Minute Exercise
DESCRIPTION:Part of our Physical Pathway.\n\nA shortened\, modified version of our Healthy & Fit. These sessions are typically performed half seated\, half standing\, and can be modified to most ability levels. Practical strategies for minimizing fall risk are discussed.
URL:https://towerlane.org/event/30-minute-exercise-41/2026-04-16/
LOCATION:Sanctuary
END:VEVENT
BEGIN:VEVENT
DTSTART;TZID=America/New_York:20260415T140000
DTEND;TZID=America/New_York:20260415T140000
DTSTAMP:20260420T112454
CREATED:20260330T194502Z
LAST-MODIFIED:20260330T194502Z
UID:20200-1776261600-1776261600@towerlane.org
SUMMARY:Healthy Minds & Living Support Group
DESCRIPTION:Part of our Emotional Pathway.\nThis group intends to empower older adults and help them evolve through learning new skills\, coping strategies\, and lifestyle tips. A different topic is discussed each week. Led by MSW-LMSW Grace Ford.
URL:https://towerlane.org/event/healthy-minds-living-support-group-5/2026-04-15/
LOCATION:Sanctuary
END:VEVENT
BEGIN:VEVENT
DTSTART;TZID=America/New_York:20260415T130000
DTEND;TZID=America/New_York:20260415T130000
DTSTAMP:20260420T112454
CREATED:20260330T194232Z
LAST-MODIFIED:20260330T194232Z
UID:20195-1776258000-1776258000@towerlane.org
SUMMARY:Healthy & Fit
DESCRIPTION:Part of our Physical Pathway.\nA full body exercise session that can be scaled to most ability levels. These workouts aim to increase strength and balance\, improve flexibility and overall fitness levels.
URL:https://towerlane.org/event/healthy-fit-75/2026-04-15/
LOCATION:Sanctuary
END:VEVENT
BEGIN:VEVENT
DTSTART;TZID=America/New_York:20260415T104500
DTEND;TZID=America/New_York:20260415T104500
DTSTAMP:20260420T112454
CREATED:20260330T194040Z
LAST-MODIFIED:20260330T194040Z
UID:20188-1776249900-1776249900@towerlane.org
SUMMARY:Chorus Rehearsal
DESCRIPTION:Part of our Psychological Pathway. \nChorus leader Kevin Mack leads weekly rehearsals culminating in themed performances throughout the year. Runs seasonally.
URL:https://towerlane.org/event/chorus-rehearsal-32/2026-04-15/
LOCATION:Sanctuary
END:VEVENT
BEGIN:VEVENT
DTSTART;TZID=America/New_York:20260414T183000
DTEND;TZID=America/New_York:20260414T183000
DTSTAMP:20260420T112454
CREATED:20260330T214700Z
LAST-MODIFIED:20260330T214700Z
UID:20368-1776191400-1776191400@towerlane.org
SUMMARY:Movie and Discussion with Jim Brochin
DESCRIPTION:
URL:https://towerlane.org/event/movie-and-discussion-with-jim-brochin-48/
LOCATION:Sanctuary
END:VEVENT
BEGIN:VEVENT
DTSTART;TZID=America/New_York:20260414T140000
DTEND;TZID=America/New_York:20260414T140000
DTSTAMP:20260420T112454
CREATED:20260330T214319Z
LAST-MODIFIED:20260330T214319Z
UID:20363-1776175200-1776175200@towerlane.org
SUMMARY:Health Talk with Gina and Dean
DESCRIPTION:
URL:https://towerlane.org/event/health-talk-with-gina-and-dean-6/
LOCATION:Sanctuary
END:VEVENT
BEGIN:VEVENT
DTSTART;TZID=America/New_York:20260414T113000
DTEND;TZID=America/New_York:20260414T113000
DTSTAMP:20260420T112454
CREATED:20260330T210524Z
LAST-MODIFIED:20260330T210524Z
UID:20303-1776166200-1776166200@towerlane.org
SUMMARY:30-Minute Exercise
DESCRIPTION:Part of our Physical Pathway.\n\nA shortened\, modified version of our Healthy & Fit. These sessions are typically performed half seated\, half standing\, and can be modified to most ability levels. Practical strategies for minimizing fall risk are discussed.
URL:https://towerlane.org/event/30-minute-exercise-39/2026-04-14/
LOCATION:Sanctuary
END:VEVENT
BEGIN:VEVENT
DTSTART;TZID=America/New_York:20260413T140000
DTEND;TZID=America/New_York:20260413T140000
DTSTAMP:20260420T112454
CREATED:20260330T205954Z
LAST-MODIFIED:20260330T205954Z
UID:20290-1776088800-1776088800@towerlane.org
SUMMARY:Bingo
DESCRIPTION:Part of our Social Pathway.\nThe classic game.
URL:https://towerlane.org/event/bingo-151/2026-04-13/
LOCATION:Sanctuary
END:VEVENT
BEGIN:VEVENT
DTSTART;TZID=America/New_York:20260412T190000
DTEND;TZID=America/New_York:20260412T190000
DTSTAMP:20260420T112454
CREATED:20260330T204726Z
LAST-MODIFIED:20260330T204726Z
UID:20265-1776020400-1776020400@towerlane.org
SUMMARY:Movie Night
DESCRIPTION:
URL:https://towerlane.org/event/movie-night-100/2026-04-12/
LOCATION:Sanctuary
END:VEVENT
BEGIN:VEVENT
DTSTART;TZID=America/New_York:20260412T153000
DTEND;TZID=America/New_York:20260412T153000
DTSTAMP:20260420T112454
CREATED:20260330T213656Z
LAST-MODIFIED:20260330T213656Z
UID:20353-1776007800-1776007800@towerlane.org
SUMMARY:Nourish Group
DESCRIPTION:Part of our Intellectual Pathway.\nYale student-led 8 week wellness/education program. Promotes longevity\, healthy aging\, social connectedness etc. (Seasonal).
URL:https://towerlane.org/event/nourish-group/2026-04-12/
LOCATION:Sanctuary
END:VEVENT
BEGIN:VEVENT
DTSTART;TZID=America/New_York:20260412T113000
DTEND;TZID=America/New_York:20260412T233000
DTSTAMP:20260420T112454
CREATED:20260330T213314Z
LAST-MODIFIED:20260330T213314Z
UID:20348-1775993400-1776036600@towerlane.org
SUMMARY:Dance for All
DESCRIPTION:
URL:https://towerlane.org/event/dance-for-all-4/2026-04-12/
LOCATION:Sanctuary
END:VEVENT
BEGIN:VEVENT
DTSTART;TZID=America/New_York:20260411T190000
DTEND;TZID=America/New_York:20260411T190000
DTSTAMP:20260420T112454
CREATED:20260330T204004Z
LAST-MODIFIED:20260330T204004Z
UID:20252-1775934000-1775934000@towerlane.org
SUMMARY:Movie Night
DESCRIPTION:
URL:https://towerlane.org/event/movie-night-99/2026-04-11/
LOCATION:Sanctuary
END:VEVENT
BEGIN:VEVENT
DTSTART;TZID=America/New_York:20260411T140000
DTEND;TZID=America/New_York:20260411T140000
DTSTAMP:20260420T112454
CREATED:20260330T200202Z
LAST-MODIFIED:20260330T200202Z
UID:20243-1775916000-1775916000@towerlane.org
SUMMARY:Bingo
DESCRIPTION:Part of our Social Pathway.\nThe classic game.
URL:https://towerlane.org/event/bingo-150/2026-04-11/
LOCATION:Sanctuary
END:VEVENT
BEGIN:VEVENT
DTSTART;TZID=America/New_York:20260411T100000
DTEND;TZID=America/New_York:20260411T100000
DTSTAMP:20260420T112454
CREATED:20260330T200023Z
LAST-MODIFIED:20260330T200023Z
UID:20238-1775901600-1775901600@towerlane.org
SUMMARY:Shabbat
DESCRIPTION:Part of our Spiritual Pathway.\nFriday night and Saturday morning Shabbat services with Ruthie Greenblatt and Sarah Moskowitz.
URL:https://towerlane.org/event/shabbat-92/2026-04-11/
LOCATION:Sanctuary
END:VEVENT
BEGIN:VEVENT
DTSTART;TZID=America/New_York:20260410T183000
DTEND;TZID=America/New_York:20260410T183000
DTSTAMP:20260420T112454
CREATED:20260330T195836Z
LAST-MODIFIED:20260330T195836Z
UID:20233-1775845800-1775845800@towerlane.org
SUMMARY:Shabbat
DESCRIPTION:Part of our Spiritual Pathway.\nFriday night and Saturday morning Shabbat services with Ruthie Greenblatt and Sarah Moskowitz.
URL:https://towerlane.org/event/shabbat-91/2026-04-10/
LOCATION:Sanctuary
END:VEVENT
BEGIN:VEVENT
DTSTART;TZID=America/New_York:20260410T140000
DTEND;TZID=America/New_York:20260410T140000
DTSTAMP:20260420T112454
CREATED:20260330T195522Z
LAST-MODIFIED:20260330T195522Z
UID:20224-1775829600-1775829600@towerlane.org
SUMMARY:Current Events
DESCRIPTION:Part of our Intellectual Pathway.\nResident-led interactive discussion group.
URL:https://towerlane.org/event/current-events-43/2026-04-10/
LOCATION:Sanctuary
END:VEVENT
BEGIN:VEVENT
DTSTART;TZID=America/New_York:20260410T100000
DTEND;TZID=America/New_York:20260410T100000
DTSTAMP:20260420T112454
CREATED:20260330T194940Z
LAST-MODIFIED:20260330T194940Z
UID:20209-1775815200-1775815200@towerlane.org
SUMMARY:Interfaith Bible Study
DESCRIPTION:Part of our Spiritual Pathway.\n\nDiscuss selected passages from the Old and New Testaments.
URL:https://towerlane.org/event/interfaith-bible-study-18/2026-04-10/
LOCATION:Sanctuary
END:VEVENT
BEGIN:VEVENT
DTSTART;TZID=America/New_York:20260409T190000
DTEND;TZID=America/New_York:20260409T190000
DTSTAMP:20260420T112454
CREATED:20260330T212718Z
LAST-MODIFIED:20260330T212718Z
UID:20338-1775761200-1775761200@towerlane.org
SUMMARY:Movie Night
DESCRIPTION:
URL:https://towerlane.org/event/movie-night-101/2026-04-09/
LOCATION:Sanctuary
END:VEVENT
BEGIN:VEVENT
DTSTART;TZID=America/New_York:20260409T130000
DTEND;TZID=America/New_York:20260409T130000
DTSTAMP:20260420T112454
CREATED:20260330T212242Z
LAST-MODIFIED:20260330T212242Z
UID:20332-1775739600-1775739600@towerlane.org
SUMMARY:Photography Program with Michael Tomashefsky
DESCRIPTION:
URL:https://towerlane.org/event/photography-program-with-michael-tomashefsky/
LOCATION:Sanctuary
END:VEVENT
BEGIN:VEVENT
DTSTART;TZID=America/New_York:20260409T093000
DTEND;TZID=America/New_York:20260409T093000
DTSTAMP:20260420T112454
CREATED:20260330T211731Z
LAST-MODIFIED:20260330T211731Z
UID:20326-1775727000-1775727000@towerlane.org
SUMMARY:Yizkor Service
DESCRIPTION:
URL:https://towerlane.org/event/yizkor-service-4/
LOCATION:Sanctuary
END:VEVENT
BEGIN:VEVENT
DTSTART;TZID=America/New_York:20260408T190000
DTEND;TZID=America/New_York:20260408T190000
DTSTAMP:20260420T112454
CREATED:20260330T211619Z
LAST-MODIFIED:20260330T211619Z
UID:20323-1775674800-1775674800@towerlane.org
SUMMARY:Applied Civics with Steve and Victor
DESCRIPTION:
URL:https://towerlane.org/event/applied-civics-with-steve-and-victor-2/2026-04-08/
LOCATION:Sanctuary
END:VEVENT
BEGIN:VEVENT
DTSTART;TZID=America/New_York:20260408T140000
DTEND;TZID=America/New_York:20260408T140000
DTSTAMP:20260420T112454
CREATED:20260330T194502Z
LAST-MODIFIED:20260330T194502Z
UID:20199-1775656800-1775656800@towerlane.org
SUMMARY:Healthy Minds & Living Support Group
DESCRIPTION:Part of our Emotional Pathway.\nThis group intends to empower older adults and help them evolve through learning new skills\, coping strategies\, and lifestyle tips. A different topic is discussed each week. Led by MSW-LMSW Grace Ford.
URL:https://towerlane.org/event/healthy-minds-living-support-group-5/2026-04-08/
LOCATION:Sanctuary
END:VEVENT
BEGIN:VEVENT
DTSTART;TZID=America/New_York:20260408T130000
DTEND;TZID=America/New_York:20260408T130000
DTSTAMP:20260420T112454
CREATED:20260330T194232Z
LAST-MODIFIED:20260330T194232Z
UID:20194-1775653200-1775653200@towerlane.org
SUMMARY:Healthy & Fit
DESCRIPTION:Part of our Physical Pathway.\nA full body exercise session that can be scaled to most ability levels. These workouts aim to increase strength and balance\, improve flexibility and overall fitness levels.
URL:https://towerlane.org/event/healthy-fit-75/2026-04-08/
LOCATION:Sanctuary
END:VEVENT
BEGIN:VEVENT
DTSTART;TZID=America/New_York:20260408T104500
DTEND;TZID=America/New_York:20260408T104500
DTSTAMP:20260420T112454
CREATED:20260330T194040Z
LAST-MODIFIED:20260330T194040Z
UID:20187-1775645100-1775645100@towerlane.org
SUMMARY:Chorus Rehearsal
DESCRIPTION:Part of our Psychological Pathway. \nChorus leader Kevin Mack leads weekly rehearsals culminating in themed performances throughout the year. Runs seasonally.
URL:https://towerlane.org/event/chorus-rehearsal-32/2026-04-08/
LOCATION:Sanctuary
END:VEVENT
BEGIN:VEVENT
DTSTART;TZID=America/New_York:20260407T190000
DTEND;TZID=America/New_York:20260407T190000
DTSTAMP:20260420T112454
CREATED:20260330T211043Z
LAST-MODIFIED:20260330T211043Z
UID:20314-1775588400-1775588400@towerlane.org
SUMMARY:Lecture Screening: "The Elements of Marie Curie"
DESCRIPTION:
URL:https://towerlane.org/event/lecture-screening-the-elements-of-marie-curie/
LOCATION:Sanctuary
END:VEVENT
BEGIN:VEVENT
DTSTART;TZID=America/New_York:20260407T113000
DTEND;TZID=America/New_York:20260407T113000
DTSTAMP:20260420T112454
CREATED:20260330T210524Z
LAST-MODIFIED:20260330T210524Z
UID:20302-1775561400-1775561400@towerlane.org
SUMMARY:30-Minute Exercise
DESCRIPTION:Part of our Physical Pathway.\n\nA shortened\, modified version of our Healthy & Fit. These sessions are typically performed half seated\, half standing\, and can be modified to most ability levels. Practical strategies for minimizing fall risk are discussed.
URL:https://towerlane.org/event/30-minute-exercise-39/2026-04-07/
LOCATION:Sanctuary
END:VEVENT
BEGIN:VEVENT
DTSTART;TZID=America/New_York:20260406T140000
DTEND;TZID=America/New_York:20260406T140000
DTSTAMP:20260420T112454
CREATED:20260330T205954Z
LAST-MODIFIED:20260330T205954Z
UID:20289-1775484000-1775484000@towerlane.org
SUMMARY:Bingo
DESCRIPTION:Part of our Social Pathway.\nThe classic game.
URL:https://towerlane.org/event/bingo-151/2026-04-06/
LOCATION:Sanctuary
END:VEVENT
BEGIN:VEVENT
DTSTART;TZID=America/New_York:20260405T190000
DTEND;TZID=America/New_York:20260405T190000
DTSTAMP:20260420T112454
CREATED:20260330T204726Z
LAST-MODIFIED:20260330T204726Z
UID:20264-1775415600-1775415600@towerlane.org
SUMMARY:Movie Night
DESCRIPTION:
URL:https://towerlane.org/event/movie-night-100/2026-04-05/
LOCATION:Sanctuary
END:VEVENT
END:VCALENDAR