BEGIN:VCALENDAR
VERSION:2.0
PRODID:-//The Towers - ECPv6.10.3//NONSGML v1.0//EN
CALSCALE:GREGORIAN
METHOD:PUBLISH
X-ORIGINAL-URL:https://towerlane.org
X-WR-CALDESC:Events for The Towers
REFRESH-INTERVAL;VALUE=DURATION:PT1H
X-Robots-Tag:noindex
X-PUBLISHED-TTL:PT1H
BEGIN:VTIMEZONE
TZID:America/New_York
BEGIN:DAYLIGHT
TZOFFSETFROM:-0500
TZOFFSETTO:-0400
TZNAME:EDT
DTSTART:20260308T070000
END:DAYLIGHT
BEGIN:STANDARD
TZOFFSETFROM:-0400
TZOFFSETTO:-0500
TZNAME:EST
DTSTART:20261101T060000
END:STANDARD
END:VTIMEZONE
BEGIN:VEVENT
DTSTART;TZID=America/New_York:20260123T110000
DTEND;TZID=America/New_York:20260123T110000
DTSTAMP:20260421T191352
CREATED:20251229T195016Z
LAST-MODIFIED:20251229T195016Z
UID:18838-1769166000-1769166000@towerlane.org
SUMMARY:Age-ing and Sage-ing
DESCRIPTION:Part of our Intellectual Pathway.\nThe group will be studying what Judaism has to say about old age and explore how we pass down hard-earned wisdom to the next generations.  The group will use sections from Rabbi Zalman Schachter-Shalomi’s book From Age-ing to Sage-ing and a variety of Jewish texts\, for discussion . There will be opportunities for sharing experiences and exploring what is important for teaching your children\, grandchildren and great-grandchildren.
URL:https://towerlane.org/event/age-ing-and-sage-ing/2026-01-23/
LOCATION:Sanctuary
END:VEVENT
BEGIN:VEVENT
DTSTART;TZID=America/New_York:20260122T130000
DTEND;TZID=America/New_York:20260122T130000
DTSTAMP:20260421T191352
CREATED:20251229T211741Z
LAST-MODIFIED:20251229T211741Z
UID:18962-1769086800-1769086800@towerlane.org
SUMMARY:Catholic Mass
DESCRIPTION:Part of our Spiritual Pathway.\nTwice per month Catholic service with Father Ryan Lerner.
URL:https://towerlane.org/event/catholic-mass-78/2026-01-22/
LOCATION:Sanctuary
END:VEVENT
BEGIN:VEVENT
DTSTART;TZID=America/New_York:20260122T103000
DTEND;TZID=America/New_York:20260122T103000
DTSTAMP:20260421T191352
CREATED:20251229T211238Z
LAST-MODIFIED:20251229T211238Z
UID:18955-1769077800-1769077800@towerlane.org
SUMMARY:30-Minute Exercise
DESCRIPTION:Part of our Physical Pathway.\n\nA shortened\, modified version of our Healthy & Fit. These sessions are typically performed half seated\, half standing\, and can be modified to most ability levels. Practical strategies for minimizing fall risk are discussed.
URL:https://towerlane.org/event/30-minute-exercise-33/2026-01-22/
LOCATION:Sanctuary
END:VEVENT
BEGIN:VEVENT
DTSTART;TZID=America/New_York:20260121T140000
DTEND;TZID=America/New_York:20260121T140000
DTSTAMP:20260421T191352
CREATED:20251229T210819Z
LAST-MODIFIED:20251229T210819Z
UID:18951-1769004000-1769004000@towerlane.org
SUMMARY:NEW: Healthy Minds & Living Support Group
DESCRIPTION:Part of our Emotional Pathway. \nThis group intends to empower older adults and help them evolve through learning new skills\, coping strategies\, and lifestyle tips. A different topic is discussed each week. Led by MSW-LMSW Grace Ford.
URL:https://towerlane.org/event/new-healthy-minds-living-support-group/2026-01-21/
LOCATION:Sanctuary
END:VEVENT
BEGIN:VEVENT
DTSTART;TZID=America/New_York:20260121T130000
DTEND;TZID=America/New_York:20260121T130000
DTSTAMP:20260421T191352
CREATED:20251229T210410Z
LAST-MODIFIED:20251229T210410Z
UID:18946-1769000400-1769000400@towerlane.org
SUMMARY:Healthy & Fit
DESCRIPTION:Part of our Physical Pathway.\nA full body exercise session that can be scaled to most ability levels. These workouts aim to increase strength and balance\, improve flexibility and overall fitness levels.
URL:https://towerlane.org/event/healthy-fit-71/2026-01-21/
LOCATION:Sanctuary
END:VEVENT
BEGIN:VEVENT
DTSTART;TZID=America/New_York:20260121T104500
DTEND;TZID=America/New_York:20260121T104500
DTSTAMP:20260421T191352
CREATED:20251229T210233Z
LAST-MODIFIED:20251229T210233Z
UID:18941-1768992300-1768992300@towerlane.org
SUMMARY:Chorus Rehearsal
DESCRIPTION:Part of our Psychological Pathway.\nChorus leader Kevin Mack leads weekly rehearsals culminating in themed performances throughout the year. Runs seasonally.
URL:https://towerlane.org/event/chorus-rehearsal-28/2026-01-21/
LOCATION:Sanctuary
END:VEVENT
BEGIN:VEVENT
DTSTART;TZID=America/New_York:20260120T190000
DTEND;TZID=America/New_York:20260120T190000
DTSTAMP:20260421T191352
CREATED:20251229T215519Z
LAST-MODIFIED:20251229T215519Z
UID:19008-1768935600-1768935600@towerlane.org
SUMMARY:Video Series: "The Cosmos"
DESCRIPTION:
URL:https://towerlane.org/event/video-series-the-cosmos-2/
LOCATION:Sanctuary
END:VEVENT
BEGIN:VEVENT
DTSTART;TZID=America/New_York:20260120T113000
DTEND;TZID=America/New_York:20260120T113000
DTSTAMP:20260421T191352
CREATED:20251229T202800Z
LAST-MODIFIED:20251229T202800Z
UID:18925-1768908600-1768908600@towerlane.org
SUMMARY:30-Minute Exercise
DESCRIPTION:Part of our Physical Pathway.\n\n A shortened\, modified version of our Healthy & Fit. These sessions are typically performed half seated\, half standing\, and can be modified to most ability levels. Practical strategies for minimizing fall risk are discussed.
URL:https://towerlane.org/event/30-minute-exercise-32/2026-01-20/
LOCATION:Sanctuary
END:VEVENT
BEGIN:VEVENT
DTSTART;TZID=America/New_York:20260119T190000
DTEND;TZID=America/New_York:20260119T190000
DTSTAMP:20260421T191352
CREATED:20251229T215300Z
LAST-MODIFIED:20251229T215300Z
UID:19004-1768849200-1768849200@towerlane.org
SUMMARY:Movie Night: "King in the Wilderness"
DESCRIPTION:
URL:https://towerlane.org/event/movie-night-king-in-the-wilderness/
LOCATION:Sanctuary
END:VEVENT
BEGIN:VEVENT
DTSTART;TZID=America/New_York:20260119T140000
DTEND;TZID=America/New_York:20260119T140000
DTSTAMP:20260421T191352
CREATED:20251229T201555Z
LAST-MODIFIED:20251229T201555Z
UID:18906-1768831200-1768831200@towerlane.org
SUMMARY:Bingo
DESCRIPTION:Part of our Social Pathway.\nThe classic game.
URL:https://towerlane.org/event/bingo-144/2026-01-19/
LOCATION:Sanctuary
END:VEVENT
BEGIN:VEVENT
DTSTART;TZID=America/New_York:20260118T190000
DTEND;TZID=America/New_York:20260118T190000
DTSTAMP:20260421T191352
CREATED:20251229T200529Z
LAST-MODIFIED:20251229T200529Z
UID:18881-1768762800-1768762800@towerlane.org
SUMMARY:Movie Night
DESCRIPTION:
URL:https://towerlane.org/event/movie-night-92/2026-01-18/
LOCATION:Sanctuary
END:VEVENT
BEGIN:VEVENT
DTSTART;TZID=America/New_York:20260118T123000
DTEND;TZID=America/New_York:20260118T123000
DTSTAMP:20260421T191352
CREATED:20251229T200404Z
LAST-MODIFIED:20251229T200404Z
UID:18877-1768739400-1768739400@towerlane.org
SUMMARY:Joy of Drumming
DESCRIPTION:Part of our Physical Pathway. \nParticipants will be led through a warmup then play along to simple rhythmic patterns with classic songs. The numerous benefits of drumming include increased hand-eye coordination\, focus\, mental clarity\, and motor skill. Led by resident volunteer Ruby Benarroch.
URL:https://towerlane.org/event/joy-of-drumming-7/2026-01-18/
LOCATION:Sanctuary
END:VEVENT
BEGIN:VEVENT
DTSTART;TZID=America/New_York:20260117T190000
DTEND;TZID=America/New_York:20260117T190000
DTSTAMP:20260421T191352
CREATED:20251229T200029Z
LAST-MODIFIED:20251229T200029Z
UID:18872-1768676400-1768676400@towerlane.org
SUMMARY:Movie Night
DESCRIPTION:
URL:https://towerlane.org/event/movie-night-91/2026-01-17/
LOCATION:Sanctuary
END:VEVENT
BEGIN:VEVENT
DTSTART;TZID=America/New_York:20260117T140000
DTEND;TZID=America/New_York:20260117T140000
DTSTAMP:20260421T191352
CREATED:20251229T195913Z
LAST-MODIFIED:20251229T195913Z
UID:18866-1768658400-1768658400@towerlane.org
SUMMARY:Bingo
DESCRIPTION:Part of our Social Pathway.\nThe classic game.
URL:https://towerlane.org/event/bingo-143/2026-01-17/
LOCATION:Sanctuary
END:VEVENT
BEGIN:VEVENT
DTSTART;TZID=America/New_York:20260117T100000
DTEND;TZID=America/New_York:20260117T220000
DTSTAMP:20260421T191352
CREATED:20251229T195731Z
LAST-MODIFIED:20251229T195731Z
UID:18860-1768644000-1768687200@towerlane.org
SUMMARY:Shabbat
DESCRIPTION:Part of our Spiritual Pathway.\nFriday night and Saturday morning Shabbat services with Ruthie Greenblatt and Sarah Moskowitz.
URL:https://towerlane.org/event/shabbat-86/2026-01-17/
LOCATION:Sanctuary
END:VEVENT
BEGIN:VEVENT
DTSTART;TZID=America/New_York:20260116T183000
DTEND;TZID=America/New_York:20260116T183000
DTSTAMP:20260421T191352
CREATED:20251229T195516Z
LAST-MODIFIED:20251229T195516Z
UID:18854-1768588200-1768588200@towerlane.org
SUMMARY:Shabbat
DESCRIPTION:Part of our Spiritual Pathway.\nFriday night and Saturday morning Shabbat services with Ruthie Greenblatt and Sarah Moskowitz.
URL:https://towerlane.org/event/shabbat-85/2026-01-16/
LOCATION:Sanctuary
END:VEVENT
BEGIN:VEVENT
DTSTART;TZID=America/New_York:20260116T140000
DTEND;TZID=America/New_York:20260116T140000
DTSTAMP:20260421T191352
CREATED:20251229T195340Z
LAST-MODIFIED:20251229T195340Z
UID:18848-1768572000-1768572000@towerlane.org
SUMMARY:Current Events
DESCRIPTION:Part of our Intellectual Pathway.\nResident-led interactive discussion group.
URL:https://towerlane.org/event/current-events-40/2026-01-16/
LOCATION:Sanctuary
END:VEVENT
BEGIN:VEVENT
DTSTART;TZID=America/New_York:20260116T110000
DTEND;TZID=America/New_York:20260116T110000
DTSTAMP:20260421T191352
CREATED:20251229T195016Z
LAST-MODIFIED:20251229T195016Z
UID:18837-1768561200-1768561200@towerlane.org
SUMMARY:Age-ing and Sage-ing
DESCRIPTION:Part of our Intellectual Pathway.\nThe group will be studying what Judaism has to say about old age and explore how we pass down hard-earned wisdom to the next generations.  The group will use sections from Rabbi Zalman Schachter-Shalomi’s book From Age-ing to Sage-ing and a variety of Jewish texts\, for discussion . There will be opportunities for sharing experiences and exploring what is important for teaching your children\, grandchildren and great-grandchildren.
URL:https://towerlane.org/event/age-ing-and-sage-ing/2026-01-16/
LOCATION:Sanctuary
END:VEVENT
BEGIN:VEVENT
DTSTART;TZID=America/New_York:20260115T141500
DTEND;TZID=America/New_York:20260115T141500
DTSTAMP:20260421T191352
CREATED:20251229T215103Z
LAST-MODIFIED:20251229T215103Z
UID:19000-1768486500-1768486500@towerlane.org
SUMMARY:Resident Meeting Hosted by the Tenant Council
DESCRIPTION:
URL:https://towerlane.org/event/resident-meeting-hosted-by-the-tenant-council-8/
LOCATION:Sanctuary
END:VEVENT
BEGIN:VEVENT
DTSTART;TZID=America/New_York:20260115T130000
DTEND;TZID=America/New_York:20260115T130000
DTSTAMP:20260421T191352
CREATED:20251229T214941Z
LAST-MODIFIED:20251229T214941Z
UID:18998-1768482000-1768482000@towerlane.org
SUMMARY:Welcome Photographer Michael Tomashefsky
DESCRIPTION:
URL:https://towerlane.org/event/welcome-photographer-michael-tomashefsky/
LOCATION:Sanctuary
END:VEVENT
BEGIN:VEVENT
DTSTART;TZID=America/New_York:20260115T103000
DTEND;TZID=America/New_York:20260115T103000
DTSTAMP:20260421T191352
CREATED:20251229T214823Z
LAST-MODIFIED:20251229T214823Z
UID:18996-1768473000-1768473000@towerlane.org
SUMMARY:Towers Memorial Service
DESCRIPTION:
URL:https://towerlane.org/event/towers-memorial-service-8/
LOCATION:Sanctuary
END:VEVENT
BEGIN:VEVENT
DTSTART;TZID=America/New_York:20260114T140000
DTEND;TZID=America/New_York:20260114T140000
DTSTAMP:20260421T191352
CREATED:20251229T210819Z
LAST-MODIFIED:20251229T210819Z
UID:18950-1768399200-1768399200@towerlane.org
SUMMARY:NEW: Healthy Minds & Living Support Group
DESCRIPTION:Part of our Emotional Pathway. \nThis group intends to empower older adults and help them evolve through learning new skills\, coping strategies\, and lifestyle tips. A different topic is discussed each week. Led by MSW-LMSW Grace Ford.
URL:https://towerlane.org/event/new-healthy-minds-living-support-group/2026-01-14/
LOCATION:Sanctuary
END:VEVENT
BEGIN:VEVENT
DTSTART;TZID=America/New_York:20260114T130000
DTEND;TZID=America/New_York:20260114T130000
DTSTAMP:20260421T191352
CREATED:20251229T210410Z
LAST-MODIFIED:20251229T210410Z
UID:18945-1768395600-1768395600@towerlane.org
SUMMARY:Healthy & Fit
DESCRIPTION:Part of our Physical Pathway.\nA full body exercise session that can be scaled to most ability levels. These workouts aim to increase strength and balance\, improve flexibility and overall fitness levels.
URL:https://towerlane.org/event/healthy-fit-71/2026-01-14/
LOCATION:Sanctuary
END:VEVENT
BEGIN:VEVENT
DTSTART;TZID=America/New_York:20260114T104500
DTEND;TZID=America/New_York:20260114T104500
DTSTAMP:20260421T191352
CREATED:20251229T210233Z
LAST-MODIFIED:20251229T210233Z
UID:18940-1768387500-1768387500@towerlane.org
SUMMARY:Chorus Rehearsal
DESCRIPTION:Part of our Psychological Pathway.\nChorus leader Kevin Mack leads weekly rehearsals culminating in themed performances throughout the year. Runs seasonally.
URL:https://towerlane.org/event/chorus-rehearsal-28/2026-01-14/
LOCATION:Sanctuary
END:VEVENT
BEGIN:VEVENT
DTSTART;TZID=America/New_York:20260113T184500
DTEND;TZID=America/New_York:20260113T184500
DTSTAMP:20260421T191352
CREATED:20251229T214414Z
LAST-MODIFIED:20251229T214414Z
UID:18990-1768329900-1768329900@towerlane.org
SUMMARY:Movie and Discussion with Jim Brochin
DESCRIPTION:
URL:https://towerlane.org/event/movie-and-discussion-with-jim-brochin-45/
LOCATION:Sanctuary
END:VEVENT
BEGIN:VEVENT
DTSTART;TZID=America/New_York:20260113T140000
DTEND;TZID=America/New_York:20260113T140000
DTSTAMP:20260421T191352
CREATED:20251229T214300Z
LAST-MODIFIED:20251229T214300Z
UID:18988-1768312800-1768312800@towerlane.org
SUMMARY:Health Talk with Gina and Dean
DESCRIPTION:Part of our Physical/Intellectual Pathway.\nInformation sessions on various health topics. Facilitated both in-house and through partnerships with local health organizations.
URL:https://towerlane.org/event/health-talk-with-gina-and-dean-3/
LOCATION:Sanctuary
END:VEVENT
BEGIN:VEVENT
DTSTART;TZID=America/New_York:20260113T113000
DTEND;TZID=America/New_York:20260113T113000
DTSTAMP:20260421T191352
CREATED:20251229T202800Z
LAST-MODIFIED:20251229T202800Z
UID:18924-1768303800-1768303800@towerlane.org
SUMMARY:30-Minute Exercise
DESCRIPTION:Part of our Physical Pathway.\n\n A shortened\, modified version of our Healthy & Fit. These sessions are typically performed half seated\, half standing\, and can be modified to most ability levels. Practical strategies for minimizing fall risk are discussed.
URL:https://towerlane.org/event/30-minute-exercise-32/2026-01-13/
LOCATION:Sanctuary
END:VEVENT
BEGIN:VEVENT
DTSTART;TZID=America/New_York:20260112T190000
DTEND;TZID=America/New_York:20260112T190000
DTSTAMP:20260421T191352
CREATED:20251229T213823Z
LAST-MODIFIED:20251229T213823Z
UID:18983-1768244400-1768244400@towerlane.org
SUMMARY:Family Feud Night
DESCRIPTION:Part of our Social Pathway.\nConcerts\, themed game nights\, trivia and more scheduled throughout the month.
URL:https://towerlane.org/event/family-feud-night/
LOCATION:Sanctuary
END:VEVENT
BEGIN:VEVENT
DTSTART;TZID=America/New_York:20260112T140000
DTEND;TZID=America/New_York:20260112T140000
DTSTAMP:20260421T191352
CREATED:20251229T201555Z
LAST-MODIFIED:20251229T201555Z
UID:18905-1768226400-1768226400@towerlane.org
SUMMARY:Bingo
DESCRIPTION:Part of our Social Pathway.\nThe classic game.
URL:https://towerlane.org/event/bingo-144/2026-01-12/
LOCATION:Sanctuary
END:VEVENT
BEGIN:VEVENT
DTSTART;TZID=America/New_York:20260111T190000
DTEND;TZID=America/New_York:20260111T190000
DTSTAMP:20260421T191352
CREATED:20251229T200529Z
LAST-MODIFIED:20251229T200529Z
UID:18880-1768158000-1768158000@towerlane.org
SUMMARY:Movie Night
DESCRIPTION:
URL:https://towerlane.org/event/movie-night-92/2026-01-11/
LOCATION:Sanctuary
END:VEVENT
END:VCALENDAR