BEGIN:VCALENDAR
VERSION:2.0
PRODID:-//The Towers - ECPv6.10.3//NONSGML v1.0//EN
CALSCALE:GREGORIAN
METHOD:PUBLISH
X-ORIGINAL-URL:https://towerlane.org
X-WR-CALDESC:Events for The Towers
REFRESH-INTERVAL;VALUE=DURATION:PT1H
X-Robots-Tag:noindex
X-PUBLISHED-TTL:PT1H
BEGIN:VTIMEZONE
TZID:America/New_York
BEGIN:DAYLIGHT
TZOFFSETFROM:-0500
TZOFFSETTO:-0400
TZNAME:EDT
DTSTART:20250309T070000
END:DAYLIGHT
BEGIN:STANDARD
TZOFFSETFROM:-0400
TZOFFSETTO:-0500
TZNAME:EST
DTSTART:20251102T060000
END:STANDARD
END:VTIMEZONE
BEGIN:VEVENT
DTSTART;TZID=America/New_York:20251222T190000
DTEND;TZID=America/New_York:20251222T190000
DTSTAMP:20260422T034927
CREATED:20251201T162238Z
LAST-MODIFIED:20251201T162238Z
UID:18599-1766430000-1766430000@towerlane.org
SUMMARY:Movie Night
DESCRIPTION:
URL:https://towerlane.org/event/movie-night-85/2025-12-22/
LOCATION:Sanctuary
END:VEVENT
BEGIN:VEVENT
DTSTART;TZID=America/New_York:20251221T190000
DTEND;TZID=America/New_York:20251221T190000
DTSTAMP:20260422T034927
CREATED:20251201T174311Z
LAST-MODIFIED:20251201T174311Z
UID:18707-1766343600-1766343600@towerlane.org
SUMMARY:Movie Night
DESCRIPTION:
URL:https://towerlane.org/event/movie-night-87/2025-12-21/
LOCATION:Sanctuary
END:VEVENT
BEGIN:VEVENT
DTSTART;TZID=America/New_York:20251221T123000
DTEND;TZID=America/New_York:20251221T123000
DTSTAMP:20260422T034927
CREATED:20251201T174046Z
LAST-MODIFIED:20251201T174046Z
UID:18701-1766320200-1766320200@towerlane.org
SUMMARY:Joy of Drumming
DESCRIPTION:Part of our Physical Pathway.\nParticipants will be led through a warmup then play along to simple rhythmic patterns with classic songs. The numerous benefits of drumming include increased hand-eye coordination\, focus\, mental clarity\, and motor skill. Led by resident volunteer Ruby Benarroch.
URL:https://towerlane.org/event/joy-of-drumming-6/2025-12-21/
LOCATION:Sanctuary
END:VEVENT
BEGIN:VEVENT
DTSTART;TZID=America/New_York:20251220T190000
DTEND;TZID=America/New_York:20251220T190000
DTSTAMP:20260422T034927
CREATED:20251201T173808Z
LAST-MODIFIED:20251201T173808Z
UID:18697-1766257200-1766257200@towerlane.org
SUMMARY:Movie Night
DESCRIPTION:
URL:https://towerlane.org/event/movie-night-86/2025-12-20/
LOCATION:Sanctuary
END:VEVENT
BEGIN:VEVENT
DTSTART;TZID=America/New_York:20251220T140000
DTEND;TZID=America/New_York:20251220T140000
DTSTAMP:20260422T034927
CREATED:20251201T173451Z
LAST-MODIFIED:20251201T173451Z
UID:18689-1766239200-1766239200@towerlane.org
SUMMARY:Bingo
DESCRIPTION:Part of our Social Pathway.\nThe classic game.
URL:https://towerlane.org/event/bingo-142/2025-12-20/
LOCATION:Sanctuary
END:VEVENT
BEGIN:VEVENT
DTSTART;TZID=America/New_York:20251220T100000
DTEND;TZID=America/New_York:20251220T100000
DTSTAMP:20260422T034927
CREATED:20251201T173257Z
LAST-MODIFIED:20251201T173257Z
UID:18685-1766224800-1766224800@towerlane.org
SUMMARY:Shabbat
DESCRIPTION:Part of our Spiritual Pathway.\nFriday night and Saturday morning Shabbat services with Ruthie Greenblatt and Sarah Moskowitz.
URL:https://towerlane.org/event/shabbat-84/2025-12-20/
LOCATION:Sanctuary
END:VEVENT
BEGIN:VEVENT
DTSTART;TZID=America/New_York:20251219T183000
DTEND;TZID=America/New_York:20251219T183000
DTSTAMP:20260422T034927
CREATED:20251201T173106Z
LAST-MODIFIED:20251201T173106Z
UID:18680-1766169000-1766169000@towerlane.org
SUMMARY:Shabbat
DESCRIPTION:Part of our Spiritual Pathway.\nFriday night and Saturday morning Shabbat services with Ruthie Greenblatt and Sarah Moskowitz.
URL:https://towerlane.org/event/shabbat-83/2025-12-19/
LOCATION:Sanctuary
END:VEVENT
BEGIN:VEVENT
DTSTART;TZID=America/New_York:20251219T140000
DTEND;TZID=America/New_York:20251219T140000
DTSTAMP:20260422T034927
CREATED:20251201T172905Z
LAST-MODIFIED:20251201T172905Z
UID:18675-1766152800-1766152800@towerlane.org
SUMMARY:Current Events
DESCRIPTION:Part of our Intellectual Pathway.\nResident-led interactive discussion group.
URL:https://towerlane.org/event/current-events-39/2025-12-19/
LOCATION:Sanctuary
END:VEVENT
BEGIN:VEVENT
DTSTART;TZID=America/New_York:20251219T100000
DTEND;TZID=America/New_York:20251219T100000
DTSTAMP:20260422T034927
CREATED:20251201T171632Z
LAST-MODIFIED:20251201T171939Z
UID:18650-1766138400-1766138400@towerlane.org
SUMMARY:Interfaith Bible Study
DESCRIPTION:Part of our Spiritual Pathway.\nDiscuss selected passages from the Old and New Testaments.
URL:https://towerlane.org/event/interfaith-bible-study-12/2025-12-19/
LOCATION:Sanctuary
END:VEVENT
BEGIN:VEVENT
DTSTART;TZID=America/New_York:20251218T190000
DTEND;TZID=America/New_York:20251218T190000
DTSTAMP:20260422T034927
CREATED:20251201T191349Z
LAST-MODIFIED:20251201T191349Z
UID:18764-1766084400-1766084400@towerlane.org
SUMMARY:Welcome the Nu Haven Kapelye - Klezmer & Hannukah!
DESCRIPTION:Part of our Social Pathway.\nConcerts\, themed game nights\, trivia and more scheduled throughout the month.
URL:https://towerlane.org/event/welcome-the-nu-haven-kapelye-klezmer-hannukah/
LOCATION:Sanctuary
END:VEVENT
BEGIN:VEVENT
DTSTART;TZID=America/New_York:20251218T133000
DTEND;TZID=America/New_York:20251218T133000
DTSTAMP:20260422T034927
CREATED:20251201T191115Z
LAST-MODIFIED:20251201T191115Z
UID:18760-1766064600-1766064600@towerlane.org
SUMMARY:Chorus Concert
DESCRIPTION:
URL:https://towerlane.org/event/chorus-concert-10/
LOCATION:Sanctuary
END:VEVENT
BEGIN:VEVENT
DTSTART;TZID=America/New_York:20251218T103000
DTEND;TZID=America/New_York:20251218T103000
DTSTAMP:20260422T034927
CREATED:20251201T170155Z
LAST-MODIFIED:20251201T170155Z
UID:18638-1766053800-1766053800@towerlane.org
SUMMARY:30 Minute Exercise
DESCRIPTION:Part of our Physical Pathway.\n\nA shortened\, modified version of our Healthy & Fit. These sessions are typically performed half seated\, half standing\, and can be modified to most ability levels. Practical strategies for minimizing fall risk are discussed.
URL:https://towerlane.org/event/30-minute-exercise-29/2025-12-18/
LOCATION:Sanctuary
END:VEVENT
BEGIN:VEVENT
DTSTART;TZID=America/New_York:20251217T190000
DTEND;TZID=America/New_York:20251217T190000
DTSTAMP:20260422T034927
CREATED:20251201T190847Z
LAST-MODIFIED:20251201T190847Z
UID:18754-1765998000-1765998000@towerlane.org
SUMMARY:Movie Night
DESCRIPTION:
URL:https://towerlane.org/event/movie-night-88/2025-12-17/
LOCATION:Sanctuary
END:VEVENT
BEGIN:VEVENT
DTSTART;TZID=America/New_York:20251217T150000
DTEND;TZID=America/New_York:20251217T150000
DTSTAMP:20260422T034927
CREATED:20251201T190538Z
LAST-MODIFIED:20251201T190538Z
UID:18750-1765983600-1765983600@towerlane.org
SUMMARY:Hanukkah Candle Lighting
DESCRIPTION:
URL:https://towerlane.org/event/hanukkah-candle-lighting-7/
LOCATION:Sanctuary
END:VEVENT
BEGIN:VEVENT
DTSTART;TZID=America/New_York:20251217T130000
DTEND;TZID=America/New_York:20251217T130000
DTSTAMP:20260422T034927
CREATED:20251201T165337Z
LAST-MODIFIED:20251201T165337Z
UID:18630-1765976400-1765976400@towerlane.org
SUMMARY:Healthy & Fit
DESCRIPTION:Part of our Physical Pathway.\nA full body exercise session that can be scaled to most ability levels. These workouts aim to increase strength and balance\, improve flexibility and overall fitness levels.
URL:https://towerlane.org/event/healthy-fit-70/2025-12-17/
LOCATION:Sanctuary
END:VEVENT
BEGIN:VEVENT
DTSTART;TZID=America/New_York:20251217T104500
DTEND;TZID=America/New_York:20251217T104500
DTSTAMP:20260422T034927
CREATED:20251201T165127Z
LAST-MODIFIED:20251201T165127Z
UID:18626-1765968300-1765968300@towerlane.org
SUMMARY:Chorus Rehearsal
DESCRIPTION:Part of our Psychological Pathway.\n\nChorus leader Kevin Mack leads weekly rehearsals culminating in themed performances throughout the year. Runs seasonally.
URL:https://towerlane.org/event/chorus-rehearsal-26/2025-12-17/
LOCATION:Sanctuary
END:VEVENT
BEGIN:VEVENT
DTSTART;TZID=America/New_York:20251216T190000
DTEND;TZID=America/New_York:20251216T190000
DTSTAMP:20260422T034927
CREATED:20251201T190427Z
LAST-MODIFIED:20251201T190427Z
UID:18748-1765911600-1765911600@towerlane.org
SUMMARY:Video Lecture Series: "The Cosmos"
DESCRIPTION:
URL:https://towerlane.org/event/video-lecture-series-the-cosmos-4/
LOCATION:Sanctuary
END:VEVENT
BEGIN:VEVENT
DTSTART;TZID=America/New_York:20251216T150000
DTEND;TZID=America/New_York:20251216T150000
DTSTAMP:20260422T034927
CREATED:20251201T190306Z
LAST-MODIFIED:20251201T190306Z
UID:18746-1765897200-1765897200@towerlane.org
SUMMARY:Hanukkah Candle Lighting
DESCRIPTION:
URL:https://towerlane.org/event/hanukkah-candle-lighting-6/
LOCATION:Sanctuary
END:VEVENT
BEGIN:VEVENT
DTSTART;TZID=America/New_York:20251216T113000
DTEND;TZID=America/New_York:20251216T113000
DTSTAMP:20260422T034927
CREATED:20251201T190211Z
LAST-MODIFIED:20251201T190211Z
UID:18742-1765884600-1765884600@towerlane.org
SUMMARY:30 Minute Exercise
DESCRIPTION:Part of our Physical Pathway.\n\nA shortened\, modified version of our Healthy & Fit. These sessions are typically performed half seated\, half standing\, and can be modified to most ability levels. Practical strategies for minimizing fall risk are discussed.
URL:https://towerlane.org/event/30-minute-exercise-31/2025-12-16/
LOCATION:Sanctuary
END:VEVENT
BEGIN:VEVENT
DTSTART;TZID=America/New_York:20251215T190000
DTEND;TZID=America/New_York:20251215T190000
DTSTAMP:20260422T034927
CREATED:20251201T162238Z
LAST-MODIFIED:20251201T162238Z
UID:18598-1765825200-1765825200@towerlane.org
SUMMARY:Movie Night
DESCRIPTION:
URL:https://towerlane.org/event/movie-night-85/2025-12-15/
LOCATION:Sanctuary
END:VEVENT
BEGIN:VEVENT
DTSTART;TZID=America/New_York:20251215T150000
DTEND;TZID=America/New_York:20251215T150000
DTSTAMP:20260422T034927
CREATED:20251201T185830Z
LAST-MODIFIED:20251201T185830Z
UID:18737-1765810800-1765810800@towerlane.org
SUMMARY:Hanukkah Party
DESCRIPTION:
URL:https://towerlane.org/event/hanukkah-party-2/
LOCATION:Sanctuary
END:VEVENT
BEGIN:VEVENT
DTSTART;TZID=America/New_York:20251214T190000
DTEND;TZID=America/New_York:20251214T190000
DTSTAMP:20260422T034927
CREATED:20251201T174311Z
LAST-MODIFIED:20251201T174311Z
UID:18706-1765738800-1765738800@towerlane.org
SUMMARY:Movie Night
DESCRIPTION:
URL:https://towerlane.org/event/movie-night-87/2025-12-14/
LOCATION:Sanctuary
END:VEVENT
BEGIN:VEVENT
DTSTART;TZID=America/New_York:20251214T150000
DTEND;TZID=America/New_York:20251214T150000
DTSTAMP:20260422T034927
CREATED:20251201T185704Z
LAST-MODIFIED:20251201T185704Z
UID:18735-1765724400-1765724400@towerlane.org
SUMMARY:First Hanukkah Candle Lighting
DESCRIPTION:
URL:https://towerlane.org/event/first-hanukkah-candle-lighting-3/
LOCATION:Sanctuary
END:VEVENT
BEGIN:VEVENT
DTSTART;TZID=America/New_York:20251213T190000
DTEND;TZID=America/New_York:20251213T190000
DTSTAMP:20260422T034927
CREATED:20251201T173808Z
LAST-MODIFIED:20251201T173808Z
UID:18696-1765652400-1765652400@towerlane.org
SUMMARY:Movie Night
DESCRIPTION:
URL:https://towerlane.org/event/movie-night-86/2025-12-13/
LOCATION:Sanctuary
END:VEVENT
BEGIN:VEVENT
DTSTART;TZID=America/New_York:20251213T100000
DTEND;TZID=America/New_York:20251213T100000
DTSTAMP:20260422T034927
CREATED:20251201T173257Z
LAST-MODIFIED:20251201T173257Z
UID:18684-1765620000-1765620000@towerlane.org
SUMMARY:Shabbat
DESCRIPTION:Part of our Spiritual Pathway.\nFriday night and Saturday morning Shabbat services with Ruthie Greenblatt and Sarah Moskowitz.
URL:https://towerlane.org/event/shabbat-84/2025-12-13/
LOCATION:Sanctuary
END:VEVENT
BEGIN:VEVENT
DTSTART;TZID=America/New_York:20251212T183000
DTEND;TZID=America/New_York:20251212T183000
DTSTAMP:20260422T034927
CREATED:20251201T173106Z
LAST-MODIFIED:20251201T173106Z
UID:18679-1765564200-1765564200@towerlane.org
SUMMARY:Shabbat
DESCRIPTION:Part of our Spiritual Pathway.\nFriday night and Saturday morning Shabbat services with Ruthie Greenblatt and Sarah Moskowitz.
URL:https://towerlane.org/event/shabbat-83/2025-12-12/
LOCATION:Sanctuary
END:VEVENT
BEGIN:VEVENT
DTSTART;TZID=America/New_York:20251212T140000
DTEND;TZID=America/New_York:20251212T140000
DTSTAMP:20260422T034927
CREATED:20251201T172905Z
LAST-MODIFIED:20251201T172905Z
UID:18674-1765548000-1765548000@towerlane.org
SUMMARY:Current Events
DESCRIPTION:Part of our Intellectual Pathway.\nResident-led interactive discussion group.
URL:https://towerlane.org/event/current-events-39/2025-12-12/
LOCATION:Sanctuary
END:VEVENT
BEGIN:VEVENT
DTSTART;TZID=America/New_York:20251212T100000
DTEND;TZID=America/New_York:20251212T100000
DTSTAMP:20260422T034927
CREATED:20251201T171632Z
LAST-MODIFIED:20251201T171939Z
UID:18649-1765533600-1765533600@towerlane.org
SUMMARY:Interfaith Bible Study
DESCRIPTION:Part of our Spiritual Pathway.\nDiscuss selected passages from the Old and New Testaments.
URL:https://towerlane.org/event/interfaith-bible-study-12/2025-12-12/
LOCATION:Sanctuary
END:VEVENT
BEGIN:VEVENT
DTSTART;TZID=America/New_York:20251211T130000
DTEND;TZID=America/New_York:20251211T130000
DTSTAMP:20260422T034927
CREATED:20251201T185051Z
LAST-MODIFIED:20251201T185051Z
UID:18727-1765458000-1765458000@towerlane.org
SUMMARY:Catholic Mass
DESCRIPTION:Part of our Spiritual Pathway.\nTwice per month Catholic service with Father Ryan Lerner.
URL:https://towerlane.org/event/catholic-mass-76/
LOCATION:Sanctuary
END:VEVENT
BEGIN:VEVENT
DTSTART;TZID=America/New_York:20251211T103000
DTEND;TZID=America/New_York:20251211T103000
DTSTAMP:20260422T034927
CREATED:20251201T170155Z
LAST-MODIFIED:20251201T170155Z
UID:18637-1765449000-1765449000@towerlane.org
SUMMARY:30 Minute Exercise
DESCRIPTION:Part of our Physical Pathway.\n\nA shortened\, modified version of our Healthy & Fit. These sessions are typically performed half seated\, half standing\, and can be modified to most ability levels. Practical strategies for minimizing fall risk are discussed.
URL:https://towerlane.org/event/30-minute-exercise-29/2025-12-11/
LOCATION:Sanctuary
END:VEVENT
END:VCALENDAR