BEGIN:VCALENDAR
VERSION:2.0
PRODID:-//The Towers - ECPv6.10.3//NONSGML v1.0//EN
CALSCALE:GREGORIAN
METHOD:PUBLISH
X-ORIGINAL-URL:https://towerlane.org
X-WR-CALDESC:Events for The Towers
REFRESH-INTERVAL;VALUE=DURATION:PT1H
X-Robots-Tag:noindex
X-PUBLISHED-TTL:PT1H
BEGIN:VTIMEZONE
TZID:America/New_York
BEGIN:DAYLIGHT
TZOFFSETFROM:-0500
TZOFFSETTO:-0400
TZNAME:EDT
DTSTART:20250309T070000
END:DAYLIGHT
BEGIN:STANDARD
TZOFFSETFROM:-0400
TZOFFSETTO:-0500
TZNAME:EST
DTSTART:20251102T060000
END:STANDARD
END:VTIMEZONE
BEGIN:VEVENT
DTSTART;TZID=America/New_York:20250819T113000
DTEND;TZID=America/New_York:20250819T113000
DTSTAMP:20260423T160925
CREATED:20250730T201701Z
LAST-MODIFIED:20250730T201701Z
UID:17488-1755603000-1755603000@towerlane.org
SUMMARY:30 Minute Exercise
DESCRIPTION:Part of our Physical Pathway.\n\nA shortened\, modified version of our Healthy & Fit. These sessions are typically performed half seated\, half standing\, and can be modified to most ability levels. Practical strategies for minimizing fall risk are discussed.
URL:https://towerlane.org/event/30-minute-exercise-21/2025-08-19/
LOCATION:Sanctuary
END:VEVENT
BEGIN:VEVENT
DTSTART;TZID=America/New_York:20250818T190000
DTEND;TZID=America/New_York:20250818T190000
DTSTAMP:20260423T160925
CREATED:20250730T193426Z
LAST-MODIFIED:20250730T193426Z
UID:17425-1755543600-1755543600@towerlane.org
SUMMARY:Movie Night
DESCRIPTION:
URL:https://towerlane.org/event/movie-night-74/2025-08-18/
LOCATION:Sanctuary
END:VEVENT
BEGIN:VEVENT
DTSTART;TZID=America/New_York:20250818T140000
DTEND;TZID=America/New_York:20250818T140000
DTSTAMP:20260423T160925
CREATED:20250730T193337Z
LAST-MODIFIED:20250730T193337Z
UID:17420-1755525600-1755525600@towerlane.org
SUMMARY:Bingo
DESCRIPTION:Part of our Social Pathway.\nThe classic game.
URL:https://towerlane.org/event/bingo-131/2025-08-18/
LOCATION:Sanctuary
END:VEVENT
BEGIN:VEVENT
DTSTART;TZID=America/New_York:20250817T190000
DTEND;TZID=America/New_York:20250817T190000
DTSTAMP:20260423T160925
CREATED:20250730T192551Z
LAST-MODIFIED:20250730T192551Z
UID:17402-1755457200-1755457200@towerlane.org
SUMMARY:Movie Night
DESCRIPTION:
URL:https://towerlane.org/event/movie-night-73/2025-08-17/
LOCATION:Sanctuary
END:VEVENT
BEGIN:VEVENT
DTSTART;TZID=America/New_York:20250817T110000
DTEND;TZID=America/New_York:20250817T110000
DTSTAMP:20260423T160925
CREATED:20250730T204054Z
LAST-MODIFIED:20250730T204054Z
UID:17517-1755428400-1755428400@towerlane.org
SUMMARY:Joy of Drumming
DESCRIPTION:
URL:https://towerlane.org/event/joy-of-drumming-2/
LOCATION:Sanctuary
END:VEVENT
BEGIN:VEVENT
DTSTART;TZID=America/New_York:20250816T190000
DTEND;TZID=America/New_York:20250816T190000
DTSTAMP:20260423T160925
CREATED:20250730T192136Z
LAST-MODIFIED:20250730T192136Z
UID:17394-1755370800-1755370800@towerlane.org
SUMMARY:Movie Night
DESCRIPTION:
URL:https://towerlane.org/event/movie-night-72/2025-08-16/
LOCATION:Sanctuary
END:VEVENT
BEGIN:VEVENT
DTSTART;TZID=America/New_York:20250816T140000
DTEND;TZID=America/New_York:20250816T140000
DTSTAMP:20260423T160925
CREATED:20250730T191744Z
LAST-MODIFIED:20250730T191744Z
UID:17386-1755352800-1755352800@towerlane.org
SUMMARY:Bingo
DESCRIPTION:Part of our Social Pathway\nThe classic game.
URL:https://towerlane.org/event/bingo-130/2025-08-16/
LOCATION:Sanctuary
END:VEVENT
BEGIN:VEVENT
DTSTART;TZID=America/New_York:20250816T100000
DTEND;TZID=America/New_York:20250816T100000
DTSTAMP:20260423T160925
CREATED:20250730T191556Z
LAST-MODIFIED:20250730T191556Z
UID:17380-1755338400-1755338400@towerlane.org
SUMMARY:Shabbat
DESCRIPTION:Part of our Spiritual Pathway\nFriday night and Saturday morning Shabbat services with Ruthie Greenblatt and Sarah Moskowitz.
URL:https://towerlane.org/event/shabbat-76/2025-08-16/
LOCATION:Sanctuary
END:VEVENT
BEGIN:VEVENT
DTSTART;TZID=America/New_York:20250815T183000
DTEND;TZID=America/New_York:20250815T183000
DTSTAMP:20260423T160926
CREATED:20250730T191354Z
LAST-MODIFIED:20250730T191354Z
UID:17374-1755282600-1755282600@towerlane.org
SUMMARY:Shabbat
DESCRIPTION:Part of our Spiritual Pathway\nFriday night and Saturday morning Shabbat services with Ruthie Greenblatt and Sarah Moskowitz.
URL:https://towerlane.org/event/shabbat-75/2025-08-15/
LOCATION:Sanctuary
END:VEVENT
BEGIN:VEVENT
DTSTART;TZID=America/New_York:20250815T140000
DTEND;TZID=America/New_York:20250815T140000
DTSTAMP:20260423T160926
CREATED:20250730T191201Z
LAST-MODIFIED:20250730T191201Z
UID:17368-1755266400-1755266400@towerlane.org
SUMMARY:Current Events
DESCRIPTION:Part of our Intellectual Pathway\nResident-led interactive discussion group.
URL:https://towerlane.org/event/current-events-35/2025-08-15/
LOCATION:Sanctuary
END:VEVENT
BEGIN:VEVENT
DTSTART;TZID=America/New_York:20250815T100000
DTEND;TZID=America/New_York:20250815T100000
DTSTAMP:20260423T160926
CREATED:20250730T190155Z
LAST-MODIFIED:20250730T190155Z
UID:17353-1755252000-1755252000@towerlane.org
SUMMARY:Interfaith Bible Study
DESCRIPTION:Part of our Spiritual Pathway\nDiscuss selected passages from the Old and New Testaments.
URL:https://towerlane.org/event/interfaith-bible-study-8/2025-08-15/
LOCATION:Sanctuary
END:VEVENT
BEGIN:VEVENT
DTSTART;TZID=America/New_York:20250814T130000
DTEND;TZID=America/New_York:20250814T130000
DTSTAMP:20260423T160926
CREATED:20250730T203549Z
LAST-MODIFIED:20250730T203549Z
UID:17508-1755176400-1755176400@towerlane.org
SUMMARY:Catholic Mass
DESCRIPTION:Part of our Spiritual Pathway.\nTwice per month Catholic service with Father Ryan Lerner.
URL:https://towerlane.org/event/catholic-mass-71/2025-08-14/
LOCATION:Sanctuary
END:VEVENT
BEGIN:VEVENT
DTSTART;TZID=America/New_York:20250814T104500
DTEND;TZID=America/New_York:20250814T104500
DTSTAMP:20260423T160926
CREATED:20250730T195632Z
LAST-MODIFIED:20250730T195632Z
UID:17460-1755168300-1755168300@towerlane.org
SUMMARY:30 Minute Exercise
DESCRIPTION:Part of our Physical Pathway.\n\n A shortened\, modified version of our Healthy & Fit. These sessions are typically performed half seated\, half standing\, and can be modified to most ability levels. Practical strategies for minimizing fall risk are discussed.
URL:https://towerlane.org/event/30-minute-exercise-20/2025-08-14/
LOCATION:Sanctuary
END:VEVENT
BEGIN:VEVENT
DTSTART;TZID=America/New_York:20250813T190000
DTEND;TZID=America/New_York:20250813T190000
DTSTAMP:20260423T160926
CREATED:20250730T203259Z
LAST-MODIFIED:20250730T203259Z
UID:17504-1755111600-1755111600@towerlane.org
SUMMARY:Game Night with Charles Rosenay
DESCRIPTION:Part of our Social Pathway.\nConcerts\, themed game nights\, trivia and more scheduled throughout the month.
URL:https://towerlane.org/event/game-night-with-charles-rosenay-22/
LOCATION:Sanctuary
END:VEVENT
BEGIN:VEVENT
DTSTART;TZID=America/New_York:20250813T140000
DTEND;TZID=America/New_York:20250813T140000
DTSTAMP:20260423T160926
CREATED:20250730T195342Z
LAST-MODIFIED:20250730T195342Z
UID:17453-1755093600-1755093600@towerlane.org
SUMMARY:JFS Support Group
DESCRIPTION:Part of our Emotional Pathway.\nWeekly support group with LCSW Elanit Linder from Jewish Family Service.
URL:https://towerlane.org/event/jfs-support-group-49/2025-08-13/
LOCATION:Sanctuary
END:VEVENT
BEGIN:VEVENT
DTSTART;TZID=America/New_York:20250813T130000
DTEND;TZID=America/New_York:20250813T130000
DTSTAMP:20260423T160926
CREATED:20250730T203114Z
LAST-MODIFIED:20250730T203114Z
UID:17500-1755090000-1755090000@towerlane.org
SUMMARY:Healthy & Fit
DESCRIPTION:Part of our Physical Pathway.\nA full body exercise session that can be scaled to most ability levels. These workouts aim to increase strength and balance\, improve flexibility and overall fitness levels.”
URL:https://towerlane.org/event/healthy-fit-64/2025-08-13/
LOCATION:Sanctuary
END:VEVENT
BEGIN:VEVENT
DTSTART;TZID=America/New_York:20250813T110000
DTEND;TZID=America/New_York:20250813T110000
DTSTAMP:20260423T160926
CREATED:20250730T202817Z
LAST-MODIFIED:20250730T202817Z
UID:17496-1755082800-1755082800@towerlane.org
SUMMARY:QU Students Group
DESCRIPTION:Group led by Quinnipiac Doctorate Students. Topics vary.
URL:https://towerlane.org/event/qu-students-group-46/
LOCATION:Sanctuary
END:VEVENT
BEGIN:VEVENT
DTSTART;TZID=America/New_York:20250812T190000
DTEND;TZID=America/New_York:20250812T190000
DTSTAMP:20260423T160926
CREATED:20250730T202718Z
LAST-MODIFIED:20250730T202718Z
UID:17494-1755025200-1755025200@towerlane.org
SUMMARY:Movie and Discussion with Jim Brochin
DESCRIPTION:Part of our Social Pathway.\nFilm studies teacher Jim Brochin screens and discusses films.
URL:https://towerlane.org/event/movie-and-discussion-with-jim-brochin-41/
LOCATION:Sanctuary
END:VEVENT
BEGIN:VEVENT
DTSTART;TZID=America/New_York:20250812T150000
DTEND;TZID=America/New_York:20250812T150000
DTSTAMP:20260423T160926
CREATED:20250730T202339Z
LAST-MODIFIED:20250730T202339Z
UID:17492-1755010800-1755010800@towerlane.org
SUMMARY:QU Students Group
DESCRIPTION:Group led by Quinnipiac Doctorate Students. Topics vary.
URL:https://towerlane.org/event/qu-students-group-45/
LOCATION:Sanctuary
END:VEVENT
BEGIN:VEVENT
DTSTART;TZID=America/New_York:20250812T113000
DTEND;TZID=America/New_York:20250812T113000
DTSTAMP:20260423T160926
CREATED:20250730T201701Z
LAST-MODIFIED:20250730T201701Z
UID:17487-1754998200-1754998200@towerlane.org
SUMMARY:30 Minute Exercise
DESCRIPTION:Part of our Physical Pathway.\n\nA shortened\, modified version of our Healthy & Fit. These sessions are typically performed half seated\, half standing\, and can be modified to most ability levels. Practical strategies for minimizing fall risk are discussed.
URL:https://towerlane.org/event/30-minute-exercise-21/2025-08-12/
LOCATION:Sanctuary
END:VEVENT
BEGIN:VEVENT
DTSTART;TZID=America/New_York:20250811T190000
DTEND;TZID=America/New_York:20250811T190000
DTSTAMP:20260423T160926
CREATED:20250730T193426Z
LAST-MODIFIED:20250730T193426Z
UID:17424-1754938800-1754938800@towerlane.org
SUMMARY:Movie Night
DESCRIPTION:
URL:https://towerlane.org/event/movie-night-74/2025-08-11/
LOCATION:Sanctuary
END:VEVENT
BEGIN:VEVENT
DTSTART;TZID=America/New_York:20250811T140000
DTEND;TZID=America/New_York:20250811T140000
DTSTAMP:20260423T160926
CREATED:20250730T193337Z
LAST-MODIFIED:20250730T193337Z
UID:17419-1754920800-1754920800@towerlane.org
SUMMARY:Bingo
DESCRIPTION:Part of our Social Pathway.\nThe classic game.
URL:https://towerlane.org/event/bingo-131/2025-08-11/
LOCATION:Sanctuary
END:VEVENT
BEGIN:VEVENT
DTSTART;TZID=America/New_York:20250810T190000
DTEND;TZID=America/New_York:20250810T190000
DTSTAMP:20260423T160926
CREATED:20250730T192551Z
LAST-MODIFIED:20250730T192551Z
UID:17401-1754852400-1754852400@towerlane.org
SUMMARY:Movie Night
DESCRIPTION:
URL:https://towerlane.org/event/movie-night-73/2025-08-10/
LOCATION:Sanctuary
END:VEVENT
BEGIN:VEVENT
DTSTART;TZID=America/New_York:20250809T190000
DTEND;TZID=America/New_York:20250809T190000
DTSTAMP:20260423T160926
CREATED:20250730T192136Z
LAST-MODIFIED:20250730T192136Z
UID:17393-1754766000-1754766000@towerlane.org
SUMMARY:Movie Night
DESCRIPTION:
URL:https://towerlane.org/event/movie-night-72/2025-08-09/
LOCATION:Sanctuary
END:VEVENT
BEGIN:VEVENT
DTSTART;TZID=America/New_York:20250809T140000
DTEND;TZID=America/New_York:20250809T140000
DTSTAMP:20260423T160926
CREATED:20250730T191744Z
LAST-MODIFIED:20250730T191744Z
UID:17385-1754748000-1754748000@towerlane.org
SUMMARY:Bingo
DESCRIPTION:Part of our Social Pathway\nThe classic game.
URL:https://towerlane.org/event/bingo-130/2025-08-09/
LOCATION:Sanctuary
END:VEVENT
BEGIN:VEVENT
DTSTART;TZID=America/New_York:20250809T100000
DTEND;TZID=America/New_York:20250809T100000
DTSTAMP:20260423T160926
CREATED:20250730T191556Z
LAST-MODIFIED:20250730T191556Z
UID:17379-1754733600-1754733600@towerlane.org
SUMMARY:Shabbat
DESCRIPTION:Part of our Spiritual Pathway\nFriday night and Saturday morning Shabbat services with Ruthie Greenblatt and Sarah Moskowitz.
URL:https://towerlane.org/event/shabbat-76/2025-08-09/
LOCATION:Sanctuary
END:VEVENT
BEGIN:VEVENT
DTSTART;TZID=America/New_York:20250808T183000
DTEND;TZID=America/New_York:20250808T183000
DTSTAMP:20260423T160926
CREATED:20250730T191354Z
LAST-MODIFIED:20250730T191354Z
UID:17373-1754677800-1754677800@towerlane.org
SUMMARY:Shabbat
DESCRIPTION:Part of our Spiritual Pathway\nFriday night and Saturday morning Shabbat services with Ruthie Greenblatt and Sarah Moskowitz.
URL:https://towerlane.org/event/shabbat-75/2025-08-08/
LOCATION:Sanctuary
END:VEVENT
BEGIN:VEVENT
DTSTART;TZID=America/New_York:20250808T140000
DTEND;TZID=America/New_York:20250808T140000
DTSTAMP:20260423T160926
CREATED:20250730T191201Z
LAST-MODIFIED:20250730T191201Z
UID:17367-1754661600-1754661600@towerlane.org
SUMMARY:Current Events
DESCRIPTION:Part of our Intellectual Pathway\nResident-led interactive discussion group.
URL:https://towerlane.org/event/current-events-35/2025-08-08/
LOCATION:Sanctuary
END:VEVENT
BEGIN:VEVENT
DTSTART;TZID=America/New_York:20250808T100000
DTEND;TZID=America/New_York:20250808T100000
DTSTAMP:20260423T160926
CREATED:20250730T190155Z
LAST-MODIFIED:20250730T190155Z
UID:17352-1754647200-1754647200@towerlane.org
SUMMARY:Interfaith Bible Study
DESCRIPTION:Part of our Spiritual Pathway\nDiscuss selected passages from the Old and New Testaments.
URL:https://towerlane.org/event/interfaith-bible-study-8/2025-08-08/
LOCATION:Sanctuary
END:VEVENT
BEGIN:VEVENT
DTSTART;TZID=America/New_York:20250807T140000
DTEND;TZID=America/New_York:20250807T140000
DTSTAMP:20260423T160926
CREATED:20250730T200134Z
LAST-MODIFIED:20250730T200134Z
UID:17468-1754575200-1754575200@towerlane.org
SUMMARY:QU Students Group
DESCRIPTION:Group led by Quinnipiac Doctorate Students. Topics vary.
URL:https://towerlane.org/event/qu-students-group-44/
LOCATION:Sanctuary
END:VEVENT
END:VCALENDAR