BEGIN:VCALENDAR
VERSION:2.0
PRODID:-//The Towers - ECPv6.10.3//NONSGML v1.0//EN
CALSCALE:GREGORIAN
METHOD:PUBLISH
X-ORIGINAL-URL:https://towerlane.org
X-WR-CALDESC:Events for The Towers
REFRESH-INTERVAL;VALUE=DURATION:PT1H
X-Robots-Tag:noindex
X-PUBLISHED-TTL:PT1H
BEGIN:VTIMEZONE
TZID:America/New_York
BEGIN:DAYLIGHT
TZOFFSETFROM:-0500
TZOFFSETTO:-0400
TZNAME:EDT
DTSTART:20250309T070000
END:DAYLIGHT
BEGIN:STANDARD
TZOFFSETFROM:-0400
TZOFFSETTO:-0500
TZNAME:EST
DTSTART:20251102T060000
END:STANDARD
END:VTIMEZONE
BEGIN:VEVENT
DTSTART;TZID=America/New_York:20250628T100000
DTEND;TZID=America/New_York:20250628T100000
DTSTAMP:20260424T072617
CREATED:20250601T194302Z
LAST-MODIFIED:20250601T194302Z
UID:17016-1751104800-1751104800@towerlane.org
SUMMARY:Shabbat
DESCRIPTION:Part of our Spiritual Pathway \nFriday night and Saturday morning Shabbat services with Ruthie Greenblatt and Sarah Moskowitz.
URL:https://towerlane.org/event/shabbat-72/2025-06-28/
LOCATION:Sanctuary
END:VEVENT
BEGIN:VEVENT
DTSTART;TZID=America/New_York:20250627T183000
DTEND;TZID=America/New_York:20250627T183000
DTSTAMP:20260424T072617
CREATED:20250601T194121Z
LAST-MODIFIED:20250601T194121Z
UID:17011-1751049000-1751049000@towerlane.org
SUMMARY:Shabbat
DESCRIPTION:Part of our Spiritual Pathway \nFriday night and Saturday morning Shabbat services with Ruthie Greenblatt and Sarah Moskowitz.
URL:https://towerlane.org/event/shabbat-71/2025-06-27/
LOCATION:Sanctuary
END:VEVENT
BEGIN:VEVENT
DTSTART;TZID=America/New_York:20250627T140000
DTEND;TZID=America/New_York:20250627T140000
DTSTAMP:20260424T072617
CREATED:20250601T183412Z
LAST-MODIFIED:20250601T183412Z
UID:17004-1751032800-1751032800@towerlane.org
SUMMARY:Current Events
DESCRIPTION:Part of our Intellectual Pathway \nResident-led interactive discussion group.
URL:https://towerlane.org/event/current-events-33/2025-06-27/
LOCATION:Sanctuary
END:VEVENT
BEGIN:VEVENT
DTSTART;TZID=America/New_York:20250627T100000
DTEND;TZID=America/New_York:20250627T100000
DTSTAMP:20260424T072617
CREATED:20250601T181006Z
LAST-MODIFIED:20250601T181006Z
UID:16987-1751018400-1751018400@towerlane.org
SUMMARY:Interfaith Bible Study
DESCRIPTION:Part of our Spiritual Pathway \nDiscuss selected passages from the Old and New Testaments.
URL:https://towerlane.org/event/interfaith-bible-study-5/2025-06-27/
LOCATION:Sanctuary
END:VEVENT
BEGIN:VEVENT
DTSTART;TZID=America/New_York:20250626T140000
DTEND;TZID=America/New_York:20250626T140000
DTSTAMP:20260424T072617
CREATED:20250601T211822Z
LAST-MODIFIED:20250601T211822Z
UID:17112-1750946400-1750946400@towerlane.org
SUMMARY:Tenant Council Meeting
DESCRIPTION:
URL:https://towerlane.org/event/tenant-council-meeting-33/
LOCATION:Sanctuary
END:VEVENT
BEGIN:VEVENT
DTSTART;TZID=America/New_York:20250626T113000
DTEND;TZID=America/New_York:20250626T113000
DTSTAMP:20260424T072617
CREATED:20250601T211712Z
LAST-MODIFIED:20250604T194302Z
UID:17110-1750937400-1750937400@towerlane.org
SUMMARY:QU Students Group
DESCRIPTION:Group led by Quinnipiac Doctorate Students. Topics vary.
URL:https://towerlane.org/event/qu-students-group-32/
LOCATION:Sanctuary
END:VEVENT
BEGIN:VEVENT
DTSTART;TZID=America/New_York:20250626T104500
DTEND;TZID=America/New_York:20250626T104500
DTSTAMP:20260424T072617
CREATED:20250601T175941Z
LAST-MODIFIED:20250601T175941Z
UID:16971-1750934700-1750934700@towerlane.org
SUMMARY:30 Minute Exercise
DESCRIPTION:Part of our Physical Pathway\n\nA shortened\, modified version of our Healthy & Fit. These sessions are typically performed half seated\, half standing\, and can be modified to most ability levels. Practical strategies for minimizing fall risk are discussed.
URL:https://towerlane.org/event/30-minute-exercise-13/2025-06-26/
LOCATION:Sanctuary
END:VEVENT
BEGIN:VEVENT
DTSTART;TZID=America/New_York:20250625T140000
DTEND;TZID=America/New_York:20250625T140000
DTSTAMP:20260424T072617
CREATED:20250601T205838Z
LAST-MODIFIED:20250601T205838Z
UID:17085-1750860000-1750860000@towerlane.org
SUMMARY:JFS Support Group
DESCRIPTION:Part of our Emotional Pathway \nWeekly support group with LCSW Elanit Linder from Jewish Family Service.
URL:https://towerlane.org/event/jfs-support-group-47/2025-06-25/
LOCATION:Sanctuary
END:VEVENT
BEGIN:VEVENT
DTSTART;TZID=America/New_York:20250625T130000
DTEND;TZID=America/New_York:20250625T130000
DTSTAMP:20260424T072617
CREATED:20250601T201947Z
LAST-MODIFIED:20250601T201947Z
UID:17056-1750856400-1750856400@towerlane.org
SUMMARY:Healthy & Fit
DESCRIPTION:Part of our Physical Pathway \nA full body exercise session that can be scaled to most ability levels. These workouts aim to increase strength and balance\, improve flexibility and overall fitness levels.
URL:https://towerlane.org/event/healthy-fit-62/2025-06-25/
LOCATION:Sanctuary
END:VEVENT
BEGIN:VEVENT
DTSTART;TZID=America/New_York:20250624T190000
DTEND;TZID=America/New_York:20250624T190000
DTSTAMP:20260424T072617
CREATED:20250601T211549Z
LAST-MODIFIED:20250601T211549Z
UID:17108-1750791600-1750791600@towerlane.org
SUMMARY:Lecture Series: "The Cosmos\, Part 3"
DESCRIPTION:
URL:https://towerlane.org/event/lecture-series-the-cosmos-part-3/
LOCATION:Sanctuary
END:VEVENT
BEGIN:VEVENT
DTSTART;TZID=America/New_York:20250624T113000
DTEND;TZID=America/New_York:20250624T113000
DTSTAMP:20260424T072617
CREATED:20250601T200205Z
LAST-MODIFIED:20250601T200205Z
UID:17044-1750764600-1750764600@towerlane.org
SUMMARY:30 Minute Exercise
DESCRIPTION:Part of our Physical Pathway\n\nA shortened\, modified version of our Healthy & Fit. These sessions are typically performed half seated\, half standing\, and can be modified to most ability levels. Practical strategies for minimizing fall risk are discussed.
URL:https://towerlane.org/event/30-minute-exercise-14/2025-06-24/
LOCATION:Sanctuary
END:VEVENT
BEGIN:VEVENT
DTSTART;TZID=America/New_York:20250623T190000
DTEND;TZID=America/New_York:20250623T190000
DTSTAMP:20260424T072617
CREATED:20250601T211317Z
LAST-MODIFIED:20250601T211317Z
UID:17103-1750705200-1750705200@towerlane.org
SUMMARY:Movie Night
DESCRIPTION:
URL:https://towerlane.org/event/movie-night-68/2025-06-23/
LOCATION:Sanctuary
END:VEVENT
BEGIN:VEVENT
DTSTART;TZID=America/New_York:20250622T190000
DTEND;TZID=America/New_York:20250622T190000
DTSTAMP:20260424T072617
CREATED:20250601T195617Z
LAST-MODIFIED:20250601T195617Z
UID:17033-1750618800-1750618800@towerlane.org
SUMMARY:Movie Night
DESCRIPTION:
URL:https://towerlane.org/event/movie-night-67/2025-06-22/
LOCATION:Sanctuary
END:VEVENT
BEGIN:VEVENT
DTSTART;TZID=America/New_York:20250622T143000
DTEND;TZID=America/New_York:20250622T143000
DTSTAMP:20260424T072617
CREATED:20250601T211119Z
LAST-MODIFIED:20250604T193629Z
UID:17099-1750602600-1750602600@towerlane.org
SUMMARY:The Towers and The Jewish Historical Society Welcome Connie Royster\, Niece of Constance Baker Motley
DESCRIPTION:Come hear the extraordinary story of Constance Baker Motley\, as told by her niece\, Connie Royster.
URL:https://towerlane.org/event/the-towers-and-the-jewish-historical-society-welcome-connie-royster-niece-of-constance-baker-motley/
LOCATION:Sanctuary
END:VEVENT
BEGIN:VEVENT
DTSTART;TZID=America/New_York:20250621T190000
DTEND;TZID=America/New_York:20250621T190000
DTSTAMP:20260424T072617
CREATED:20250601T195409Z
LAST-MODIFIED:20250601T195409Z
UID:17029-1750532400-1750532400@towerlane.org
SUMMARY:Movie Night
DESCRIPTION:
URL:https://towerlane.org/event/movie-night-66/2025-06-21/
LOCATION:Sanctuary
END:VEVENT
BEGIN:VEVENT
DTSTART;TZID=America/New_York:20250621T140000
DTEND;TZID=America/New_York:20250621T140000
DTSTAMP:20260424T072617
CREATED:20250601T195009Z
LAST-MODIFIED:20250601T195009Z
UID:17022-1750514400-1750514400@towerlane.org
SUMMARY:Bingo
DESCRIPTION:Part of our Social Pathway\nThe classic game.
URL:https://towerlane.org/event/bingo-127/2025-06-21/
LOCATION:Sanctuary
END:VEVENT
BEGIN:VEVENT
DTSTART;TZID=America/New_York:20250621T100000
DTEND;TZID=America/New_York:20250621T100000
DTSTAMP:20260424T072617
CREATED:20250601T194302Z
LAST-MODIFIED:20250601T194302Z
UID:17015-1750500000-1750500000@towerlane.org
SUMMARY:Shabbat
DESCRIPTION:Part of our Spiritual Pathway \nFriday night and Saturday morning Shabbat services with Ruthie Greenblatt and Sarah Moskowitz.
URL:https://towerlane.org/event/shabbat-72/2025-06-21/
LOCATION:Sanctuary
END:VEVENT
BEGIN:VEVENT
DTSTART;TZID=America/New_York:20250620T183000
DTEND;TZID=America/New_York:20250620T183000
DTSTAMP:20260424T072617
CREATED:20250601T194121Z
LAST-MODIFIED:20250601T194121Z
UID:17010-1750444200-1750444200@towerlane.org
SUMMARY:Shabbat
DESCRIPTION:Part of our Spiritual Pathway \nFriday night and Saturday morning Shabbat services with Ruthie Greenblatt and Sarah Moskowitz.
URL:https://towerlane.org/event/shabbat-71/2025-06-20/
LOCATION:Sanctuary
END:VEVENT
BEGIN:VEVENT
DTSTART;TZID=America/New_York:20250620T140000
DTEND;TZID=America/New_York:20250620T140000
DTSTAMP:20260424T072617
CREATED:20250601T183412Z
LAST-MODIFIED:20250601T183412Z
UID:17003-1750428000-1750428000@towerlane.org
SUMMARY:Current Events
DESCRIPTION:Part of our Intellectual Pathway \nResident-led interactive discussion group.
URL:https://towerlane.org/event/current-events-33/2025-06-20/
LOCATION:Sanctuary
END:VEVENT
BEGIN:VEVENT
DTSTART;TZID=America/New_York:20250620T100000
DTEND;TZID=America/New_York:20250620T100000
DTSTAMP:20260424T072617
CREATED:20250601T181006Z
LAST-MODIFIED:20250601T181006Z
UID:16986-1750413600-1750413600@towerlane.org
SUMMARY:Interfaith Bible Study
DESCRIPTION:Part of our Spiritual Pathway \nDiscuss selected passages from the Old and New Testaments.
URL:https://towerlane.org/event/interfaith-bible-study-5/2025-06-20/
LOCATION:Sanctuary
END:VEVENT
BEGIN:VEVENT
DTSTART;TZID=America/New_York:20250619T104500
DTEND;TZID=America/New_York:20250619T104500
DTSTAMP:20260424T072617
CREATED:20250601T175941Z
LAST-MODIFIED:20250601T175941Z
UID:16970-1750329900-1750329900@towerlane.org
SUMMARY:30 Minute Exercise
DESCRIPTION:Part of our Physical Pathway\n\nA shortened\, modified version of our Healthy & Fit. These sessions are typically performed half seated\, half standing\, and can be modified to most ability levels. Practical strategies for minimizing fall risk are discussed.
URL:https://towerlane.org/event/30-minute-exercise-13/2025-06-19/
LOCATION:Sanctuary
END:VEVENT
BEGIN:VEVENT
DTSTART;TZID=America/New_York:20250618T140000
DTEND;TZID=America/New_York:20250618T140000
DTSTAMP:20260424T072617
CREATED:20250601T205838Z
LAST-MODIFIED:20250601T205838Z
UID:17084-1750255200-1750255200@towerlane.org
SUMMARY:JFS Support Group
DESCRIPTION:Part of our Emotional Pathway \nWeekly support group with LCSW Elanit Linder from Jewish Family Service.
URL:https://towerlane.org/event/jfs-support-group-47/2025-06-18/
LOCATION:Sanctuary
END:VEVENT
BEGIN:VEVENT
DTSTART;TZID=America/New_York:20250618T130000
DTEND;TZID=America/New_York:20250618T130000
DTSTAMP:20260424T072617
CREATED:20250601T201947Z
LAST-MODIFIED:20250601T201947Z
UID:17055-1750251600-1750251600@towerlane.org
SUMMARY:Healthy & Fit
DESCRIPTION:Part of our Physical Pathway \nA full body exercise session that can be scaled to most ability levels. These workouts aim to increase strength and balance\, improve flexibility and overall fitness levels.
URL:https://towerlane.org/event/healthy-fit-62/2025-06-18/
LOCATION:Sanctuary
END:VEVENT
BEGIN:VEVENT
DTSTART;TZID=America/New_York:20250617T190000
DTEND;TZID=America/New_York:20250617T190000
DTSTAMP:20260424T072617
CREATED:20250601T205629Z
LAST-MODIFIED:20250601T205629Z
UID:17081-1750186800-1750186800@towerlane.org
SUMMARY:Movie and Discussion with Jim Brochin
DESCRIPTION:Part of our Social Pathway \nFilm studies teacher Jim Brochin screens and discusses films.
URL:https://towerlane.org/event/movie-and-discussion-with-jim-brochin-38/
LOCATION:Sanctuary
END:VEVENT
BEGIN:VEVENT
DTSTART;TZID=America/New_York:20250617T113000
DTEND;TZID=America/New_York:20250617T113000
DTSTAMP:20260424T072617
CREATED:20250601T200205Z
LAST-MODIFIED:20250601T200205Z
UID:17043-1750159800-1750159800@towerlane.org
SUMMARY:30 Minute Exercise
DESCRIPTION:Part of our Physical Pathway\n\nA shortened\, modified version of our Healthy & Fit. These sessions are typically performed half seated\, half standing\, and can be modified to most ability levels. Practical strategies for minimizing fall risk are discussed.
URL:https://towerlane.org/event/30-minute-exercise-14/2025-06-17/
LOCATION:Sanctuary
END:VEVENT
BEGIN:VEVENT
DTSTART;TZID=America/New_York:20250616T190000
DTEND;TZID=America/New_York:20250616T190000
DTSTAMP:20260424T072617
CREATED:20250601T204648Z
LAST-MODIFIED:20250601T204648Z
UID:17075-1750100400-1750100400@towerlane.org
SUMMARY:Beatles Night with Dane Bramage and Charles Rosenay
DESCRIPTION:
URL:https://towerlane.org/event/beatles-night-with-dane-bramage-and-charles-rosenay/
LOCATION:Sanctuary
END:VEVENT
BEGIN:VEVENT
DTSTART;TZID=America/New_York:20250616T140000
DTEND;TZID=America/New_York:20250616T140000
DTSTAMP:20260424T072617
CREATED:20250601T173237Z
LAST-MODIFIED:20250601T173237Z
UID:16944-1750082400-1750082400@towerlane.org
SUMMARY:Bingo
DESCRIPTION:Part of our Social Pathway\nThe classic game.
URL:https://towerlane.org/event/bingo-126/2025-06-16/
LOCATION:Sanctuary
END:VEVENT
BEGIN:VEVENT
DTSTART;TZID=America/New_York:20250615T183000
DTEND;TZID=America/New_York:20250615T183000
DTSTAMP:20260424T072617
CREATED:20250601T204121Z
LAST-MODIFIED:20250601T204121Z
UID:17071-1750012200-1750012200@towerlane.org
SUMMARY:Welcome David Chevan and the Bassology Quartet
DESCRIPTION:
URL:https://towerlane.org/event/welcome-david-chevan-and-the-bassology-quartet/
LOCATION:Sanctuary
END:VEVENT
BEGIN:VEVENT
DTSTART;TZID=America/New_York:20250615T133000
DTEND;TZID=America/New_York:20250615T133000
DTSTAMP:20260424T072617
CREATED:20250601T203939Z
LAST-MODIFIED:20250601T203939Z
UID:17067-1749994200-1749994200@towerlane.org
SUMMARY:Afternoon Movie
DESCRIPTION:
URL:https://towerlane.org/event/afternoon-movie-22/
LOCATION:Sanctuary
END:VEVENT
BEGIN:VEVENT
DTSTART;TZID=America/New_York:20250614T190000
DTEND;TZID=America/New_York:20250614T190000
DTSTAMP:20260424T072617
CREATED:20250601T195409Z
LAST-MODIFIED:20250601T195409Z
UID:17028-1749927600-1749927600@towerlane.org
SUMMARY:Movie Night
DESCRIPTION:
URL:https://towerlane.org/event/movie-night-66/2025-06-14/
LOCATION:Sanctuary
END:VEVENT
END:VCALENDAR