BEGIN:VCALENDAR
VERSION:2.0
PRODID:-//The Towers - ECPv6.10.3//NONSGML v1.0//EN
CALSCALE:GREGORIAN
METHOD:PUBLISH
X-ORIGINAL-URL:https://towerlane.org
X-WR-CALDESC:Events for The Towers
REFRESH-INTERVAL;VALUE=DURATION:PT1H
X-Robots-Tag:noindex
X-PUBLISHED-TTL:PT1H
BEGIN:VTIMEZONE
TZID:America/New_York
BEGIN:DAYLIGHT
TZOFFSETFROM:-0500
TZOFFSETTO:-0400
TZNAME:EDT
DTSTART:20250309T070000
END:DAYLIGHT
BEGIN:STANDARD
TZOFFSETFROM:-0400
TZOFFSETTO:-0500
TZNAME:EST
DTSTART:20251102T060000
END:STANDARD
END:VTIMEZONE
BEGIN:VEVENT
DTSTART;TZID=America/New_York:20250617T190000
DTEND;TZID=America/New_York:20250617T190000
DTSTAMP:20260424T102418
CREATED:20250601T205629Z
LAST-MODIFIED:20250601T205629Z
UID:17081-1750186800-1750186800@towerlane.org
SUMMARY:Movie and Discussion with Jim Brochin
DESCRIPTION:Part of our Social Pathway \nFilm studies teacher Jim Brochin screens and discusses films.
URL:https://towerlane.org/event/movie-and-discussion-with-jim-brochin-38/
LOCATION:Sanctuary
END:VEVENT
BEGIN:VEVENT
DTSTART;TZID=America/New_York:20250617T113000
DTEND;TZID=America/New_York:20250617T113000
DTSTAMP:20260424T102418
CREATED:20250601T200205Z
LAST-MODIFIED:20250601T200205Z
UID:17043-1750159800-1750159800@towerlane.org
SUMMARY:30 Minute Exercise
DESCRIPTION:Part of our Physical Pathway\n\nA shortened\, modified version of our Healthy & Fit. These sessions are typically performed half seated\, half standing\, and can be modified to most ability levels. Practical strategies for minimizing fall risk are discussed.
URL:https://towerlane.org/event/30-minute-exercise-14/2025-06-17/
LOCATION:Sanctuary
END:VEVENT
BEGIN:VEVENT
DTSTART;TZID=America/New_York:20250616T190000
DTEND;TZID=America/New_York:20250616T190000
DTSTAMP:20260424T102418
CREATED:20250601T204648Z
LAST-MODIFIED:20250601T204648Z
UID:17075-1750100400-1750100400@towerlane.org
SUMMARY:Beatles Night with Dane Bramage and Charles Rosenay
DESCRIPTION:
URL:https://towerlane.org/event/beatles-night-with-dane-bramage-and-charles-rosenay/
LOCATION:Sanctuary
END:VEVENT
BEGIN:VEVENT
DTSTART;TZID=America/New_York:20250616T140000
DTEND;TZID=America/New_York:20250616T140000
DTSTAMP:20260424T102418
CREATED:20250601T173237Z
LAST-MODIFIED:20250601T173237Z
UID:16944-1750082400-1750082400@towerlane.org
SUMMARY:Bingo
DESCRIPTION:Part of our Social Pathway\nThe classic game.
URL:https://towerlane.org/event/bingo-126/2025-06-16/
LOCATION:Sanctuary
END:VEVENT
BEGIN:VEVENT
DTSTART;TZID=America/New_York:20250615T183000
DTEND;TZID=America/New_York:20250615T183000
DTSTAMP:20260424T102418
CREATED:20250601T204121Z
LAST-MODIFIED:20250601T204121Z
UID:17071-1750012200-1750012200@towerlane.org
SUMMARY:Welcome David Chevan and the Bassology Quartet
DESCRIPTION:
URL:https://towerlane.org/event/welcome-david-chevan-and-the-bassology-quartet/
LOCATION:Sanctuary
END:VEVENT
BEGIN:VEVENT
DTSTART;TZID=America/New_York:20250615T133000
DTEND;TZID=America/New_York:20250615T133000
DTSTAMP:20260424T102418
CREATED:20250601T203939Z
LAST-MODIFIED:20250601T203939Z
UID:17067-1749994200-1749994200@towerlane.org
SUMMARY:Afternoon Movie
DESCRIPTION:
URL:https://towerlane.org/event/afternoon-movie-22/
LOCATION:Sanctuary
END:VEVENT
BEGIN:VEVENT
DTSTART;TZID=America/New_York:20250614T190000
DTEND;TZID=America/New_York:20250614T190000
DTSTAMP:20260424T102418
CREATED:20250601T195409Z
LAST-MODIFIED:20250601T195409Z
UID:17028-1749927600-1749927600@towerlane.org
SUMMARY:Movie Night
DESCRIPTION:
URL:https://towerlane.org/event/movie-night-66/2025-06-14/
LOCATION:Sanctuary
END:VEVENT
BEGIN:VEVENT
DTSTART;TZID=America/New_York:20250614T140000
DTEND;TZID=America/New_York:20250614T140000
DTSTAMP:20260424T102418
CREATED:20250601T195009Z
LAST-MODIFIED:20250601T195009Z
UID:17021-1749909600-1749909600@towerlane.org
SUMMARY:Bingo
DESCRIPTION:Part of our Social Pathway\nThe classic game.
URL:https://towerlane.org/event/bingo-127/2025-06-14/
LOCATION:Sanctuary
END:VEVENT
BEGIN:VEVENT
DTSTART;TZID=America/New_York:20250614T100000
DTEND;TZID=America/New_York:20250614T100000
DTSTAMP:20260424T102418
CREATED:20250601T194302Z
LAST-MODIFIED:20250601T194302Z
UID:17014-1749895200-1749895200@towerlane.org
SUMMARY:Shabbat
DESCRIPTION:Part of our Spiritual Pathway \nFriday night and Saturday morning Shabbat services with Ruthie Greenblatt and Sarah Moskowitz.
URL:https://towerlane.org/event/shabbat-72/2025-06-14/
LOCATION:Sanctuary
END:VEVENT
BEGIN:VEVENT
DTSTART;TZID=America/New_York:20250613T183000
DTEND;TZID=America/New_York:20250613T183000
DTSTAMP:20260424T102418
CREATED:20250601T194121Z
LAST-MODIFIED:20250601T194121Z
UID:17009-1749839400-1749839400@towerlane.org
SUMMARY:Shabbat
DESCRIPTION:Part of our Spiritual Pathway \nFriday night and Saturday morning Shabbat services with Ruthie Greenblatt and Sarah Moskowitz.
URL:https://towerlane.org/event/shabbat-71/2025-06-13/
LOCATION:Sanctuary
END:VEVENT
BEGIN:VEVENT
DTSTART;TZID=America/New_York:20250613T140000
DTEND;TZID=America/New_York:20250613T140000
DTSTAMP:20260424T102418
CREATED:20250601T183412Z
LAST-MODIFIED:20250601T183412Z
UID:17002-1749823200-1749823200@towerlane.org
SUMMARY:Current Events
DESCRIPTION:Part of our Intellectual Pathway \nResident-led interactive discussion group.
URL:https://towerlane.org/event/current-events-33/2025-06-13/
LOCATION:Sanctuary
END:VEVENT
BEGIN:VEVENT
DTSTART;TZID=America/New_York:20250613T100000
DTEND;TZID=America/New_York:20250613T100000
DTSTAMP:20260424T102418
CREATED:20250601T181006Z
LAST-MODIFIED:20250601T181006Z
UID:16985-1749808800-1749808800@towerlane.org
SUMMARY:Interfaith Bible Study
DESCRIPTION:Part of our Spiritual Pathway \nDiscuss selected passages from the Old and New Testaments.
URL:https://towerlane.org/event/interfaith-bible-study-5/2025-06-13/
LOCATION:Sanctuary
END:VEVENT
BEGIN:VEVENT
DTSTART;TZID=America/New_York:20250612T103000
DTEND;TZID=America/New_York:20250612T103000
DTSTAMP:20260424T102418
CREATED:20250601T203448Z
LAST-MODIFIED:20250601T203448Z
UID:17058-1749724200-1749724200@towerlane.org
SUMMARY:Towers Memorial Service
DESCRIPTION:
URL:https://towerlane.org/event/towers-memorial-service-7/
LOCATION:Sanctuary
END:VEVENT
BEGIN:VEVENT
DTSTART;TZID=America/New_York:20250611T140000
DTEND;TZID=America/New_York:20250611T140000
DTSTAMP:20260424T102418
CREATED:20250601T205838Z
LAST-MODIFIED:20250601T205838Z
UID:17083-1749650400-1749650400@towerlane.org
SUMMARY:JFS Support Group
DESCRIPTION:Part of our Emotional Pathway \nWeekly support group with LCSW Elanit Linder from Jewish Family Service.
URL:https://towerlane.org/event/jfs-support-group-47/2025-06-11/
LOCATION:Sanctuary
END:VEVENT
BEGIN:VEVENT
DTSTART;TZID=America/New_York:20250611T130000
DTEND;TZID=America/New_York:20250611T130000
DTSTAMP:20260424T102418
CREATED:20250601T201947Z
LAST-MODIFIED:20250601T201947Z
UID:17054-1749646800-1749646800@towerlane.org
SUMMARY:Healthy & Fit
DESCRIPTION:Part of our Physical Pathway \nA full body exercise session that can be scaled to most ability levels. These workouts aim to increase strength and balance\, improve flexibility and overall fitness levels.
URL:https://towerlane.org/event/healthy-fit-62/2025-06-11/
LOCATION:Sanctuary
END:VEVENT
BEGIN:VEVENT
DTSTART;TZID=America/New_York:20250610T190000
DTEND;TZID=America/New_York:20250610T190000
DTSTAMP:20260424T102418
CREATED:20250601T200602Z
LAST-MODIFIED:20250601T200602Z
UID:17050-1749582000-1749582000@towerlane.org
SUMMARY:Lecture Series: "The Cosmos\, Part 2"
DESCRIPTION:
URL:https://towerlane.org/event/lecture-series-the-cosmos-part-2/
LOCATION:Sanctuary
END:VEVENT
BEGIN:VEVENT
DTSTART;TZID=America/New_York:20250610T140000
DTEND;TZID=America/New_York:20250610T140000
DTSTAMP:20260424T102418
CREATED:20250601T200247Z
LAST-MODIFIED:20250601T200247Z
UID:17046-1749564000-1749564000@towerlane.org
SUMMARY:QU Students Group
DESCRIPTION:
URL:https://towerlane.org/event/qu-students-group-28/
LOCATION:Sanctuary
END:VEVENT
BEGIN:VEVENT
DTSTART;TZID=America/New_York:20250610T113000
DTEND;TZID=America/New_York:20250610T113000
DTSTAMP:20260424T102418
CREATED:20250601T200205Z
LAST-MODIFIED:20250601T200205Z
UID:17042-1749555000-1749555000@towerlane.org
SUMMARY:30 Minute Exercise
DESCRIPTION:Part of our Physical Pathway\n\nA shortened\, modified version of our Healthy & Fit. These sessions are typically performed half seated\, half standing\, and can be modified to most ability levels. Practical strategies for minimizing fall risk are discussed.
URL:https://towerlane.org/event/30-minute-exercise-14/2025-06-10/
LOCATION:Sanctuary
END:VEVENT
BEGIN:VEVENT
DTSTART;TZID=America/New_York:20250609T190000
DTEND;TZID=America/New_York:20250609T190000
DTSTAMP:20260424T102418
CREATED:20250601T195725Z
LAST-MODIFIED:20250601T195725Z
UID:17036-1749495600-1749495600@towerlane.org
SUMMARY:Game Night with Charles Rosenay
DESCRIPTION:
URL:https://towerlane.org/event/game-night-with-charles-rosenay-21/
LOCATION:Sanctuary
END:VEVENT
BEGIN:VEVENT
DTSTART;TZID=America/New_York:20250609T140000
DTEND;TZID=America/New_York:20250609T140000
DTSTAMP:20260424T102418
CREATED:20250601T173237Z
LAST-MODIFIED:20250601T173237Z
UID:16943-1749477600-1749477600@towerlane.org
SUMMARY:Bingo
DESCRIPTION:Part of our Social Pathway\nThe classic game.
URL:https://towerlane.org/event/bingo-126/2025-06-09/
LOCATION:Sanctuary
END:VEVENT
BEGIN:VEVENT
DTSTART;TZID=America/New_York:20250608T190000
DTEND;TZID=America/New_York:20250608T190000
DTSTAMP:20260424T102418
CREATED:20250601T195617Z
LAST-MODIFIED:20250601T195617Z
UID:17032-1749409200-1749409200@towerlane.org
SUMMARY:Movie Night
DESCRIPTION:
URL:https://towerlane.org/event/movie-night-67/2025-06-08/
LOCATION:Sanctuary
END:VEVENT
BEGIN:VEVENT
DTSTART;TZID=America/New_York:20250607T190000
DTEND;TZID=America/New_York:20250607T190000
DTSTAMP:20260424T102418
CREATED:20250601T195409Z
LAST-MODIFIED:20250601T195409Z
UID:17027-1749322800-1749322800@towerlane.org
SUMMARY:Movie Night
DESCRIPTION:
URL:https://towerlane.org/event/movie-night-66/2025-06-07/
LOCATION:Sanctuary
END:VEVENT
BEGIN:VEVENT
DTSTART;TZID=America/New_York:20250607T140000
DTEND;TZID=America/New_York:20250607T140000
DTSTAMP:20260424T102418
CREATED:20250601T195009Z
LAST-MODIFIED:20250601T195009Z
UID:17020-1749304800-1749304800@towerlane.org
SUMMARY:Bingo
DESCRIPTION:Part of our Social Pathway\nThe classic game.
URL:https://towerlane.org/event/bingo-127/2025-06-07/
LOCATION:Sanctuary
END:VEVENT
BEGIN:VEVENT
DTSTART;TZID=America/New_York:20250607T100000
DTEND;TZID=America/New_York:20250607T100000
DTSTAMP:20260424T102418
CREATED:20250601T194302Z
LAST-MODIFIED:20250601T194302Z
UID:17013-1749290400-1749290400@towerlane.org
SUMMARY:Shabbat
DESCRIPTION:Part of our Spiritual Pathway \nFriday night and Saturday morning Shabbat services with Ruthie Greenblatt and Sarah Moskowitz.
URL:https://towerlane.org/event/shabbat-72/2025-06-07/
LOCATION:Sanctuary
END:VEVENT
BEGIN:VEVENT
DTSTART;TZID=America/New_York:20250606T183000
DTEND;TZID=America/New_York:20250606T183000
DTSTAMP:20260424T102418
CREATED:20250601T194121Z
LAST-MODIFIED:20250601T194121Z
UID:17008-1749234600-1749234600@towerlane.org
SUMMARY:Shabbat
DESCRIPTION:Part of our Spiritual Pathway \nFriday night and Saturday morning Shabbat services with Ruthie Greenblatt and Sarah Moskowitz.
URL:https://towerlane.org/event/shabbat-71/2025-06-06/
LOCATION:Sanctuary
END:VEVENT
BEGIN:VEVENT
DTSTART;TZID=America/New_York:20250606T140000
DTEND;TZID=America/New_York:20250606T140000
DTSTAMP:20260424T102418
CREATED:20250601T183412Z
LAST-MODIFIED:20250601T183412Z
UID:17001-1749218400-1749218400@towerlane.org
SUMMARY:Current Events
DESCRIPTION:Part of our Intellectual Pathway \nResident-led interactive discussion group.
URL:https://towerlane.org/event/current-events-33/2025-06-06/
LOCATION:Sanctuary
END:VEVENT
BEGIN:VEVENT
DTSTART;TZID=America/New_York:20250606T100000
DTEND;TZID=America/New_York:20250606T100000
DTSTAMP:20260424T102418
CREATED:20250601T181006Z
LAST-MODIFIED:20250601T181006Z
UID:16984-1749204000-1749204000@towerlane.org
SUMMARY:Interfaith Bible Study
DESCRIPTION:Part of our Spiritual Pathway \nDiscuss selected passages from the Old and New Testaments.
URL:https://towerlane.org/event/interfaith-bible-study-5/2025-06-06/
LOCATION:Sanctuary
END:VEVENT
BEGIN:VEVENT
DTSTART;TZID=America/New_York:20250605T130000
DTEND;TZID=America/New_York:20250605T130000
DTSTAMP:20260424T102418
CREATED:20250601T180327Z
LAST-MODIFIED:20250601T180327Z
UID:16975-1749128400-1749128400@towerlane.org
SUMMARY:Catholic Mass
DESCRIPTION:Part of our Spiritual Pathway. \nTwice per month Catholic service with Father Ryan Lerner.
URL:https://towerlane.org/event/catholic-mass-67/
LOCATION:Sanctuary
END:VEVENT
BEGIN:VEVENT
DTSTART;TZID=America/New_York:20250605T113000
DTEND;TZID=America/New_York:20250605T113000
DTSTAMP:20260424T102418
CREATED:20250601T180114Z
LAST-MODIFIED:20250601T180114Z
UID:16973-1749123000-1749123000@towerlane.org
SUMMARY:Mindfulness and Movement
DESCRIPTION:Part of our Psychological Pathway. \nConnect with your body and de-stress through meditation\, light body movements\, chanting\, and breathing exercises.  Led by wellness coach Stacey Battat.
URL:https://towerlane.org/event/mindfulness-and-movement-27/
LOCATION:Sanctuary
END:VEVENT
BEGIN:VEVENT
DTSTART;TZID=America/New_York:20250605T104500
DTEND;TZID=America/New_York:20250605T104500
DTSTAMP:20260424T102418
CREATED:20250601T175941Z
LAST-MODIFIED:20250601T175941Z
UID:16969-1749120300-1749120300@towerlane.org
SUMMARY:30 Minute Exercise
DESCRIPTION:Part of our Physical Pathway\n\nA shortened\, modified version of our Healthy & Fit. These sessions are typically performed half seated\, half standing\, and can be modified to most ability levels. Practical strategies for minimizing fall risk are discussed.
URL:https://towerlane.org/event/30-minute-exercise-13/2025-06-05/
LOCATION:Sanctuary
END:VEVENT
END:VCALENDAR