BEGIN:VCALENDAR
VERSION:2.0
PRODID:-//The Towers - ECPv6.10.3//NONSGML v1.0//EN
CALSCALE:GREGORIAN
METHOD:PUBLISH
X-ORIGINAL-URL:https://towerlane.org
X-WR-CALDESC:Events for The Towers
REFRESH-INTERVAL;VALUE=DURATION:PT1H
X-Robots-Tag:noindex
X-PUBLISHED-TTL:PT1H
BEGIN:VTIMEZONE
TZID:America/New_York
BEGIN:DAYLIGHT
TZOFFSETFROM:-0500
TZOFFSETTO:-0400
TZNAME:EDT
DTSTART:20250309T070000
END:DAYLIGHT
BEGIN:STANDARD
TZOFFSETFROM:-0400
TZOFFSETTO:-0500
TZNAME:EST
DTSTART:20251102T060000
END:STANDARD
END:VTIMEZONE
BEGIN:VEVENT
DTSTART;TZID=America/New_York:20250606T183000
DTEND;TZID=America/New_York:20250606T183000
DTSTAMP:20260424T133811
CREATED:20250601T194121Z
LAST-MODIFIED:20250601T194121Z
UID:17008-1749234600-1749234600@towerlane.org
SUMMARY:Shabbat
DESCRIPTION:Part of our Spiritual Pathway \nFriday night and Saturday morning Shabbat services with Ruthie Greenblatt and Sarah Moskowitz.
URL:https://towerlane.org/event/shabbat-71/2025-06-06/
LOCATION:Sanctuary
END:VEVENT
BEGIN:VEVENT
DTSTART;TZID=America/New_York:20250606T140000
DTEND;TZID=America/New_York:20250606T140000
DTSTAMP:20260424T133811
CREATED:20250601T183412Z
LAST-MODIFIED:20250601T183412Z
UID:17001-1749218400-1749218400@towerlane.org
SUMMARY:Current Events
DESCRIPTION:Part of our Intellectual Pathway \nResident-led interactive discussion group.
URL:https://towerlane.org/event/current-events-33/2025-06-06/
LOCATION:Sanctuary
END:VEVENT
BEGIN:VEVENT
DTSTART;TZID=America/New_York:20250606T100000
DTEND;TZID=America/New_York:20250606T100000
DTSTAMP:20260424T133811
CREATED:20250601T181006Z
LAST-MODIFIED:20250601T181006Z
UID:16984-1749204000-1749204000@towerlane.org
SUMMARY:Interfaith Bible Study
DESCRIPTION:Part of our Spiritual Pathway \nDiscuss selected passages from the Old and New Testaments.
URL:https://towerlane.org/event/interfaith-bible-study-5/2025-06-06/
LOCATION:Sanctuary
END:VEVENT
BEGIN:VEVENT
DTSTART;TZID=America/New_York:20250605T130000
DTEND;TZID=America/New_York:20250605T130000
DTSTAMP:20260424T133811
CREATED:20250601T180327Z
LAST-MODIFIED:20250601T180327Z
UID:16975-1749128400-1749128400@towerlane.org
SUMMARY:Catholic Mass
DESCRIPTION:Part of our Spiritual Pathway. \nTwice per month Catholic service with Father Ryan Lerner.
URL:https://towerlane.org/event/catholic-mass-67/
LOCATION:Sanctuary
END:VEVENT
BEGIN:VEVENT
DTSTART;TZID=America/New_York:20250605T113000
DTEND;TZID=America/New_York:20250605T113000
DTSTAMP:20260424T133811
CREATED:20250601T180114Z
LAST-MODIFIED:20250601T180114Z
UID:16973-1749123000-1749123000@towerlane.org
SUMMARY:Mindfulness and Movement
DESCRIPTION:Part of our Psychological Pathway. \nConnect with your body and de-stress through meditation\, light body movements\, chanting\, and breathing exercises.  Led by wellness coach Stacey Battat.
URL:https://towerlane.org/event/mindfulness-and-movement-27/
LOCATION:Sanctuary
END:VEVENT
BEGIN:VEVENT
DTSTART;TZID=America/New_York:20250605T104500
DTEND;TZID=America/New_York:20250605T104500
DTSTAMP:20260424T133811
CREATED:20250601T175941Z
LAST-MODIFIED:20250601T175941Z
UID:16969-1749120300-1749120300@towerlane.org
SUMMARY:30 Minute Exercise
DESCRIPTION:Part of our Physical Pathway\n\nA shortened\, modified version of our Healthy & Fit. These sessions are typically performed half seated\, half standing\, and can be modified to most ability levels. Practical strategies for minimizing fall risk are discussed.
URL:https://towerlane.org/event/30-minute-exercise-13/2025-06-05/
LOCATION:Sanctuary
END:VEVENT
BEGIN:VEVENT
DTSTART;TZID=America/New_York:20250603T190000
DTEND;TZID=America/New_York:20250603T190000
DTSTAMP:20260424T133811
CREATED:20250601T174748Z
LAST-MODIFIED:20250601T174748Z
UID:16959-1748977200-1748977200@towerlane.org
SUMMARY:Movie and Discussion with Jim Brochin
DESCRIPTION:Part of our Social Pathway. \nFilm studies teacher Jim Brochin screens and discusses films.
URL:https://towerlane.org/event/movie-and-discussion-with-jim-brochin-37/
LOCATION:Sanctuary
END:VEVENT
BEGIN:VEVENT
DTSTART;TZID=America/New_York:20250603T110000
DTEND;TZID=America/New_York:20250603T110000
DTSTAMP:20260424T133811
CREATED:20250601T174203Z
LAST-MODIFIED:20250601T174203Z
UID:16950-1748948400-1748948400@towerlane.org
SUMMARY:Yizkor Service
DESCRIPTION:
URL:https://towerlane.org/event/yizkor-service-3/
LOCATION:Sanctuary
END:VEVENT
BEGIN:VEVENT
DTSTART;TZID=America/New_York:20250603T093000
DTEND;TZID=America/New_York:20250603T093000
DTSTAMP:20260424T133811
CREATED:20250601T174110Z
LAST-MODIFIED:20250601T174110Z
UID:16948-1748943000-1748943000@towerlane.org
SUMMARY:Shavuot Service
DESCRIPTION:
URL:https://towerlane.org/event/shavuot-service-4/
LOCATION:Sanctuary
END:VEVENT
BEGIN:VEVENT
DTSTART;TZID=America/New_York:20250602T190000
DTEND;TZID=America/New_York:20250602T190000
DTSTAMP:20260424T133811
CREATED:20250601T173522Z
LAST-MODIFIED:20250601T173522Z
UID:16941-1748890800-1748890800@towerlane.org
SUMMARY:Movie Night
DESCRIPTION:
URL:https://towerlane.org/event/movie-night-65/
LOCATION:Sanctuary
END:VEVENT
BEGIN:VEVENT
DTSTART;TZID=America/New_York:20250602T140000
DTEND;TZID=America/New_York:20250602T140000
DTSTAMP:20260424T133811
CREATED:20250601T173237Z
LAST-MODIFIED:20250601T173843Z
UID:16934-1748872800-1748872800@towerlane.org
SUMMARY:Bingo
DESCRIPTION:Part of our Social Pathway\nThe classic game.
URL:https://towerlane.org/event/bingo-126/2025-06-02/
LOCATION:Sanctuary
END:VEVENT
BEGIN:VEVENT
DTSTART;TZID=America/New_York:20250602T100000
DTEND;TZID=America/New_York:20250602T100000
DTSTAMP:20260424T133811
CREATED:20250530T201501Z
LAST-MODIFIED:20250530T201501Z
UID:16913-1748858400-1748858400@towerlane.org
SUMMARY:Shavuot Service
DESCRIPTION:
URL:https://towerlane.org/event/shavuot-service-3/
LOCATION:Sanctuary
END:VEVENT
BEGIN:VEVENT
DTSTART;TZID=America/New_York:20250601T180000
DTEND;TZID=America/New_York:20250601T180000
DTSTAMP:20260424T133811
CREATED:20250530T201403Z
LAST-MODIFIED:20250530T201403Z
UID:16911-1748800800-1748800800@towerlane.org
SUMMARY:Book of Esther Reading with Ruthie
DESCRIPTION:
URL:https://towerlane.org/event/book-of-esther-reading-with-ruthie/
LOCATION:Sanctuary
END:VEVENT
BEGIN:VEVENT
DTSTART;TZID=America/New_York:20250601T133000
DTEND;TZID=America/New_York:20250601T133000
DTSTAMP:20260424T133811
CREATED:20250530T201224Z
LAST-MODIFIED:20250530T201224Z
UID:16909-1748784600-1748784600@towerlane.org
SUMMARY:Afternoon Movie
DESCRIPTION:
URL:https://towerlane.org/event/afternoon-movie-21/
LOCATION:Sanctuary
END:VEVENT
BEGIN:VEVENT
DTSTART;TZID=America/New_York:20250531T190000
DTEND;TZID=America/New_York:20250531T190000
DTSTAMP:20260424T133811
CREATED:20250501T193948Z
LAST-MODIFIED:20250506T133355Z
UID:16712-1748718000-1748718000@towerlane.org
SUMMARY:Movie Night
DESCRIPTION:
URL:https://towerlane.org/event/movie-night-63-2025-05-31/2025-05-31/
LOCATION:Sanctuary
END:VEVENT
BEGIN:VEVENT
DTSTART;TZID=America/New_York:20250531T140000
DTEND;TZID=America/New_York:20250531T140000
DTSTAMP:20260424T133811
CREATED:20250501T193754Z
LAST-MODIFIED:20250523T213257Z
UID:16703-1748700000-1748700000@towerlane.org
SUMMARY:Bingo
DESCRIPTION:Part of our Social Pathway.
URL:https://towerlane.org/event/bingo-124/2025-05-31/
LOCATION:Sanctuary
END:VEVENT
BEGIN:VEVENT
DTSTART;TZID=America/New_York:20250531T100000
DTEND;TZID=America/New_York:20250531T100000
DTSTAMP:20260424T133811
CREATED:20250501T193701Z
LAST-MODIFIED:20250501T193701Z
UID:16697-1748685600-1748685600@towerlane.org
SUMMARY:Shabbat
DESCRIPTION:
URL:https://towerlane.org/event/shabbat-70/2025-05-31/
LOCATION:Sanctuary
END:VEVENT
BEGIN:VEVENT
DTSTART;TZID=America/New_York:20250530T183000
DTEND;TZID=America/New_York:20250530T183000
DTSTAMP:20260424T133811
CREATED:20250501T140617Z
LAST-MODIFIED:20250501T140617Z
UID:16688-1748629800-1748629800@towerlane.org
SUMMARY:Shabbat
DESCRIPTION:
URL:https://towerlane.org/event/shabbat-69/2025-05-30/
LOCATION:Sanctuary
END:VEVENT
BEGIN:VEVENT
DTSTART;TZID=America/New_York:20250530T140000
DTEND;TZID=America/New_York:20250530T140000
DTSTAMP:20260424T133811
CREATED:20250501T140538Z
LAST-MODIFIED:20250523T212801Z
UID:16682-1748613600-1748613600@towerlane.org
SUMMARY:Current Events
DESCRIPTION:Part of our Intellectual Pathway. Resident-led interactive discussion group.
URL:https://towerlane.org/event/current-events-32/2025-05-30/
LOCATION:Sanctuary
END:VEVENT
BEGIN:VEVENT
DTSTART;TZID=America/New_York:20250530T100000
DTEND;TZID=America/New_York:20250530T100000
DTSTAMP:20260424T133811
CREATED:20250501T140237Z
LAST-MODIFIED:20250501T140237Z
UID:16665-1748599200-1748599200@towerlane.org
SUMMARY:Interfaith Bible Study
DESCRIPTION:
URL:https://towerlane.org/event/interfaith-bible-study-4/2025-05-30/
LOCATION:Sanctuary
END:VEVENT
BEGIN:VEVENT
DTSTART;TZID=America/New_York:20250529T143000
DTEND;TZID=America/New_York:20250529T143000
DTSTAMP:20260424T133811
CREATED:20250502T184901Z
LAST-MODIFIED:20250502T184901Z
UID:16835-1748529000-1748529000@towerlane.org
SUMMARY:Meet and Greet the QU OT Students
DESCRIPTION:
URL:https://towerlane.org/event/meet-and-greet-the-qu-ot-students/
LOCATION:Sanctuary
END:VEVENT
BEGIN:VEVENT
DTSTART;TZID=America/New_York:20250529T140000
DTEND;TZID=America/New_York:20250529T140000
DTSTAMP:20260424T133811
CREATED:20250502T184822Z
LAST-MODIFIED:20250523T212252Z
UID:16833-1748527200-1748527200@towerlane.org
SUMMARY:30 Minute Exercise
DESCRIPTION:Part of our Physical Pathway. A shortened\, modified version of our Healthy & Fit. These sessions are typically performed half seated\, half standing\, and can be modified to most ability levels. Practical strategies for minimizing fall risk are discussed.
URL:https://towerlane.org/event/30-minute-exercise-12/
LOCATION:Sanctuary
END:VEVENT
BEGIN:VEVENT
DTSTART;TZID=America/New_York:20250529T110000
DTEND;TZID=America/New_York:20250529T110000
DTSTAMP:20260424T133811
CREATED:20250502T184740Z
LAST-MODIFIED:20250502T184740Z
UID:16831-1748516400-1748516400@towerlane.org
SUMMARY:Gus Town Hall Meeting
DESCRIPTION:
URL:https://towerlane.org/event/gus-town-hall-meeting-25/
LOCATION:Sanctuary
END:VEVENT
BEGIN:VEVENT
DTSTART;TZID=America/New_York:20250528T140000
DTEND;TZID=America/New_York:20250528T140000
DTSTAMP:20260424T133811
CREATED:20250502T181945Z
LAST-MODIFIED:20250502T181945Z
UID:16770-1748440800-1748440800@towerlane.org
SUMMARY:JFS Support Group
DESCRIPTION:
URL:https://towerlane.org/event/jfs-support-group-45/2025-05-28/
LOCATION:Sanctuary
END:VEVENT
BEGIN:VEVENT
DTSTART;TZID=America/New_York:20250528T130000
DTEND;TZID=America/New_York:20250528T130000
DTSTAMP:20260424T133811
CREATED:20250502T181824Z
LAST-MODIFIED:20250502T181824Z
UID:16765-1748437200-1748437200@towerlane.org
SUMMARY:Healthy & Fit
DESCRIPTION:
URL:https://towerlane.org/event/healthy-fit-61/2025-05-28/
LOCATION:Sanctuary
END:VEVENT
BEGIN:VEVENT
DTSTART;TZID=America/New_York:20250528T113000
DTEND;TZID=America/New_York:20250528T113000
DTSTAMP:20260424T133811
CREATED:20250502T184627Z
LAST-MODIFIED:20250502T184627Z
UID:16827-1748431800-1748431800@towerlane.org
SUMMARY:Rosh Chodesh
DESCRIPTION:
URL:https://towerlane.org/event/rosh-chodesh-5/
LOCATION:Sanctuary
END:VEVENT
BEGIN:VEVENT
DTSTART;TZID=America/New_York:20250527T190000
DTEND;TZID=America/New_York:20250527T190000
DTSTAMP:20260424T133811
CREATED:20250502T184543Z
LAST-MODIFIED:20250502T184543Z
UID:16825-1748372400-1748372400@towerlane.org
SUMMARY:"The Cosmos: A Spacetime Odyssey\, Part 2"
DESCRIPTION:
URL:https://towerlane.org/event/the-cosmos-a-spacetime-odyssey-part-2/
LOCATION:Sanctuary
END:VEVENT
BEGIN:VEVENT
DTSTART;TZID=America/New_York:20250525T190000
DTEND;TZID=America/New_York:20250525T190000
DTSTAMP:20260424T133811
CREATED:20250501T194118Z
LAST-MODIFIED:20250501T194118Z
UID:16717-1748199600-1748199600@towerlane.org
SUMMARY:Movie Night
DESCRIPTION:
URL:https://towerlane.org/event/movie-night-64/2025-05-25/
LOCATION:Sanctuary
END:VEVENT
BEGIN:VEVENT
DTSTART;TZID=America/New_York:20250524T190000
DTEND;TZID=America/New_York:20250524T190000
DTSTAMP:20260424T133811
CREATED:20250501T193948Z
LAST-MODIFIED:20250501T193948Z
UID:16711-1748113200-1748113200@towerlane.org
SUMMARY:Movie Night
DESCRIPTION:
URL:https://towerlane.org/event/movie-night-63/2025-05-24/
LOCATION:Sanctuary
END:VEVENT
BEGIN:VEVENT
DTSTART;TZID=America/New_York:20250524T140000
DTEND;TZID=America/New_York:20250524T140000
DTSTAMP:20260424T133811
CREATED:20250501T193754Z
LAST-MODIFIED:20250523T213257Z
UID:16702-1748095200-1748095200@towerlane.org
SUMMARY:Bingo
DESCRIPTION:Part of our Social Pathway.
URL:https://towerlane.org/event/bingo-124/2025-05-24/
LOCATION:Sanctuary
END:VEVENT
END:VCALENDAR