BEGIN:VCALENDAR
VERSION:2.0
PRODID:-//The Towers - ECPv6.10.3//NONSGML v1.0//EN
CALSCALE:GREGORIAN
METHOD:PUBLISH
X-WR-CALNAME:The Towers
X-ORIGINAL-URL:https://towerlane.org
X-WR-CALDESC:Events for The Towers
REFRESH-INTERVAL;VALUE=DURATION:PT1H
X-Robots-Tag:noindex
X-PUBLISHED-TTL:PT1H
BEGIN:VTIMEZONE
TZID:America/New_York
BEGIN:DAYLIGHT
TZOFFSETFROM:-0500
TZOFFSETTO:-0400
TZNAME:EDT
DTSTART:20250309T070000
END:DAYLIGHT
BEGIN:STANDARD
TZOFFSETFROM:-0400
TZOFFSETTO:-0500
TZNAME:EST
DTSTART:20251102T060000
END:STANDARD
END:VTIMEZONE
BEGIN:VEVENT
DTSTART;TZID=America/New_York:20250528T140000
DTEND;TZID=America/New_York:20250528T140000
DTSTAMP:20260424T164955
CREATED:20250502T181945Z
LAST-MODIFIED:20250502T181945Z
UID:16770-1748440800-1748440800@towerlane.org
SUMMARY:JFS Support Group
DESCRIPTION:
URL:https://towerlane.org/event/jfs-support-group-45/2025-05-28/
LOCATION:Sanctuary
END:VEVENT
BEGIN:VEVENT
DTSTART;TZID=America/New_York:20250528T130000
DTEND;TZID=America/New_York:20250528T130000
DTSTAMP:20260424T164955
CREATED:20250502T181824Z
LAST-MODIFIED:20250502T181824Z
UID:16765-1748437200-1748437200@towerlane.org
SUMMARY:Healthy & Fit
DESCRIPTION:
URL:https://towerlane.org/event/healthy-fit-61/2025-05-28/
LOCATION:Sanctuary
END:VEVENT
BEGIN:VEVENT
DTSTART;TZID=America/New_York:20250528T113000
DTEND;TZID=America/New_York:20250528T113000
DTSTAMP:20260424T164955
CREATED:20250502T184627Z
LAST-MODIFIED:20250502T184627Z
UID:16827-1748431800-1748431800@towerlane.org
SUMMARY:Rosh Chodesh
DESCRIPTION:
URL:https://towerlane.org/event/rosh-chodesh-5/
LOCATION:Sanctuary
END:VEVENT
BEGIN:VEVENT
DTSTART;TZID=America/New_York:20250527T190000
DTEND;TZID=America/New_York:20250527T190000
DTSTAMP:20260424T164955
CREATED:20250502T184543Z
LAST-MODIFIED:20250502T184543Z
UID:16825-1748372400-1748372400@towerlane.org
SUMMARY:"The Cosmos: A Spacetime Odyssey\, Part 2"
DESCRIPTION:
URL:https://towerlane.org/event/the-cosmos-a-spacetime-odyssey-part-2/
LOCATION:Sanctuary
END:VEVENT
BEGIN:VEVENT
DTSTART;TZID=America/New_York:20250525T190000
DTEND;TZID=America/New_York:20250525T190000
DTSTAMP:20260424T164955
CREATED:20250501T194118Z
LAST-MODIFIED:20250501T194118Z
UID:16717-1748199600-1748199600@towerlane.org
SUMMARY:Movie Night
DESCRIPTION:
URL:https://towerlane.org/event/movie-night-64/2025-05-25/
LOCATION:Sanctuary
END:VEVENT
BEGIN:VEVENT
DTSTART;TZID=America/New_York:20250524T190000
DTEND;TZID=America/New_York:20250524T190000
DTSTAMP:20260424T164955
CREATED:20250501T193948Z
LAST-MODIFIED:20250501T193948Z
UID:16711-1748113200-1748113200@towerlane.org
SUMMARY:Movie Night
DESCRIPTION:
URL:https://towerlane.org/event/movie-night-63/2025-05-24/
LOCATION:Sanctuary
END:VEVENT
BEGIN:VEVENT
DTSTART;TZID=America/New_York:20250524T140000
DTEND;TZID=America/New_York:20250524T140000
DTSTAMP:20260424T164955
CREATED:20250501T193754Z
LAST-MODIFIED:20250523T213257Z
UID:16702-1748095200-1748095200@towerlane.org
SUMMARY:Bingo
DESCRIPTION:Part of our Social Pathway.
URL:https://towerlane.org/event/bingo-124/2025-05-24/
LOCATION:Sanctuary
END:VEVENT
BEGIN:VEVENT
DTSTART;TZID=America/New_York:20250524T100000
DTEND;TZID=America/New_York:20250524T100000
DTSTAMP:20260424T164955
CREATED:20250501T193701Z
LAST-MODIFIED:20250501T193701Z
UID:16696-1748080800-1748080800@towerlane.org
SUMMARY:Shabbat
DESCRIPTION:
URL:https://towerlane.org/event/shabbat-70/2025-05-24/
LOCATION:Sanctuary
END:VEVENT
BEGIN:VEVENT
DTSTART;TZID=America/New_York:20250523T183000
DTEND;TZID=America/New_York:20250523T183000
DTSTAMP:20260424T164955
CREATED:20250501T140617Z
LAST-MODIFIED:20250501T140617Z
UID:16687-1748025000-1748025000@towerlane.org
SUMMARY:Shabbat
DESCRIPTION:
URL:https://towerlane.org/event/shabbat-69/2025-05-23/
LOCATION:Sanctuary
END:VEVENT
BEGIN:VEVENT
DTSTART;TZID=America/New_York:20250523T140000
DTEND;TZID=America/New_York:20250523T140000
DTSTAMP:20260424T164955
CREATED:20250501T140538Z
LAST-MODIFIED:20250523T212801Z
UID:16681-1748008800-1748008800@towerlane.org
SUMMARY:Current Events
DESCRIPTION:Part of our Intellectual Pathway. Resident-led interactive discussion group.
URL:https://towerlane.org/event/current-events-32/2025-05-23/
LOCATION:Sanctuary
END:VEVENT
BEGIN:VEVENT
DTSTART;TZID=America/New_York:20250523T100000
DTEND;TZID=America/New_York:20250523T100000
DTSTAMP:20260424T164955
CREATED:20250501T140237Z
LAST-MODIFIED:20250501T140237Z
UID:16664-1747994400-1747994400@towerlane.org
SUMMARY:Interfaith Bible Study
DESCRIPTION:
URL:https://towerlane.org/event/interfaith-bible-study-4/2025-05-23/
LOCATION:Sanctuary
END:VEVENT
BEGIN:VEVENT
DTSTART;TZID=America/New_York:20250522T104500
DTEND;TZID=America/New_York:20250522T104500
DTSTAMP:20260424T164955
CREATED:20250502T183339Z
LAST-MODIFIED:20250502T183339Z
UID:16797-1747910700-1747910700@towerlane.org
SUMMARY:30 Minute Exercise
DESCRIPTION:
URL:https://towerlane.org/event/30-minute-exercise-11/2025-05-22/
LOCATION:Sanctuary
END:VEVENT
BEGIN:VEVENT
DTSTART;TZID=America/New_York:20250521T140000
DTEND;TZID=America/New_York:20250521T140000
DTSTAMP:20260424T164955
CREATED:20250502T181945Z
LAST-MODIFIED:20250502T181945Z
UID:16769-1747836000-1747836000@towerlane.org
SUMMARY:JFS Support Group
DESCRIPTION:
URL:https://towerlane.org/event/jfs-support-group-45/2025-05-21/
LOCATION:Sanctuary
END:VEVENT
BEGIN:VEVENT
DTSTART;TZID=America/New_York:20250521T130000
DTEND;TZID=America/New_York:20250521T130000
DTSTAMP:20260424T164955
CREATED:20250502T181824Z
LAST-MODIFIED:20250502T181824Z
UID:16764-1747832400-1747832400@towerlane.org
SUMMARY:Healthy & Fit
DESCRIPTION:
URL:https://towerlane.org/event/healthy-fit-61/2025-05-21/
LOCATION:Sanctuary
END:VEVENT
BEGIN:VEVENT
DTSTART;TZID=America/New_York:20250520T190000
DTEND;TZID=America/New_York:20250520T190000
DTSTAMP:20260424T164955
CREATED:20250502T183915Z
LAST-MODIFIED:20250502T183915Z
UID:16813-1747767600-1747767600@towerlane.org
SUMMARY:Movie and Discussion with Jim Brochin
DESCRIPTION:
URL:https://towerlane.org/event/movie-and-discussion-with-jim-brochin-36/
LOCATION:Sanctuary
END:VEVENT
BEGIN:VEVENT
DTSTART;TZID=America/New_York:20250520T113000
DTEND;TZID=America/New_York:20250520T113000
DTSTAMP:20260424T164955
CREATED:20250502T181225Z
LAST-MODIFIED:20250502T181225Z
UID:16747-1747740600-1747740600@towerlane.org
SUMMARY:30 Minute Exercise
DESCRIPTION:
URL:https://towerlane.org/event/30-minute-exercise-10/2025-05-20/
LOCATION:Sanctuary
END:VEVENT
BEGIN:VEVENT
DTSTART;TZID=America/New_York:20250519T190000
DTEND;TZID=America/New_York:20250519T190000
DTSTAMP:20260424T164955
CREATED:20250502T183724Z
LAST-MODIFIED:20250502T183724Z
UID:16807-1747681200-1747681200@towerlane.org
SUMMARY:Karaoke Night Hosted by Charles Rosenay
DESCRIPTION:
URL:https://towerlane.org/event/karaoke-night-hosted-by-charles-rosenay-2/
LOCATION:Sanctuary
END:VEVENT
BEGIN:VEVENT
DTSTART;TZID=America/New_York:20250519T140000
DTEND;TZID=America/New_York:20250519T140000
DTSTAMP:20260424T164955
CREATED:20250501T194630Z
LAST-MODIFIED:20250501T194630Z
UID:16736-1747663200-1747663200@towerlane.org
SUMMARY:Bingo
DESCRIPTION:
URL:https://towerlane.org/event/bingo-125/2025-05-19/
LOCATION:Sanctuary
END:VEVENT
BEGIN:VEVENT
DTSTART;TZID=America/New_York:20250518T190000
DTEND;TZID=America/New_York:20250518T190000
DTSTAMP:20260424T164955
CREATED:20250501T194118Z
LAST-MODIFIED:20250501T194118Z
UID:16716-1747594800-1747594800@towerlane.org
SUMMARY:Movie Night
DESCRIPTION:
URL:https://towerlane.org/event/movie-night-64/2025-05-18/
LOCATION:Sanctuary
END:VEVENT
BEGIN:VEVENT
DTSTART;TZID=America/New_York:20250518T140000
DTEND;TZID=America/New_York:20250518T140000
DTSTAMP:20260424T164955
CREATED:20250502T183637Z
LAST-MODIFIED:20250502T183637Z
UID:16805-1747576800-1747576800@towerlane.org
SUMMARY:Classical Guitarist Max Steinhoff
DESCRIPTION:
URL:https://towerlane.org/event/classical-guitarist-max-steinhoff/
LOCATION:Sanctuary
END:VEVENT
BEGIN:VEVENT
DTSTART;TZID=America/New_York:20250517T190000
DTEND;TZID=America/New_York:20250517T190000
DTSTAMP:20260424T164955
CREATED:20250501T193948Z
LAST-MODIFIED:20250501T193948Z
UID:16710-1747508400-1747508400@towerlane.org
SUMMARY:Movie Night
DESCRIPTION:
URL:https://towerlane.org/event/movie-night-63/2025-05-17/
LOCATION:Sanctuary
END:VEVENT
BEGIN:VEVENT
DTSTART;TZID=America/New_York:20250517T140000
DTEND;TZID=America/New_York:20250517T140000
DTSTAMP:20260424T164955
CREATED:20250501T193754Z
LAST-MODIFIED:20250523T213257Z
UID:16701-1747490400-1747490400@towerlane.org
SUMMARY:Bingo
DESCRIPTION:Part of our Social Pathway.
URL:https://towerlane.org/event/bingo-124/2025-05-17/
LOCATION:Sanctuary
END:VEVENT
BEGIN:VEVENT
DTSTART;TZID=America/New_York:20250517T100000
DTEND;TZID=America/New_York:20250517T100000
DTSTAMP:20260424T164955
CREATED:20250501T193701Z
LAST-MODIFIED:20250501T193701Z
UID:16695-1747476000-1747476000@towerlane.org
SUMMARY:Shabbat
DESCRIPTION:
URL:https://towerlane.org/event/shabbat-70/2025-05-17/
LOCATION:Sanctuary
END:VEVENT
BEGIN:VEVENT
DTSTART;TZID=America/New_York:20250516T183000
DTEND;TZID=America/New_York:20250516T183000
DTSTAMP:20260424T164955
CREATED:20250501T140617Z
LAST-MODIFIED:20250501T140617Z
UID:16686-1747420200-1747420200@towerlane.org
SUMMARY:Shabbat
DESCRIPTION:
URL:https://towerlane.org/event/shabbat-69/2025-05-16/
LOCATION:Sanctuary
END:VEVENT
BEGIN:VEVENT
DTSTART;TZID=America/New_York:20250516T140000
DTEND;TZID=America/New_York:20250516T140000
DTSTAMP:20260424T164955
CREATED:20250501T140538Z
LAST-MODIFIED:20250523T212801Z
UID:16680-1747404000-1747404000@towerlane.org
SUMMARY:Current Events
DESCRIPTION:Part of our Intellectual Pathway. Resident-led interactive discussion group.
URL:https://towerlane.org/event/current-events-32/2025-05-16/
LOCATION:Sanctuary
END:VEVENT
BEGIN:VEVENT
DTSTART;TZID=America/New_York:20250516T100000
DTEND;TZID=America/New_York:20250516T100000
DTSTAMP:20260424T164955
CREATED:20250501T140237Z
LAST-MODIFIED:20250501T140237Z
UID:16663-1747389600-1747389600@towerlane.org
SUMMARY:Interfaith Bible Study
DESCRIPTION:
URL:https://towerlane.org/event/interfaith-bible-study-4/2025-05-16/
LOCATION:Sanctuary
END:VEVENT
BEGIN:VEVENT
DTSTART;TZID=America/New_York:20250515T133000
DTEND;TZID=America/New_York:20250515T133000
DTSTAMP:20260424T164955
CREATED:20250502T183540Z
LAST-MODIFIED:20250502T183540Z
UID:16803-1747315800-1747315800@towerlane.org
SUMMARY:Chorus Concert
DESCRIPTION:
URL:https://towerlane.org/event/chorus-concert-8/
LOCATION:Sanctuary
END:VEVENT
BEGIN:VEVENT
DTSTART;TZID=America/New_York:20250515T104500
DTEND;TZID=America/New_York:20250515T104500
DTSTAMP:20260424T164955
CREATED:20250502T183339Z
LAST-MODIFIED:20250502T183339Z
UID:16796-1747305900-1747305900@towerlane.org
SUMMARY:30 Minute Exercise
DESCRIPTION:
URL:https://towerlane.org/event/30-minute-exercise-11/2025-05-15/
LOCATION:Sanctuary
END:VEVENT
BEGIN:VEVENT
DTSTART;TZID=America/New_York:20250514T140000
DTEND;TZID=America/New_York:20250514T140000
DTSTAMP:20260424T164955
CREATED:20250502T181945Z
LAST-MODIFIED:20250502T181945Z
UID:16768-1747231200-1747231200@towerlane.org
SUMMARY:JFS Support Group
DESCRIPTION:
URL:https://towerlane.org/event/jfs-support-group-45/2025-05-14/
LOCATION:Sanctuary
END:VEVENT
BEGIN:VEVENT
DTSTART;TZID=America/New_York:20250514T130000
DTEND;TZID=America/New_York:20250514T130000
DTSTAMP:20260424T164955
CREATED:20250502T181824Z
LAST-MODIFIED:20250502T181824Z
UID:16763-1747227600-1747227600@towerlane.org
SUMMARY:Healthy & Fit
DESCRIPTION:
URL:https://towerlane.org/event/healthy-fit-61/2025-05-14/
LOCATION:Sanctuary
END:VEVENT
END:VCALENDAR