BEGIN:VCALENDAR
VERSION:2.0
PRODID:-//The Towers - ECPv6.10.3//NONSGML v1.0//EN
CALSCALE:GREGORIAN
METHOD:PUBLISH
X-ORIGINAL-URL:https://towerlane.org
X-WR-CALDESC:Events for The Towers
REFRESH-INTERVAL;VALUE=DURATION:PT1H
X-Robots-Tag:noindex
X-PUBLISHED-TTL:PT1H
BEGIN:VTIMEZONE
TZID:America/New_York
BEGIN:DAYLIGHT
TZOFFSETFROM:-0500
TZOFFSETTO:-0400
TZNAME:EDT
DTSTART:20250309T070000
END:DAYLIGHT
BEGIN:STANDARD
TZOFFSETFROM:-0400
TZOFFSETTO:-0500
TZNAME:EST
DTSTART:20251102T060000
END:STANDARD
END:VTIMEZONE
BEGIN:VEVENT
DTSTART;TZID=America/New_York:20250506T190000
DTEND;TZID=America/New_York:20250506T190000
DTSTAMP:20260424T225434
CREATED:20250502T181525Z
LAST-MODIFIED:20250502T181525Z
UID:16757-1746558000-1746558000@towerlane.org
SUMMARY:Movie and Discussion with Jim Brochin
DESCRIPTION:
URL:https://towerlane.org/event/movie-and-discussion-with-jim-brochin-35/
LOCATION:Sanctuary
END:VEVENT
BEGIN:VEVENT
DTSTART;TZID=America/New_York:20250506T113000
DTEND;TZID=America/New_York:20250506T113000
DTSTAMP:20260424T225434
CREATED:20250502T181225Z
LAST-MODIFIED:20250502T181225Z
UID:16745-1746531000-1746531000@towerlane.org
SUMMARY:30 Minute Exercise
DESCRIPTION:
URL:https://towerlane.org/event/30-minute-exercise-10/2025-05-06/
LOCATION:Sanctuary
END:VEVENT
BEGIN:VEVENT
DTSTART;TZID=America/New_York:20250505T140000
DTEND;TZID=America/New_York:20250505T140000
DTSTAMP:20260424T225434
CREATED:20250501T194630Z
LAST-MODIFIED:20250501T194630Z
UID:16734-1746453600-1746453600@towerlane.org
SUMMARY:Bingo
DESCRIPTION:
URL:https://towerlane.org/event/bingo-125/2025-05-05/
LOCATION:Sanctuary
END:VEVENT
BEGIN:VEVENT
DTSTART;TZID=America/New_York:20250504T190000
DTEND;TZID=America/New_York:20250504T190000
DTSTAMP:20260424T225434
CREATED:20250501T194118Z
LAST-MODIFIED:20250501T194118Z
UID:16714-1746385200-1746385200@towerlane.org
SUMMARY:Movie Night
DESCRIPTION:
URL:https://towerlane.org/event/movie-night-64/2025-05-04/
LOCATION:Sanctuary
END:VEVENT
BEGIN:VEVENT
DTSTART;TZID=America/New_York:20250503T190000
DTEND;TZID=America/New_York:20250503T190000
DTSTAMP:20260424T225434
CREATED:20250501T193948Z
LAST-MODIFIED:20250501T193948Z
UID:16708-1746298800-1746298800@towerlane.org
SUMMARY:Movie Night
DESCRIPTION:
URL:https://towerlane.org/event/movie-night-63/2025-05-03/
LOCATION:Sanctuary
END:VEVENT
BEGIN:VEVENT
DTSTART;TZID=America/New_York:20250503T140000
DTEND;TZID=America/New_York:20250503T140000
DTSTAMP:20260424T225434
CREATED:20250501T193754Z
LAST-MODIFIED:20250523T213257Z
UID:16699-1746280800-1746280800@towerlane.org
SUMMARY:Bingo
DESCRIPTION:Part of our Social Pathway.
URL:https://towerlane.org/event/bingo-124/2025-05-03/
LOCATION:Sanctuary
END:VEVENT
BEGIN:VEVENT
DTSTART;TZID=America/New_York:20250503T100000
DTEND;TZID=America/New_York:20250503T100000
DTSTAMP:20260424T225434
CREATED:20250501T193701Z
LAST-MODIFIED:20250501T193701Z
UID:16693-1746266400-1746266400@towerlane.org
SUMMARY:Shabbat
DESCRIPTION:
URL:https://towerlane.org/event/shabbat-70/2025-05-03/
LOCATION:Sanctuary
END:VEVENT
BEGIN:VEVENT
DTSTART;TZID=America/New_York:20250502T183000
DTEND;TZID=America/New_York:20250502T183000
DTSTAMP:20260424T225434
CREATED:20250501T140617Z
LAST-MODIFIED:20250501T140617Z
UID:16684-1746210600-1746210600@towerlane.org
SUMMARY:Shabbat
DESCRIPTION:
URL:https://towerlane.org/event/shabbat-69/2025-05-02/
LOCATION:Sanctuary
END:VEVENT
BEGIN:VEVENT
DTSTART;TZID=America/New_York:20250502T140000
DTEND;TZID=America/New_York:20250502T140000
DTSTAMP:20260424T225434
CREATED:20250501T140538Z
LAST-MODIFIED:20250523T212801Z
UID:16678-1746194400-1746194400@towerlane.org
SUMMARY:Current Events
DESCRIPTION:Part of our Intellectual Pathway. Resident-led interactive discussion group.
URL:https://towerlane.org/event/current-events-32/2025-05-02/
LOCATION:Sanctuary
END:VEVENT
BEGIN:VEVENT
DTSTART;TZID=America/New_York:20250502T100000
DTEND;TZID=America/New_York:20250502T100000
DTSTAMP:20260424T225434
CREATED:20250501T140237Z
LAST-MODIFIED:20250501T140237Z
UID:16661-1746180000-1746180000@towerlane.org
SUMMARY:Interfaith Bible Study
DESCRIPTION:
URL:https://towerlane.org/event/interfaith-bible-study-4/2025-05-02/
LOCATION:Sanctuary
END:VEVENT
BEGIN:VEVENT
DTSTART;TZID=America/New_York:20250501T113000
DTEND;TZID=America/New_York:20250501T113000
DTSTAMP:20260424T225434
CREATED:20250501T135759Z
LAST-MODIFIED:20250501T135759Z
UID:16649-1746099000-1746099000@towerlane.org
SUMMARY:30 Minute Exercise
DESCRIPTION:
URL:https://towerlane.org/event/30-minute-exercise-9/
LOCATION:Sanctuary
END:VEVENT
BEGIN:VEVENT
DTSTART;TZID=America/New_York:20250430T140000
DTEND;TZID=America/New_York:20250430T140000
DTSTAMP:20260424T225434
CREATED:20250402T154705Z
LAST-MODIFIED:20250402T154705Z
UID:16528-1746021600-1746021600@towerlane.org
SUMMARY:Threading Through Time - The Towers Fashion Show
DESCRIPTION:
URL:https://towerlane.org/event/threading-through-time-the-towers-fashion-show/
LOCATION:Sanctuary
END:VEVENT
BEGIN:VEVENT
DTSTART;TZID=America/New_York:20250430T104500
DTEND;TZID=America/New_York:20250430T104500
DTSTAMP:20260424T225434
CREATED:20250402T145547Z
LAST-MODIFIED:20250402T145547Z
UID:16363-1746009900-1746009900@towerlane.org
SUMMARY:Chorus Rehearsal
DESCRIPTION:
URL:https://towerlane.org/event/chorus-rehearsal-21/2025-04-30/
LOCATION:Sanctuary
END:VEVENT
BEGIN:VEVENT
DTSTART;TZID=America/New_York:20250429T190000
DTEND;TZID=America/New_York:20250429T190000
DTSTAMP:20260424T225434
CREATED:20250402T154608Z
LAST-MODIFIED:20250402T154608Z
UID:16526-1745953200-1745953200@towerlane.org
SUMMARY:"Jack Benny's Bears" Hosted by Charles Rosenay
DESCRIPTION:
URL:https://towerlane.org/event/jack-bennys-bears-hosted-by-charles-rosenay/
LOCATION:Sanctuary
END:VEVENT
BEGIN:VEVENT
DTSTART;TZID=America/New_York:20250429T113000
DTEND;TZID=America/New_York:20250429T113000
DTSTAMP:20260424T225434
CREATED:20250402T144820Z
LAST-MODIFIED:20250402T144820Z
UID:16341-1745926200-1745926200@towerlane.org
SUMMARY:30 Minute Exercise
DESCRIPTION:
URL:https://towerlane.org/event/create-a-word-37/2025-04-29/
LOCATION:Sanctuary
END:VEVENT
BEGIN:VEVENT
DTSTART;TZID=America/New_York:20250428T140000
DTEND;TZID=America/New_York:20250428T140000
DTSTAMP:20260424T225434
CREATED:20250402T152143Z
LAST-MODIFIED:20250402T152143Z
UID:16466-1745848800-1745848800@towerlane.org
SUMMARY:Bingo
DESCRIPTION:
URL:https://towerlane.org/event/bingo-123/2025-04-28/
LOCATION:Sanctuary
END:VEVENT
BEGIN:VEVENT
DTSTART;TZID=America/New_York:20250427T190000
DTEND;TZID=America/New_York:20250427T190000
DTSTAMP:20260424T225434
CREATED:20250402T151755Z
LAST-MODIFIED:20250402T151755Z
UID:16446-1745780400-1745780400@towerlane.org
SUMMARY:Movie Night
DESCRIPTION:
URL:https://towerlane.org/event/movie-night-62/2025-04-27/
LOCATION:Sanctuary
END:VEVENT
BEGIN:VEVENT
DTSTART;TZID=America/New_York:20250426T190000
DTEND;TZID=America/New_York:20250426T190000
DTSTAMP:20260424T225434
CREATED:20250402T151442Z
LAST-MODIFIED:20250402T151442Z
UID:16437-1745694000-1745694000@towerlane.org
SUMMARY:Movie Night
DESCRIPTION:
URL:https://towerlane.org/event/movie-night-61/2025-04-26/
LOCATION:Sanctuary
END:VEVENT
BEGIN:VEVENT
DTSTART;TZID=America/New_York:20250426T140000
DTEND;TZID=America/New_York:20250426T140000
DTSTAMP:20260424T225434
CREATED:20250402T151240Z
LAST-MODIFIED:20250402T151240Z
UID:16431-1745676000-1745676000@towerlane.org
SUMMARY:Bingo
DESCRIPTION:
URL:https://towerlane.org/event/bingo-122/2025-04-26/
LOCATION:Sanctuary
END:VEVENT
BEGIN:VEVENT
DTSTART;TZID=America/New_York:20250426T100000
DTEND;TZID=America/New_York:20250426T100000
DTSTAMP:20260424T225434
CREATED:20250402T151148Z
LAST-MODIFIED:20250402T151148Z
UID:16426-1745661600-1745661600@towerlane.org
SUMMARY:Shabbat
DESCRIPTION:
URL:https://towerlane.org/event/shabbat-68/2025-04-26/
LOCATION:Sanctuary
END:VEVENT
BEGIN:VEVENT
DTSTART;TZID=America/New_York:20250425T183000
DTEND;TZID=America/New_York:20250425T183000
DTSTAMP:20260424T225434
CREATED:20250402T150859Z
LAST-MODIFIED:20250402T150859Z
UID:16417-1745605800-1745605800@towerlane.org
SUMMARY:Shabbat
DESCRIPTION:
URL:https://towerlane.org/event/shabbat-67/2025-04-25/
LOCATION:Sanctuary
END:VEVENT
BEGIN:VEVENT
DTSTART;TZID=America/New_York:20250425T140000
DTEND;TZID=America/New_York:20250425T140000
DTSTAMP:20260424T225434
CREATED:20250402T150756Z
LAST-MODIFIED:20250402T150756Z
UID:16412-1745589600-1745589600@towerlane.org
SUMMARY:Current Events
DESCRIPTION:
URL:https://towerlane.org/event/current-events-31/2025-04-25/
LOCATION:Sanctuary
END:VEVENT
BEGIN:VEVENT
DTSTART;TZID=America/New_York:20250424T110000
DTEND;TZID=America/New_York:20250424T110000
DTSTAMP:20260424T225434
CREATED:20250402T154246Z
LAST-MODIFIED:20250402T154246Z
UID:16518-1745492400-1745492400@towerlane.org
SUMMARY:Gus Town Hall Meeting
DESCRIPTION:
URL:https://towerlane.org/event/gus-town-hall-meeting-24/
LOCATION:Sanctuary
END:VEVENT
BEGIN:VEVENT
DTSTART;TZID=America/New_York:20250423T140000
DTEND;TZID=America/New_York:20250423T140000
DTSTAMP:20260424T225434
CREATED:20250402T145800Z
LAST-MODIFIED:20250402T145800Z
UID:16373-1745416800-1745416800@towerlane.org
SUMMARY:JFS Support Group
DESCRIPTION:
URL:https://towerlane.org/event/jfs-support-group-44/2025-04-23/
LOCATION:Sanctuary
END:VEVENT
BEGIN:VEVENT
DTSTART;TZID=America/New_York:20250423T130000
DTEND;TZID=America/New_York:20250423T130000
DTSTAMP:20260424T225434
CREATED:20250402T145657Z
LAST-MODIFIED:20250402T145657Z
UID:16368-1745413200-1745413200@towerlane.org
SUMMARY:Healthy & Fit
DESCRIPTION:
URL:https://towerlane.org/event/healthy-fit-60/2025-04-23/
LOCATION:Sanctuary
END:VEVENT
BEGIN:VEVENT
DTSTART;TZID=America/New_York:20250423T104500
DTEND;TZID=America/New_York:20250423T104500
DTSTAMP:20260424T225434
CREATED:20250402T145547Z
LAST-MODIFIED:20250402T145547Z
UID:16362-1745405100-1745405100@towerlane.org
SUMMARY:Chorus Rehearsal
DESCRIPTION:
URL:https://towerlane.org/event/chorus-rehearsal-21/2025-04-23/
LOCATION:Sanctuary
END:VEVENT
BEGIN:VEVENT
DTSTART;TZID=America/New_York:20250422T190000
DTEND;TZID=America/New_York:20250422T190000
DTSTAMP:20260424T225434
CREATED:20250402T154119Z
LAST-MODIFIED:20250402T154119Z
UID:16514-1745348400-1745348400@towerlane.org
SUMMARY:Lecture Screening: "Your Inner Monkey" with Neil Shubin
DESCRIPTION:
URL:https://towerlane.org/event/lecture-screening-your-inner-monkey-with-neil-shubin/
LOCATION:Sanctuary
END:VEVENT
BEGIN:VEVENT
DTSTART;TZID=America/New_York:20250422T113000
DTEND;TZID=America/New_York:20250422T113000
DTSTAMP:20260424T225434
CREATED:20250402T144820Z
LAST-MODIFIED:20250402T144820Z
UID:16340-1745321400-1745321400@towerlane.org
SUMMARY:30 Minute Exercise
DESCRIPTION:
URL:https://towerlane.org/event/create-a-word-37/2025-04-22/
LOCATION:Sanctuary
END:VEVENT
BEGIN:VEVENT
DTSTART;TZID=America/New_York:20250421T140000
DTEND;TZID=America/New_York:20250421T140000
DTSTAMP:20260424T225434
CREATED:20250402T152143Z
LAST-MODIFIED:20250402T152143Z
UID:16465-1745244000-1745244000@towerlane.org
SUMMARY:Bingo
DESCRIPTION:
URL:https://towerlane.org/event/bingo-123/2025-04-21/
LOCATION:Sanctuary
END:VEVENT
BEGIN:VEVENT
DTSTART;TZID=America/New_York:20250420T190000
DTEND;TZID=America/New_York:20250420T190000
DTSTAMP:20260424T225434
CREATED:20250402T151755Z
LAST-MODIFIED:20250402T151755Z
UID:16445-1745175600-1745175600@towerlane.org
SUMMARY:Movie Night
DESCRIPTION:
URL:https://towerlane.org/event/movie-night-62/2025-04-20/
LOCATION:Sanctuary
END:VEVENT
END:VCALENDAR