BEGIN:VCALENDAR
VERSION:2.0
PRODID:-//The Towers - ECPv6.10.3//NONSGML v1.0//EN
CALSCALE:GREGORIAN
METHOD:PUBLISH
X-WR-CALNAME:The Towers
X-ORIGINAL-URL:https://towerlane.org
X-WR-CALDESC:Events for The Towers
REFRESH-INTERVAL;VALUE=DURATION:PT1H
X-Robots-Tag:noindex
X-PUBLISHED-TTL:PT1H
BEGIN:VTIMEZONE
TZID:America/New_York
BEGIN:DAYLIGHT
TZOFFSETFROM:-0500
TZOFFSETTO:-0400
TZNAME:EDT
DTSTART:20250309T070000
END:DAYLIGHT
BEGIN:STANDARD
TZOFFSETFROM:-0400
TZOFFSETTO:-0500
TZNAME:EST
DTSTART:20251102T060000
END:STANDARD
END:VTIMEZONE
BEGIN:VEVENT
DTSTART;TZID=America/New_York:20250319T104500
DTEND;TZID=America/New_York:20250319T104500
DTSTAMP:20260425T110003
CREATED:20250304T174856Z
LAST-MODIFIED:20250304T174856Z
UID:16199-1742381100-1742381100@towerlane.org
SUMMARY:Chorus Rehearsal
DESCRIPTION:
URL:https://towerlane.org/event/chorus-rehearsal-20/2025-03-19/
LOCATION:Sanctuary
END:VEVENT
BEGIN:VEVENT
DTSTART;TZID=America/New_York:20250318T190000
DTEND;TZID=America/New_York:20250318T190000
DTSTAMP:20260425T110003
CREATED:20250305T185554Z
LAST-MODIFIED:20250305T185554Z
UID:16299-1742324400-1742324400@towerlane.org
SUMMARY:Movie and Discussion with Jim Brochin
DESCRIPTION:
URL:https://towerlane.org/event/movie-and-discussion-with-jim-brochin-32/
LOCATION:Sanctuary
END:VEVENT
BEGIN:VEVENT
DTSTART;TZID=America/New_York:20250318T113000
DTEND;TZID=America/New_York:20250318T113000
DTSTAMP:20260425T110003
CREATED:20250304T174504Z
LAST-MODIFIED:20250304T174504Z
UID:16185-1742297400-1742297400@towerlane.org
SUMMARY:30 Minute Exercise
DESCRIPTION:
URL:https://towerlane.org/event/30-minute-exercise-8/2025-03-18/
LOCATION:Sanctuary
END:VEVENT
BEGIN:VEVENT
DTSTART;TZID=America/New_York:20250317T020000
DTEND;TZID=America/New_York:20250317T140000
DTSTAMP:20260425T110003
CREATED:20250304T174055Z
LAST-MODIFIED:20250304T174055Z
UID:16166-1742176800-1742220000@towerlane.org
SUMMARY:Bingo
DESCRIPTION:
URL:https://towerlane.org/event/bingo-121/2025-03-17/
LOCATION:Sanctuary
END:VEVENT
BEGIN:VEVENT
DTSTART;TZID=America/New_York:20250316T190000
DTEND;TZID=America/New_York:20250316T190000
DTSTAMP:20260425T110003
CREATED:20250304T172931Z
LAST-MODIFIED:20250304T172931Z
UID:16131-1742151600-1742151600@towerlane.org
SUMMARY:Movie Night
DESCRIPTION:
URL:https://towerlane.org/event/movie-night-60/2025-03-16/
LOCATION:Sanctuary
END:VEVENT
BEGIN:VEVENT
DTSTART;TZID=America/New_York:20250315T190000
DTEND;TZID=America/New_York:20250315T190000
DTSTAMP:20260425T110003
CREATED:20250304T172656Z
LAST-MODIFIED:20250304T172656Z
UID:16123-1742065200-1742065200@towerlane.org
SUMMARY:Movie Night
DESCRIPTION:
URL:https://towerlane.org/event/movie-night-59/2025-03-15/
LOCATION:Sanctuary
END:VEVENT
BEGIN:VEVENT
DTSTART;TZID=America/New_York:20250315T140000
DTEND;TZID=America/New_York:20250315T140000
DTSTAMP:20260425T110003
CREATED:20250304T172523Z
LAST-MODIFIED:20250304T172523Z
UID:16117-1742047200-1742047200@towerlane.org
SUMMARY:Bingo
DESCRIPTION:
URL:https://towerlane.org/event/bingo-120/2025-03-15/
LOCATION:Sanctuary
END:VEVENT
BEGIN:VEVENT
DTSTART;TZID=America/New_York:20250315T100000
DTEND;TZID=America/New_York:20250315T100000
DTSTAMP:20260425T110003
CREATED:20250304T172323Z
LAST-MODIFIED:20250304T172323Z
UID:16109-1742032800-1742032800@towerlane.org
SUMMARY:Shabbat
DESCRIPTION:
URL:https://towerlane.org/event/shabbat-65/2025-03-15/
LOCATION:Sanctuary
END:VEVENT
BEGIN:VEVENT
DTSTART;TZID=America/New_York:20250314T183000
DTEND;TZID=America/New_York:20250314T183000
DTSTAMP:20260425T110003
CREATED:20250304T180311Z
LAST-MODIFIED:20250304T180311Z
UID:16247-1741977000-1741977000@towerlane.org
SUMMARY:Shabbat
DESCRIPTION:
URL:https://towerlane.org/event/shabbat-66/2025-03-14/
LOCATION:Sanctuary
END:VEVENT
BEGIN:VEVENT
DTSTART;TZID=America/New_York:20250314T140000
DTEND;TZID=America/New_York:20250314T140000
DTSTAMP:20260425T110003
CREATED:20250304T180224Z
LAST-MODIFIED:20250304T180224Z
UID:16242-1741960800-1741960800@towerlane.org
SUMMARY:Current Events
DESCRIPTION:
URL:https://towerlane.org/event/current-events-30/2025-03-14/
LOCATION:Sanctuary
END:VEVENT
BEGIN:VEVENT
DTSTART;TZID=America/New_York:20250313T190000
DTEND;TZID=America/New_York:20250313T190000
DTSTAMP:20260425T110003
CREATED:20250305T185211Z
LAST-MODIFIED:20250305T185211Z
UID:16291-1741892400-1741892400@towerlane.org
SUMMARY:Mulkerin School of Irish Dance
DESCRIPTION:
URL:https://towerlane.org/event/mulkerin-school-of-irish-dance-3/
LOCATION:Sanctuary
END:VEVENT
BEGIN:VEVENT
DTSTART;TZID=America/New_York:20250313T140000
DTEND;TZID=America/New_York:20250313T140000
DTSTAMP:20260425T110003
CREATED:20250305T185036Z
LAST-MODIFIED:20250305T185036Z
UID:16285-1741874400-1741874400@towerlane.org
SUMMARY:Purim Service
DESCRIPTION:
URL:https://towerlane.org/event/purim-service/
LOCATION:Sanctuary
END:VEVENT
BEGIN:VEVENT
DTSTART;TZID=America/New_York:20250312T140000
DTEND;TZID=America/New_York:20250312T140000
DTSTAMP:20260425T110003
CREATED:20250304T175143Z
LAST-MODIFIED:20250304T175143Z
UID:16207-1741788000-1741788000@towerlane.org
SUMMARY:JFS Support Group
DESCRIPTION:
URL:https://towerlane.org/event/jfs-support-group-42/2025-03-12/
LOCATION:Sanctuary
END:VEVENT
BEGIN:VEVENT
DTSTART;TZID=America/New_York:20250312T130000
DTEND;TZID=America/New_York:20250312T130000
DTSTAMP:20260425T110003
CREATED:20250304T175024Z
LAST-MODIFIED:20250304T175024Z
UID:16203-1741784400-1741784400@towerlane.org
SUMMARY:Healthy & Fit
DESCRIPTION:
URL:https://towerlane.org/event/healthy-fit-59/2025-03-12/
LOCATION:Sanctuary
END:VEVENT
BEGIN:VEVENT
DTSTART;TZID=America/New_York:20250312T104500
DTEND;TZID=America/New_York:20250312T104500
DTSTAMP:20260425T110003
CREATED:20250304T174856Z
LAST-MODIFIED:20250304T174856Z
UID:16198-1741776300-1741776300@towerlane.org
SUMMARY:Chorus Rehearsal
DESCRIPTION:
URL:https://towerlane.org/event/chorus-rehearsal-20/2025-03-12/
LOCATION:Sanctuary
END:VEVENT
BEGIN:VEVENT
DTSTART;TZID=America/New_York:20250311T190000
DTEND;TZID=America/New_York:20250311T190000
DTSTAMP:20260425T110003
CREATED:20250305T184735Z
LAST-MODIFIED:20250305T184735Z
UID:16279-1741719600-1741719600@towerlane.org
SUMMARY:Lecture Screening: "Until the End of Time:" Brian Greene in Conversation with Janna Levin
DESCRIPTION:
URL:https://towerlane.org/event/lecture-screening-until-the-end-of-time-brian-greene-in-conversation-with-janna-levin/
LOCATION:Sanctuary
END:VEVENT
BEGIN:VEVENT
DTSTART;TZID=America/New_York:20250311T113000
DTEND;TZID=America/New_York:20250311T113000
DTSTAMP:20260425T110003
CREATED:20250304T174504Z
LAST-MODIFIED:20250304T174504Z
UID:16184-1741692600-1741692600@towerlane.org
SUMMARY:30 Minute Exercise
DESCRIPTION:
URL:https://towerlane.org/event/30-minute-exercise-8/2025-03-11/
LOCATION:Sanctuary
END:VEVENT
BEGIN:VEVENT
DTSTART;TZID=America/New_York:20250310T020000
DTEND;TZID=America/New_York:20250310T140000
DTSTAMP:20260425T110003
CREATED:20250304T174055Z
LAST-MODIFIED:20250304T174055Z
UID:16165-1741572000-1741615200@towerlane.org
SUMMARY:Bingo
DESCRIPTION:
URL:https://towerlane.org/event/bingo-121/2025-03-10/
LOCATION:Sanctuary
END:VEVENT
BEGIN:VEVENT
DTSTART;TZID=America/New_York:20250309T190000
DTEND;TZID=America/New_York:20250309T190000
DTSTAMP:20260425T110003
CREATED:20250304T172931Z
LAST-MODIFIED:20250304T172931Z
UID:16130-1741546800-1741546800@towerlane.org
SUMMARY:Movie Night
DESCRIPTION:
URL:https://towerlane.org/event/movie-night-60/2025-03-09/
LOCATION:Sanctuary
END:VEVENT
BEGIN:VEVENT
DTSTART;TZID=America/New_York:20250309T130000
DTEND;TZID=America/New_York:20250309T150000
DTSTAMP:20260425T110003
CREATED:20250305T184335Z
LAST-MODIFIED:20250305T184335Z
UID:16275-1741525200-1741532400@towerlane.org
SUMMARY:Game Day
DESCRIPTION:
URL:https://towerlane.org/event/game-day/
LOCATION:Sanctuary
END:VEVENT
BEGIN:VEVENT
DTSTART;TZID=America/New_York:20250308T190000
DTEND;TZID=America/New_York:20250308T190000
DTSTAMP:20260425T110003
CREATED:20250304T172656Z
LAST-MODIFIED:20250304T172656Z
UID:16122-1741460400-1741460400@towerlane.org
SUMMARY:Movie Night
DESCRIPTION:
URL:https://towerlane.org/event/movie-night-59/2025-03-08/
LOCATION:Sanctuary
END:VEVENT
BEGIN:VEVENT
DTSTART;TZID=America/New_York:20250308T140000
DTEND;TZID=America/New_York:20250308T140000
DTSTAMP:20260425T110003
CREATED:20250304T172523Z
LAST-MODIFIED:20250304T172523Z
UID:16116-1741442400-1741442400@towerlane.org
SUMMARY:Bingo
DESCRIPTION:
URL:https://towerlane.org/event/bingo-120/2025-03-08/
LOCATION:Sanctuary
END:VEVENT
BEGIN:VEVENT
DTSTART;TZID=America/New_York:20250308T100000
DTEND;TZID=America/New_York:20250308T100000
DTSTAMP:20260425T110003
CREATED:20250304T172323Z
LAST-MODIFIED:20250304T172323Z
UID:16108-1741428000-1741428000@towerlane.org
SUMMARY:Shabbat
DESCRIPTION:
URL:https://towerlane.org/event/shabbat-65/2025-03-08/
LOCATION:Sanctuary
END:VEVENT
BEGIN:VEVENT
DTSTART;TZID=America/New_York:20250307T183000
DTEND;TZID=America/New_York:20250307T183000
DTSTAMP:20260425T110003
CREATED:20250304T180311Z
LAST-MODIFIED:20250304T180311Z
UID:16246-1741372200-1741372200@towerlane.org
SUMMARY:Shabbat
DESCRIPTION:
URL:https://towerlane.org/event/shabbat-66/
LOCATION:Sanctuary
END:VEVENT
BEGIN:VEVENT
DTSTART;TZID=America/New_York:20250307T140000
DTEND;TZID=America/New_York:20250307T140000
DTSTAMP:20260425T110003
CREATED:20250304T180224Z
LAST-MODIFIED:20250304T180224Z
UID:16241-1741356000-1741356000@towerlane.org
SUMMARY:Current Events
DESCRIPTION:
URL:https://towerlane.org/event/current-events-30/
LOCATION:Sanctuary
END:VEVENT
BEGIN:VEVENT
DTSTART;TZID=America/New_York:20250306T130000
DTEND;TZID=America/New_York:20250306T130000
DTSTAMP:20260425T110003
CREATED:20250304T175529Z
LAST-MODIFIED:20250304T175529Z
UID:16216-1741266000-1741266000@towerlane.org
SUMMARY:Catholic Mass
DESCRIPTION:
URL:https://towerlane.org/event/catholic-mass-62/
LOCATION:Sanctuary
END:VEVENT
BEGIN:VEVENT
DTSTART;TZID=America/New_York:20250305T140000
DTEND;TZID=America/New_York:20250305T140000
DTSTAMP:20260425T110003
CREATED:20250304T175143Z
LAST-MODIFIED:20250304T175143Z
UID:16206-1741183200-1741183200@towerlane.org
SUMMARY:JFS Support Group
DESCRIPTION:
URL:https://towerlane.org/event/jfs-support-group-42/
LOCATION:Sanctuary
END:VEVENT
BEGIN:VEVENT
DTSTART;TZID=America/New_York:20250305T130000
DTEND;TZID=America/New_York:20250305T130000
DTSTAMP:20260425T110003
CREATED:20250304T175024Z
LAST-MODIFIED:20250304T175024Z
UID:16202-1741179600-1741179600@towerlane.org
SUMMARY:Healthy & Fit
DESCRIPTION:
URL:https://towerlane.org/event/healthy-fit-59/
LOCATION:Sanctuary
END:VEVENT
BEGIN:VEVENT
DTSTART;TZID=America/New_York:20250305T104500
DTEND;TZID=America/New_York:20250305T104500
DTSTAMP:20260425T110003
CREATED:20250304T174856Z
LAST-MODIFIED:20250304T174856Z
UID:16197-1741171500-1741171500@towerlane.org
SUMMARY:Chorus Rehearsal
DESCRIPTION:
URL:https://towerlane.org/event/chorus-rehearsal-20/
LOCATION:Sanctuary
END:VEVENT
BEGIN:VEVENT
DTSTART;TZID=America/New_York:20250304T190000
DTEND;TZID=America/New_York:20250304T190000
DTSTAMP:20260425T110003
CREATED:20250304T174727Z
LAST-MODIFIED:20250304T174727Z
UID:16195-1741114800-1741114800@towerlane.org
SUMMARY:Movie and Discussion with Jim Brochin
DESCRIPTION:
URL:https://towerlane.org/event/movie-and-discussion-with-jim-brochin-31/
LOCATION:Sanctuary
END:VEVENT
END:VCALENDAR