BEGIN:VCALENDAR
VERSION:2.0
PRODID:-//The Towers - ECPv6.10.3//NONSGML v1.0//EN
CALSCALE:GREGORIAN
METHOD:PUBLISH
X-ORIGINAL-URL:https://towerlane.org
X-WR-CALDESC:Events for The Towers
REFRESH-INTERVAL;VALUE=DURATION:PT1H
X-Robots-Tag:noindex
X-PUBLISHED-TTL:PT1H
BEGIN:VTIMEZONE
TZID:America/New_York
BEGIN:DAYLIGHT
TZOFFSETFROM:-0500
TZOFFSETTO:-0400
TZNAME:EDT
DTSTART:20250309T070000
END:DAYLIGHT
BEGIN:STANDARD
TZOFFSETFROM:-0400
TZOFFSETTO:-0500
TZNAME:EST
DTSTART:20251102T060000
END:STANDARD
END:VTIMEZONE
BEGIN:VEVENT
DTSTART;TZID=America/New_York:20250122T104500
DTEND;TZID=America/New_York:20250122T104500
DTSTAMP:20260425T115246
CREATED:20241231T165453Z
LAST-MODIFIED:20241231T165453Z
UID:15115-1737542700-1737542700@towerlane.org
SUMMARY:Chorus Rehearsal
DESCRIPTION:
URL:https://towerlane.org/event/chorus-rehearsal-18/2025-01-22/
LOCATION:Solarium
END:VEVENT
BEGIN:VEVENT
DTSTART;TZID=America/New_York:20250121T113000
DTEND;TZID=America/New_York:20250121T113000
DTSTAMP:20260425T115246
CREATED:20241231T164858Z
LAST-MODIFIED:20241231T164858Z
UID:15100-1737459000-1737459000@towerlane.org
SUMMARY:30 Minute Exercise
DESCRIPTION:
URL:https://towerlane.org/event/30-minute-exercise-5/2025-01-21/
LOCATION:Solarium
END:VEVENT
BEGIN:VEVENT
DTSTART;TZID=America/New_York:20250120T140000
DTEND;TZID=America/New_York:20250120T140000
DTSTAMP:20260425T115246
CREATED:20241231T164522Z
LAST-MODIFIED:20241231T164522Z
UID:15089-1737381600-1737381600@towerlane.org
SUMMARY:Bingo
DESCRIPTION:
URL:https://towerlane.org/event/bingo-117/2025-01-20/
LOCATION:Solarium
END:VEVENT
BEGIN:VEVENT
DTSTART;TZID=America/New_York:20250120T111500
DTEND;TZID=America/New_York:20250120T111500
DTSTAMP:20260425T115246
CREATED:20241231T164307Z
LAST-MODIFIED:20241231T164307Z
UID:15079-1737371700-1737371700@towerlane.org
SUMMARY:Creative Art
DESCRIPTION:
URL:https://towerlane.org/event/creative-art-28/2025-01-20/
LOCATION:Solarium
END:VEVENT
BEGIN:VEVENT
DTSTART;TZID=America/New_York:20250118T140000
DTEND;TZID=America/New_York:20250118T140000
DTSTAMP:20260425T115246
CREATED:20241231T163717Z
LAST-MODIFIED:20241231T163717Z
UID:15059-1737208800-1737208800@towerlane.org
SUMMARY:Bingo
DESCRIPTION:
URL:https://towerlane.org/event/bingo-116/2025-01-18/
LOCATION:Solarium
END:VEVENT
BEGIN:VEVENT
DTSTART;TZID=America/New_York:20250118T100000
DTEND;TZID=America/New_York:20250118T100000
DTSTAMP:20260425T115246
CREATED:20241231T163425Z
LAST-MODIFIED:20241231T163425Z
UID:15053-1737194400-1737194400@towerlane.org
SUMMARY:Shabbat
DESCRIPTION:
URL:https://towerlane.org/event/shabbat-62/2025-01-18/
LOCATION:Solarium
END:VEVENT
BEGIN:VEVENT
DTSTART;TZID=America/New_York:20250117T183000
DTEND;TZID=America/New_York:20250117T183000
DTSTAMP:20260425T115246
CREATED:20241231T163131Z
LAST-MODIFIED:20241231T163131Z
UID:15045-1737138600-1737138600@towerlane.org
SUMMARY:Shabbat
DESCRIPTION:
URL:https://towerlane.org/event/shabbat-61/2025-01-17/
LOCATION:Solarium
END:VEVENT
BEGIN:VEVENT
DTSTART;TZID=America/New_York:20250117T140000
DTEND;TZID=America/New_York:20250117T140000
DTSTAMP:20260425T115246
CREATED:20241231T163027Z
LAST-MODIFIED:20241231T163027Z
UID:15039-1737122400-1737122400@towerlane.org
SUMMARY:Current Events
DESCRIPTION:
URL:https://towerlane.org/event/current-events-28/2025-01-17/
LOCATION:Solarium
END:VEVENT
BEGIN:VEVENT
DTSTART;TZID=America/New_York:20250117T110000
DTEND;TZID=America/New_York:20250117T110000
DTSTAMP:20260425T115246
CREATED:20241231T162802Z
LAST-MODIFIED:20241231T162802Z
UID:15027-1737111600-1737111600@towerlane.org
SUMMARY:Knitting Group
DESCRIPTION:
URL:https://towerlane.org/event/knitting-group-66/2025-01-17/
LOCATION:Solarium
END:VEVENT
BEGIN:VEVENT
DTSTART;TZID=America/New_York:20250116T140000
DTEND;TZID=America/New_York:20250116T140000
DTSTAMP:20260425T115246
CREATED:20241231T175507Z
LAST-MODIFIED:20241231T175507Z
UID:15151-1737036000-1737036000@towerlane.org
SUMMARY:Tenant Council Meeting
DESCRIPTION:
URL:https://towerlane.org/event/tenant-council-meeting-29/
LOCATION:Solarium
END:VEVENT
BEGIN:VEVENT
DTSTART;TZID=America/New_York:20250115T104500
DTEND;TZID=America/New_York:20250115T104500
DTSTAMP:20260425T115246
CREATED:20241231T165453Z
LAST-MODIFIED:20241231T165453Z
UID:15114-1736937900-1736937900@towerlane.org
SUMMARY:Chorus Rehearsal
DESCRIPTION:
URL:https://towerlane.org/event/chorus-rehearsal-18/2025-01-15/
LOCATION:Solarium
END:VEVENT
BEGIN:VEVENT
DTSTART;TZID=America/New_York:20250114T130000
DTEND;TZID=America/New_York:20250114T130000
DTSTAMP:20260425T115246
CREATED:20241231T165110Z
LAST-MODIFIED:20241231T165110Z
UID:15104-1736859600-1736859600@towerlane.org
SUMMARY:Interactive Music
DESCRIPTION:
URL:https://towerlane.org/event/interactive-music-31/2025-01-14/
LOCATION:Solarium
END:VEVENT
BEGIN:VEVENT
DTSTART;TZID=America/New_York:20250113T140000
DTEND;TZID=America/New_York:20250113T140000
DTSTAMP:20260425T115246
CREATED:20241231T164522Z
LAST-MODIFIED:20241231T164522Z
UID:15088-1736776800-1736776800@towerlane.org
SUMMARY:Bingo
DESCRIPTION:
URL:https://towerlane.org/event/bingo-117/2025-01-13/
LOCATION:Solarium
END:VEVENT
BEGIN:VEVENT
DTSTART;TZID=America/New_York:20250113T111500
DTEND;TZID=America/New_York:20250113T111500
DTSTAMP:20260425T115246
CREATED:20241231T164307Z
LAST-MODIFIED:20241231T164307Z
UID:15078-1736766900-1736766900@towerlane.org
SUMMARY:Creative Art
DESCRIPTION:
URL:https://towerlane.org/event/creative-art-28/2025-01-13/
LOCATION:Solarium
END:VEVENT
BEGIN:VEVENT
DTSTART;TZID=America/New_York:20250111T140000
DTEND;TZID=America/New_York:20250111T140000
DTSTAMP:20260425T115246
CREATED:20241231T163717Z
LAST-MODIFIED:20241231T163717Z
UID:15058-1736604000-1736604000@towerlane.org
SUMMARY:Bingo
DESCRIPTION:
URL:https://towerlane.org/event/bingo-116/2025-01-11/
LOCATION:Solarium
END:VEVENT
BEGIN:VEVENT
DTSTART;TZID=America/New_York:20250111T100000
DTEND;TZID=America/New_York:20250111T100000
DTSTAMP:20260425T115246
CREATED:20241231T163425Z
LAST-MODIFIED:20241231T163425Z
UID:15052-1736589600-1736589600@towerlane.org
SUMMARY:Shabbat
DESCRIPTION:
URL:https://towerlane.org/event/shabbat-62/2025-01-11/
LOCATION:Solarium
END:VEVENT
BEGIN:VEVENT
DTSTART;TZID=America/New_York:20250110T183000
DTEND;TZID=America/New_York:20250110T183000
DTSTAMP:20260425T115246
CREATED:20241231T163131Z
LAST-MODIFIED:20241231T163131Z
UID:15044-1736533800-1736533800@towerlane.org
SUMMARY:Shabbat
DESCRIPTION:
URL:https://towerlane.org/event/shabbat-61/2025-01-10/
LOCATION:Solarium
END:VEVENT
BEGIN:VEVENT
DTSTART;TZID=America/New_York:20250110T140000
DTEND;TZID=America/New_York:20250110T140000
DTSTAMP:20260425T115246
CREATED:20241231T163027Z
LAST-MODIFIED:20241231T163027Z
UID:15038-1736517600-1736517600@towerlane.org
SUMMARY:Current Events
DESCRIPTION:
URL:https://towerlane.org/event/current-events-28/2025-01-10/
LOCATION:Solarium
END:VEVENT
BEGIN:VEVENT
DTSTART;TZID=America/New_York:20250110T110000
DTEND;TZID=America/New_York:20250110T110000
DTSTAMP:20260425T115246
CREATED:20241231T162802Z
LAST-MODIFIED:20241231T162802Z
UID:15026-1736506800-1736506800@towerlane.org
SUMMARY:Knitting Group
DESCRIPTION:
URL:https://towerlane.org/event/knitting-group-66/2025-01-10/
LOCATION:Solarium
END:VEVENT
BEGIN:VEVENT
DTSTART;TZID=America/New_York:20250109T130000
DTEND;TZID=America/New_York:20250109T130000
DTSTAMP:20260425T115246
CREATED:20241231T171012Z
LAST-MODIFIED:20241231T171012Z
UID:15133-1736427600-1736427600@towerlane.org
SUMMARY:Health Talk with Ali and Dean
DESCRIPTION:
URL:https://towerlane.org/event/health-talk-with-ali-and-dean/
LOCATION:Solarium
END:VEVENT
BEGIN:VEVENT
DTSTART;TZID=America/New_York:20250108T190000
DTEND;TZID=America/New_York:20250108T190000
DTSTAMP:20260425T115246
CREATED:20241231T165813Z
LAST-MODIFIED:20241231T165813Z
UID:15129-1736362800-1736362800@towerlane.org
SUMMARY:Classic Movie Bingo
DESCRIPTION:
URL:https://towerlane.org/event/classic-movie-bingo/
LOCATION:Solarium
END:VEVENT
BEGIN:VEVENT
DTSTART;TZID=America/New_York:20250108T130000
DTEND;TZID=America/New_York:20250108T130000
DTSTAMP:20260425T115246
CREATED:20241231T165641Z
LAST-MODIFIED:20241231T165641Z
UID:15120-1736341200-1736341200@towerlane.org
SUMMARY:Healthy & Fit
DESCRIPTION:
URL:https://towerlane.org/event/healthy-fit-57/
LOCATION:Solarium
END:VEVENT
BEGIN:VEVENT
DTSTART;TZID=America/New_York:20250108T104500
DTEND;TZID=America/New_York:20250108T104500
DTSTAMP:20260425T115246
CREATED:20241231T165453Z
LAST-MODIFIED:20241231T165453Z
UID:15113-1736333100-1736333100@towerlane.org
SUMMARY:Chorus Rehearsal
DESCRIPTION:
URL:https://towerlane.org/event/chorus-rehearsal-18/
LOCATION:Solarium
END:VEVENT
BEGIN:VEVENT
DTSTART;TZID=America/New_York:20250107T130000
DTEND;TZID=America/New_York:20250107T130000
DTSTAMP:20260425T115246
CREATED:20241231T165110Z
LAST-MODIFIED:20241231T165110Z
UID:15103-1736254800-1736254800@towerlane.org
SUMMARY:Interactive Music
DESCRIPTION:
URL:https://towerlane.org/event/interactive-music-31/
LOCATION:Solarium
END:VEVENT
BEGIN:VEVENT
DTSTART;TZID=America/New_York:20250107T113000
DTEND;TZID=America/New_York:20250107T113000
DTSTAMP:20260425T115246
CREATED:20241231T164858Z
LAST-MODIFIED:20241231T164858Z
UID:15099-1736249400-1736249400@towerlane.org
SUMMARY:30 Minute Exercise
DESCRIPTION:
URL:https://towerlane.org/event/30-minute-exercise-5/
LOCATION:Solarium
END:VEVENT
BEGIN:VEVENT
DTSTART;TZID=America/New_York:20250106T140000
DTEND;TZID=America/New_York:20250106T140000
DTSTAMP:20260425T115246
CREATED:20241231T164522Z
LAST-MODIFIED:20241231T164522Z
UID:15087-1736172000-1736172000@towerlane.org
SUMMARY:Bingo
DESCRIPTION:
URL:https://towerlane.org/event/bingo-117/
LOCATION:Solarium
END:VEVENT
BEGIN:VEVENT
DTSTART;TZID=America/New_York:20250106T111500
DTEND;TZID=America/New_York:20250106T111500
DTSTAMP:20260425T115246
CREATED:20241231T164307Z
LAST-MODIFIED:20241231T164307Z
UID:15077-1736162100-1736162100@towerlane.org
SUMMARY:Creative Art
DESCRIPTION:
URL:https://towerlane.org/event/creative-art-28/
LOCATION:Solarium
END:VEVENT
BEGIN:VEVENT
DTSTART;TZID=America/New_York:20250104T140000
DTEND;TZID=America/New_York:20250104T140000
DTSTAMP:20260425T115246
CREATED:20241231T163717Z
LAST-MODIFIED:20241231T163717Z
UID:15057-1735999200-1735999200@towerlane.org
SUMMARY:Bingo
DESCRIPTION:
URL:https://towerlane.org/event/bingo-116/
LOCATION:Solarium
END:VEVENT
BEGIN:VEVENT
DTSTART;TZID=America/New_York:20250104T100000
DTEND;TZID=America/New_York:20250104T100000
DTSTAMP:20260425T115246
CREATED:20241231T163425Z
LAST-MODIFIED:20241231T163425Z
UID:15051-1735984800-1735984800@towerlane.org
SUMMARY:Shabbat
DESCRIPTION:
URL:https://towerlane.org/event/shabbat-62/
LOCATION:Solarium
END:VEVENT
BEGIN:VEVENT
DTSTART;TZID=America/New_York:20250103T183000
DTEND;TZID=America/New_York:20250103T183000
DTSTAMP:20260425T115246
CREATED:20241231T163131Z
LAST-MODIFIED:20241231T163131Z
UID:15043-1735929000-1735929000@towerlane.org
SUMMARY:Shabbat
DESCRIPTION:
URL:https://towerlane.org/event/shabbat-61/
LOCATION:Solarium
END:VEVENT
END:VCALENDAR