BEGIN:VCALENDAR
VERSION:2.0
PRODID:-//The Towers - ECPv6.10.3//NONSGML v1.0//EN
CALSCALE:GREGORIAN
METHOD:PUBLISH
X-WR-CALNAME:The Towers
X-ORIGINAL-URL:https://towerlane.org
X-WR-CALDESC:Events for The Towers
REFRESH-INTERVAL;VALUE=DURATION:PT1H
X-Robots-Tag:noindex
X-PUBLISHED-TTL:PT1H
BEGIN:VTIMEZONE
TZID:America/New_York
BEGIN:DAYLIGHT
TZOFFSETFROM:-0500
TZOFFSETTO:-0400
TZNAME:EDT
DTSTART:20240310T070000
END:DAYLIGHT
BEGIN:STANDARD
TZOFFSETFROM:-0400
TZOFFSETTO:-0500
TZNAME:EST
DTSTART:20241103T060000
END:STANDARD
END:VTIMEZONE
BEGIN:VEVENT
DTSTART;TZID=America/New_York:20241220T184500
DTEND;TZID=America/New_York:20241220T184500
DTSTAMP:20260425T174611
CREATED:20241202T193800Z
LAST-MODIFIED:20241202T193800Z
UID:14856-1734720300-1734720300@towerlane.org
SUMMARY:Shabbat
DESCRIPTION:
URL:https://towerlane.org/event/shabbat-59/2024-12-20/
LOCATION:Solarium
END:VEVENT
BEGIN:VEVENT
DTSTART;TZID=America/New_York:20241220T110000
DTEND;TZID=America/New_York:20241220T110000
DTSTAMP:20260425T174611
CREATED:20241202T193407Z
LAST-MODIFIED:20241202T193407Z
UID:14843-1734692400-1734692400@towerlane.org
SUMMARY:Knitting Group
DESCRIPTION:
URL:https://towerlane.org/event/knitting-group-65/2024-12-20/
LOCATION:Solarium
END:VEVENT
BEGIN:VEVENT
DTSTART;TZID=America/New_York:20241219T130000
DTEND;TZID=America/New_York:20241219T130000
DTSTAMP:20260425T174611
CREATED:20241202T195449Z
LAST-MODIFIED:20241202T195449Z
UID:14900-1734613200-1734613200@towerlane.org
SUMMARY:Catholic Mass
DESCRIPTION:
URL:https://towerlane.org/event/catholic-mass-58/
LOCATION:Solarium
END:VEVENT
BEGIN:VEVENT
DTSTART;TZID=America/New_York:20241219T110000
DTEND;TZID=America/New_York:20241219T110000
DTSTAMP:20260425T174611
CREATED:20241202T195412Z
LAST-MODIFIED:20241202T195412Z
UID:14898-1734606000-1734606000@towerlane.org
SUMMARY:Gus Town Hall Meeting
DESCRIPTION:
URL:https://towerlane.org/event/gus-town-hall-meeting-20/
LOCATION:Solarium
END:VEVENT
BEGIN:VEVENT
DTSTART;TZID=America/New_York:20241218T190000
DTEND;TZID=America/New_York:20241218T190000
DTSTAMP:20260425T174611
CREATED:20241202T195317Z
LAST-MODIFIED:20241202T195317Z
UID:14896-1734548400-1734548400@towerlane.org
SUMMARY:"Who Sleighed Santa?" - Interactive Christmas Mystery Show\, Hosted by Charles Rosenay
DESCRIPTION:
URL:https://towerlane.org/event/who-sleighed-santa-interactive-christmas-mystery-show-hosted-by-charles-rosenay/
LOCATION:Solarium
END:VEVENT
BEGIN:VEVENT
DTSTART;TZID=America/New_York:20241218T130000
DTEND;TZID=America/New_York:20241218T130000
DTSTAMP:20260425T174611
CREATED:20241202T192552Z
LAST-MODIFIED:20241202T192552Z
UID:14818-1734526800-1734526800@towerlane.org
SUMMARY:Healthy & Fit
DESCRIPTION:
URL:https://towerlane.org/event/healthy-fit-55/2024-12-18/
LOCATION:Solarium
END:VEVENT
BEGIN:VEVENT
DTSTART;TZID=America/New_York:20241218T104500
DTEND;TZID=America/New_York:20241218T104500
DTSTAMP:20260425T174611
CREATED:20241202T192439Z
LAST-MODIFIED:20241202T192439Z
UID:14814-1734518700-1734518700@towerlane.org
SUMMARY:Chorus Rehearsal
DESCRIPTION:
URL:https://towerlane.org/event/chorus-rehearsal-17/2024-12-18/
LOCATION:Solarium
END:VEVENT
BEGIN:VEVENT
DTSTART;TZID=America/New_York:20241217T113000
DTEND;TZID=America/New_York:20241217T113000
DTSTAMP:20260425T174611
CREATED:20241202T192044Z
LAST-MODIFIED:20241202T192044Z
UID:14804-1734435000-1734435000@towerlane.org
SUMMARY:30 Minute Exercise
DESCRIPTION:
URL:https://towerlane.org/event/30-minute-exercise-4/2024-12-17/
LOCATION:Solarium
END:VEVENT
BEGIN:VEVENT
DTSTART;TZID=America/New_York:20241216T140000
DTEND;TZID=America/New_York:20241216T140000
DTSTAMP:20260425T174611
CREATED:20241202T194853Z
LAST-MODIFIED:20241202T194853Z
UID:14885-1734357600-1734357600@towerlane.org
SUMMARY:Bingo
DESCRIPTION:
URL:https://towerlane.org/event/bingo-115/
LOCATION:Solarium
END:VEVENT
BEGIN:VEVENT
DTSTART;TZID=America/New_York:20241216T111500
DTEND;TZID=America/New_York:20241216T111500
DTSTAMP:20260425T174611
CREATED:20241202T191232Z
LAST-MODIFIED:20241202T191232Z
UID:14784-1734347700-1734347700@towerlane.org
SUMMARY:Creative Art
DESCRIPTION:
URL:https://towerlane.org/event/creative-art-27/2024-12-16/
LOCATION:Solarium
END:VEVENT
BEGIN:VEVENT
DTSTART;TZID=America/New_York:20241214T140000
DTEND;TZID=America/New_York:20241214T140000
DTSTAMP:20260425T174611
CREATED:20241202T193943Z
LAST-MODIFIED:20241202T193943Z
UID:14865-1734184800-1734184800@towerlane.org
SUMMARY:Bingo
DESCRIPTION:
URL:https://towerlane.org/event/bingo-114/2024-12-14/
LOCATION:Solarium
END:VEVENT
BEGIN:VEVENT
DTSTART;TZID=America/New_York:20241214T100000
DTEND;TZID=America/New_York:20241214T100000
DTSTAMP:20260425T174611
CREATED:20241202T193852Z
LAST-MODIFIED:20241202T193852Z
UID:14860-1734170400-1734170400@towerlane.org
SUMMARY:Shabbat
DESCRIPTION:
URL:https://towerlane.org/event/shabbat-60/2024-12-14/
LOCATION:Solarium
END:VEVENT
BEGIN:VEVENT
DTSTART;TZID=America/New_York:20241213T184500
DTEND;TZID=America/New_York:20241213T184500
DTSTAMP:20260425T174611
CREATED:20241202T193800Z
LAST-MODIFIED:20241202T193800Z
UID:14855-1734115500-1734115500@towerlane.org
SUMMARY:Shabbat
DESCRIPTION:
URL:https://towerlane.org/event/shabbat-59/2024-12-13/
LOCATION:Solarium
END:VEVENT
BEGIN:VEVENT
DTSTART;TZID=America/New_York:20241213T140000
DTEND;TZID=America/New_York:20241213T140000
DTSTAMP:20260425T174611
CREATED:20241202T193649Z
LAST-MODIFIED:20241202T193649Z
UID:14851-1734098400-1734098400@towerlane.org
SUMMARY:Current Events/Trivia
DESCRIPTION:
URL:https://towerlane.org/event/current-events-trivia-13/2024-12-13/
LOCATION:Solarium
END:VEVENT
BEGIN:VEVENT
DTSTART;TZID=America/New_York:20241213T110000
DTEND;TZID=America/New_York:20241213T110000
DTSTAMP:20260425T174611
CREATED:20241202T193407Z
LAST-MODIFIED:20241202T193407Z
UID:14842-1734087600-1734087600@towerlane.org
SUMMARY:Knitting Group
DESCRIPTION:
URL:https://towerlane.org/event/knitting-group-65/2024-12-13/
LOCATION:Solarium
END:VEVENT
BEGIN:VEVENT
DTSTART;TZID=America/New_York:20241212T103000
DTEND;TZID=America/New_York:20241212T103000
DTSTAMP:20260425T174611
CREATED:20241202T194545Z
LAST-MODIFIED:20241202T194545Z
UID:14879-1733999400-1733999400@towerlane.org
SUMMARY:Hopkins School Students Visit
DESCRIPTION:
URL:https://towerlane.org/event/hopkins-school-students-visit/
LOCATION:Solarium
END:VEVENT
BEGIN:VEVENT
DTSTART;TZID=America/New_York:20241211T190000
DTEND;TZID=America/New_York:20241211T190000
DTSTAMP:20260425T174611
CREATED:20241202T194500Z
LAST-MODIFIED:20241202T194500Z
UID:14877-1733943600-1733943600@towerlane.org
SUMMARY:Spanish/Bilingual Christian Service
DESCRIPTION:
URL:https://towerlane.org/event/spanish-bilingual-christian-service-7/
LOCATION:Solarium
END:VEVENT
BEGIN:VEVENT
DTSTART;TZID=America/New_York:20241211T130000
DTEND;TZID=America/New_York:20241211T130000
DTSTAMP:20260425T174611
CREATED:20241202T192552Z
LAST-MODIFIED:20241202T192552Z
UID:14817-1733922000-1733922000@towerlane.org
SUMMARY:Healthy & Fit
DESCRIPTION:
URL:https://towerlane.org/event/healthy-fit-55/2024-12-11/
LOCATION:Solarium
END:VEVENT
BEGIN:VEVENT
DTSTART;TZID=America/New_York:20241211T104500
DTEND;TZID=America/New_York:20241211T104500
DTSTAMP:20260425T174611
CREATED:20241202T192439Z
LAST-MODIFIED:20241202T192439Z
UID:14813-1733913900-1733913900@towerlane.org
SUMMARY:Chorus Rehearsal
DESCRIPTION:
URL:https://towerlane.org/event/chorus-rehearsal-17/2024-12-11/
LOCATION:Solarium
END:VEVENT
BEGIN:VEVENT
DTSTART;TZID=America/New_York:20241210T140000
DTEND;TZID=America/New_York:20241210T140000
DTSTAMP:20260425T174611
CREATED:20241202T194401Z
LAST-MODIFIED:20241202T194401Z
UID:14875-1733839200-1733839200@towerlane.org
SUMMARY:Meet and Greet with Oak Street Health
DESCRIPTION:
URL:https://towerlane.org/event/meet-and-greet-with-oak-street-health/
LOCATION:Solarium
END:VEVENT
BEGIN:VEVENT
DTSTART;TZID=America/New_York:20241210T130000
DTEND;TZID=America/New_York:20241210T130000
DTSTAMP:20260425T174611
CREATED:20241202T192207Z
LAST-MODIFIED:20241202T192207Z
UID:14808-1733835600-1733835600@towerlane.org
SUMMARY:Interactive Music
DESCRIPTION:
URL:https://towerlane.org/event/interactive-music-29/2024-12-10/
LOCATION:Solarium
END:VEVENT
BEGIN:VEVENT
DTSTART;TZID=America/New_York:20241210T113000
DTEND;TZID=America/New_York:20241210T113000
DTSTAMP:20260425T174611
CREATED:20241202T192044Z
LAST-MODIFIED:20241202T192044Z
UID:14803-1733830200-1733830200@towerlane.org
SUMMARY:30 Minute Exercise
DESCRIPTION:
URL:https://towerlane.org/event/30-minute-exercise-4/2024-12-10/
LOCATION:Solarium
END:VEVENT
BEGIN:VEVENT
DTSTART;TZID=America/New_York:20241209T140000
DTEND;TZID=America/New_York:20241209T140000
DTSTAMP:20260425T174611
CREATED:20241202T194310Z
LAST-MODIFIED:20241202T194310Z
UID:14873-1733752800-1733752800@towerlane.org
SUMMARY:Hopkins Students Visit (*NO BINGO TODAY*)
DESCRIPTION:
URL:https://towerlane.org/event/hopkins-students-visit-no-bingo-today/
LOCATION:Solarium
END:VEVENT
BEGIN:VEVENT
DTSTART;TZID=America/New_York:20241209T111500
DTEND;TZID=America/New_York:20241209T111500
DTSTAMP:20260425T174611
CREATED:20241202T191232Z
LAST-MODIFIED:20241202T191232Z
UID:14783-1733742900-1733742900@towerlane.org
SUMMARY:Creative Art
DESCRIPTION:
URL:https://towerlane.org/event/creative-art-27/2024-12-09/
LOCATION:Solarium
END:VEVENT
BEGIN:VEVENT
DTSTART;TZID=America/New_York:20241207T140000
DTEND;TZID=America/New_York:20241207T140000
DTSTAMP:20260425T174611
CREATED:20241202T193943Z
LAST-MODIFIED:20241202T193943Z
UID:14864-1733580000-1733580000@towerlane.org
SUMMARY:Bingo
DESCRIPTION:
URL:https://towerlane.org/event/bingo-114/
LOCATION:Solarium
END:VEVENT
BEGIN:VEVENT
DTSTART;TZID=America/New_York:20241207T100000
DTEND;TZID=America/New_York:20241207T100000
DTSTAMP:20260425T174611
CREATED:20241202T193852Z
LAST-MODIFIED:20241202T193852Z
UID:14859-1733565600-1733565600@towerlane.org
SUMMARY:Shabbat
DESCRIPTION:
URL:https://towerlane.org/event/shabbat-60/
LOCATION:Solarium
END:VEVENT
BEGIN:VEVENT
DTSTART;TZID=America/New_York:20241206T184500
DTEND;TZID=America/New_York:20241206T184500
DTSTAMP:20260425T174611
CREATED:20241202T193800Z
LAST-MODIFIED:20241202T193800Z
UID:14854-1733510700-1733510700@towerlane.org
SUMMARY:Shabbat
DESCRIPTION:
URL:https://towerlane.org/event/shabbat-59/
LOCATION:Solarium
END:VEVENT
BEGIN:VEVENT
DTSTART;TZID=America/New_York:20241206T140000
DTEND;TZID=America/New_York:20241206T140000
DTSTAMP:20260425T174611
CREATED:20241202T193649Z
LAST-MODIFIED:20241202T193649Z
UID:14850-1733493600-1733493600@towerlane.org
SUMMARY:Current Events/Trivia
DESCRIPTION:
URL:https://towerlane.org/event/current-events-trivia-13/
LOCATION:Solarium
END:VEVENT
BEGIN:VEVENT
DTSTART;TZID=America/New_York:20241206T110000
DTEND;TZID=America/New_York:20241206T110000
DTSTAMP:20260425T174611
CREATED:20241202T193407Z
LAST-MODIFIED:20241202T193407Z
UID:14841-1733482800-1733482800@towerlane.org
SUMMARY:Knitting Group
DESCRIPTION:
URL:https://towerlane.org/event/knitting-group-65/
LOCATION:Solarium
END:VEVENT
BEGIN:VEVENT
DTSTART;TZID=America/New_York:20241205T100000
DTEND;TZID=America/New_York:20241205T100000
DTSTAMP:20260425T174611
CREATED:20241202T192826Z
LAST-MODIFIED:20241202T192826Z
UID:14826-1733392800-1733392800@towerlane.org
SUMMARY:St. Thomas School Students Visit
DESCRIPTION:
URL:https://towerlane.org/event/st-thomas-school-students-visit-3/
LOCATION:Solarium
END:VEVENT
END:VCALENDAR