BEGIN:VCALENDAR
VERSION:2.0
PRODID:-//The Towers - ECPv6.10.3//NONSGML v1.0//EN
CALSCALE:GREGORIAN
METHOD:PUBLISH
X-ORIGINAL-URL:https://towerlane.org
X-WR-CALDESC:Events for The Towers
REFRESH-INTERVAL;VALUE=DURATION:PT1H
X-Robots-Tag:noindex
X-PUBLISHED-TTL:PT1H
BEGIN:VTIMEZONE
TZID:America/New_York
BEGIN:DAYLIGHT
TZOFFSETFROM:-0500
TZOFFSETTO:-0400
TZNAME:EDT
DTSTART:20250309T070000
END:DAYLIGHT
BEGIN:STANDARD
TZOFFSETFROM:-0400
TZOFFSETTO:-0500
TZNAME:EST
DTSTART:20251102T060000
END:STANDARD
END:VTIMEZONE
BEGIN:VEVENT
DTSTART;TZID=America/New_York:20251219T150000
DTEND;TZID=America/New_York:20251219T150000
DTSTAMP:20260424T183816
CREATED:20251201T191457Z
LAST-MODIFIED:20251201T191457Z
UID:18766-1766156400-1766156400@towerlane.org
SUMMARY:Hanukkah Candle Lighting
DESCRIPTION:
URL:https://towerlane.org/event/hanukkah-candle-lighting-9/
LOCATION:Solarium
END:VEVENT
BEGIN:VEVENT
DTSTART;TZID=America/New_York:20251219T110000
DTEND;TZID=America/New_York:20251219T110000
DTSTAMP:20260424T183816
CREATED:20251201T171848Z
LAST-MODIFIED:20251201T171848Z
UID:18655-1766142000-1766142000@towerlane.org
SUMMARY:Knitting Group
DESCRIPTION:Part of our Intellectual Pathway.\nMeets weekly to knit or crochet blankets for community donation.
URL:https://towerlane.org/event/knitting-group-77/2025-12-19/
LOCATION:Solarium
END:VEVENT
BEGIN:VEVENT
DTSTART;TZID=America/New_York:20251218T150000
DTEND;TZID=America/New_York:20251218T150000
DTSTAMP:20260424T183816
CREATED:20251201T191207Z
LAST-MODIFIED:20251201T191207Z
UID:18762-1766070000-1766070000@towerlane.org
SUMMARY:Hanukkah Candle Lighting
DESCRIPTION:
URL:https://towerlane.org/event/hanukkah-candle-lighting-8/
LOCATION:Solarium
END:VEVENT
BEGIN:VEVENT
DTSTART;TZID=America/New_York:20251212T110000
DTEND;TZID=America/New_York:20251212T110000
DTSTAMP:20260424T183816
CREATED:20251201T171848Z
LAST-MODIFIED:20251201T171848Z
UID:18654-1765537200-1765537200@towerlane.org
SUMMARY:Knitting Group
DESCRIPTION:Part of our Intellectual Pathway.\nMeets weekly to knit or crochet blankets for community donation.
URL:https://towerlane.org/event/knitting-group-77/2025-12-12/
LOCATION:Solarium
END:VEVENT
BEGIN:VEVENT
DTSTART;TZID=America/New_York:20251205T110000
DTEND;TZID=America/New_York:20251205T110000
DTSTAMP:20260424T183816
CREATED:20251201T171848Z
LAST-MODIFIED:20251201T171848Z
UID:18653-1764932400-1764932400@towerlane.org
SUMMARY:Knitting Group
DESCRIPTION:Part of our Intellectual Pathway.\nMeets weekly to knit or crochet blankets for community donation.
URL:https://towerlane.org/event/knitting-group-77/2025-12-05/
LOCATION:Solarium
END:VEVENT
BEGIN:VEVENT
DTSTART;TZID=America/New_York:20251128T110000
DTEND;TZID=America/New_York:20251128T230000
DTSTAMP:20260424T183816
CREATED:20251031T185904Z
LAST-MODIFIED:20251031T185904Z
UID:18308-1764327600-1764370800@towerlane.org
SUMMARY:Knitting Group
DESCRIPTION:Part of our Intellectual Pathway.\nMeets weekly to knit or crochet blankets for community donation.
URL:https://towerlane.org/event/knitting-group-76/2025-11-28/
LOCATION:Solarium
END:VEVENT
BEGIN:VEVENT
DTSTART;TZID=America/New_York:20251121T110000
DTEND;TZID=America/New_York:20251121T230000
DTSTAMP:20260424T183816
CREATED:20251031T185904Z
LAST-MODIFIED:20251031T185904Z
UID:18307-1763722800-1763766000@towerlane.org
SUMMARY:Knitting Group
DESCRIPTION:Part of our Intellectual Pathway.\nMeets weekly to knit or crochet blankets for community donation.
URL:https://towerlane.org/event/knitting-group-76/2025-11-21/
LOCATION:Solarium
END:VEVENT
BEGIN:VEVENT
DTSTART;TZID=America/New_York:20251114T110000
DTEND;TZID=America/New_York:20251114T230000
DTSTAMP:20260424T183816
CREATED:20251031T185904Z
LAST-MODIFIED:20251031T185904Z
UID:18306-1763118000-1763161200@towerlane.org
SUMMARY:Knitting Group
DESCRIPTION:Part of our Intellectual Pathway.\nMeets weekly to knit or crochet blankets for community donation.
URL:https://towerlane.org/event/knitting-group-76/2025-11-14/
LOCATION:Solarium
END:VEVENT
BEGIN:VEVENT
DTSTART;TZID=America/New_York:20251107T110000
DTEND;TZID=America/New_York:20251107T230000
DTSTAMP:20260424T183816
CREATED:20251031T185904Z
LAST-MODIFIED:20251031T185904Z
UID:18305-1762513200-1762556400@towerlane.org
SUMMARY:Knitting Group
DESCRIPTION:Part of our Intellectual Pathway.\nMeets weekly to knit or crochet blankets for community donation.
URL:https://towerlane.org/event/knitting-group-76/2025-11-07/
LOCATION:Solarium
END:VEVENT
BEGIN:VEVENT
DTSTART;TZID=America/New_York:20251031T110000
DTEND;TZID=America/New_York:20251031T110000
DTSTAMP:20260424T183816
CREATED:20250930T143240Z
LAST-MODIFIED:20250930T143240Z
UID:17840-1761908400-1761908400@towerlane.org
SUMMARY:Knitting Group
DESCRIPTION:Part of our Intellectual Pathway.\nMeets weekly to knit or crochet blankets for community donation.
URL:https://towerlane.org/event/knitting-group-75/2025-10-31/
LOCATION:Solarium
END:VEVENT
BEGIN:VEVENT
DTSTART;TZID=America/New_York:20251024T110000
DTEND;TZID=America/New_York:20251024T110000
DTSTAMP:20260424T183816
CREATED:20250930T143240Z
LAST-MODIFIED:20250930T143240Z
UID:17839-1761303600-1761303600@towerlane.org
SUMMARY:Knitting Group
DESCRIPTION:Part of our Intellectual Pathway.\nMeets weekly to knit or crochet blankets for community donation.
URL:https://towerlane.org/event/knitting-group-75/2025-10-24/
LOCATION:Solarium
END:VEVENT
BEGIN:VEVENT
DTSTART;TZID=America/New_York:20251017T110000
DTEND;TZID=America/New_York:20251017T110000
DTSTAMP:20260424T183816
CREATED:20250930T143240Z
LAST-MODIFIED:20250930T143240Z
UID:17838-1760698800-1760698800@towerlane.org
SUMMARY:Knitting Group
DESCRIPTION:Part of our Intellectual Pathway.\nMeets weekly to knit or crochet blankets for community donation.
URL:https://towerlane.org/event/knitting-group-75/2025-10-17/
LOCATION:Solarium
END:VEVENT
BEGIN:VEVENT
DTSTART;TZID=America/New_York:20251010T110000
DTEND;TZID=America/New_York:20251010T110000
DTSTAMP:20260424T183816
CREATED:20250930T143240Z
LAST-MODIFIED:20250930T143240Z
UID:17837-1760094000-1760094000@towerlane.org
SUMMARY:Knitting Group
DESCRIPTION:Part of our Intellectual Pathway.\nMeets weekly to knit or crochet blankets for community donation.
URL:https://towerlane.org/event/knitting-group-75/2025-10-10/
LOCATION:Solarium
END:VEVENT
BEGIN:VEVENT
DTSTART;TZID=America/New_York:20251003T110000
DTEND;TZID=America/New_York:20251003T110000
DTSTAMP:20260424T183816
CREATED:20250930T143240Z
LAST-MODIFIED:20250930T143240Z
UID:17836-1759489200-1759489200@towerlane.org
SUMMARY:Knitting Group
DESCRIPTION:Part of our Intellectual Pathway.\nMeets weekly to knit or crochet blankets for community donation.
URL:https://towerlane.org/event/knitting-group-75/2025-10-03/
LOCATION:Solarium
END:VEVENT
BEGIN:VEVENT
DTSTART;TZID=America/New_York:20250926T110000
DTEND;TZID=America/New_York:20250926T110000
DTSTAMP:20260424T183816
CREATED:20250830T164520Z
LAST-MODIFIED:20250830T164520Z
UID:17682-1758884400-1758884400@towerlane.org
SUMMARY:Knitting Group
DESCRIPTION:Part of our Intellectual Pathway. \nMeets weekly to knit or crochet blankets for community donation.
URL:https://towerlane.org/event/knitting-group-74/2025-09-26/
LOCATION:Solarium
END:VEVENT
BEGIN:VEVENT
DTSTART;TZID=America/New_York:20250919T110000
DTEND;TZID=America/New_York:20250919T110000
DTSTAMP:20260424T183816
CREATED:20250830T164520Z
LAST-MODIFIED:20250830T164520Z
UID:17681-1758279600-1758279600@towerlane.org
SUMMARY:Knitting Group
DESCRIPTION:Part of our Intellectual Pathway. \nMeets weekly to knit or crochet blankets for community donation.
URL:https://towerlane.org/event/knitting-group-74/2025-09-19/
LOCATION:Solarium
END:VEVENT
BEGIN:VEVENT
DTSTART;TZID=America/New_York:20250912T110000
DTEND;TZID=America/New_York:20250912T110000
DTSTAMP:20260424T183816
CREATED:20250830T164520Z
LAST-MODIFIED:20250830T164520Z
UID:17680-1757674800-1757674800@towerlane.org
SUMMARY:Knitting Group
DESCRIPTION:Part of our Intellectual Pathway. \nMeets weekly to knit or crochet blankets for community donation.
URL:https://towerlane.org/event/knitting-group-74/2025-09-12/
LOCATION:Solarium
END:VEVENT
BEGIN:VEVENT
DTSTART;TZID=America/New_York:20250905T110000
DTEND;TZID=America/New_York:20250905T110000
DTSTAMP:20260424T183816
CREATED:20250830T164520Z
LAST-MODIFIED:20250830T164520Z
UID:17679-1757070000-1757070000@towerlane.org
SUMMARY:Knitting Group
DESCRIPTION:Part of our Intellectual Pathway. \nMeets weekly to knit or crochet blankets for community donation.
URL:https://towerlane.org/event/knitting-group-74/2025-09-05/
LOCATION:Solarium
END:VEVENT
BEGIN:VEVENT
DTSTART;TZID=America/New_York:20250829T110000
DTEND;TZID=America/New_York:20250829T110000
DTSTAMP:20260424T183816
CREATED:20250730T190808Z
LAST-MODIFIED:20250730T190808Z
UID:17361-1756465200-1756465200@towerlane.org
SUMMARY:Knitting Group
DESCRIPTION:Part of our Intellectual Pathway\nMeets weekly to knit or crochet blankets for community donation.
URL:https://towerlane.org/event/knitting-group-73/2025-08-29/
LOCATION:Solarium
END:VEVENT
BEGIN:VEVENT
DTSTART;TZID=America/New_York:20250822T110000
DTEND;TZID=America/New_York:20250822T110000
DTSTAMP:20260424T183816
CREATED:20250730T190808Z
LAST-MODIFIED:20250730T190808Z
UID:17360-1755860400-1755860400@towerlane.org
SUMMARY:Knitting Group
DESCRIPTION:Part of our Intellectual Pathway\nMeets weekly to knit or crochet blankets for community donation.
URL:https://towerlane.org/event/knitting-group-73/2025-08-22/
LOCATION:Solarium
END:VEVENT
BEGIN:VEVENT
DTSTART;TZID=America/New_York:20250815T110000
DTEND;TZID=America/New_York:20250815T110000
DTSTAMP:20260424T183816
CREATED:20250730T190808Z
LAST-MODIFIED:20250730T190808Z
UID:17359-1755255600-1755255600@towerlane.org
SUMMARY:Knitting Group
DESCRIPTION:Part of our Intellectual Pathway\nMeets weekly to knit or crochet blankets for community donation.
URL:https://towerlane.org/event/knitting-group-73/2025-08-15/
LOCATION:Solarium
END:VEVENT
BEGIN:VEVENT
DTSTART;TZID=America/New_York:20250812T140000
DTEND;TZID=America/New_York:20250812T140000
DTSTAMP:20260424T183816
CREATED:20250730T202230Z
LAST-MODIFIED:20250730T202230Z
UID:17490-1755007200-1755007200@towerlane.org
SUMMARY:Discussion: "What it Means to be Kosher"
DESCRIPTION:
URL:https://towerlane.org/event/discussion-what-it-means-to-be-kosher/
LOCATION:Solarium
END:VEVENT
BEGIN:VEVENT
DTSTART;TZID=America/New_York:20250808T110000
DTEND;TZID=America/New_York:20250808T110000
DTSTAMP:20260424T183816
CREATED:20250730T190808Z
LAST-MODIFIED:20250730T190808Z
UID:17358-1754650800-1754650800@towerlane.org
SUMMARY:Knitting Group
DESCRIPTION:Part of our Intellectual Pathway\nMeets weekly to knit or crochet blankets for community donation.
URL:https://towerlane.org/event/knitting-group-73/2025-08-08/
LOCATION:Solarium
END:VEVENT
BEGIN:VEVENT
DTSTART;TZID=America/New_York:20250801T110000
DTEND;TZID=America/New_York:20250801T110000
DTSTAMP:20260424T183816
CREATED:20250730T190808Z
LAST-MODIFIED:20250730T190808Z
UID:17357-1754046000-1754046000@towerlane.org
SUMMARY:Knitting Group
DESCRIPTION:Part of our Intellectual Pathway\nMeets weekly to knit or crochet blankets for community donation.
URL:https://towerlane.org/event/knitting-group-73/2025-08-01/
LOCATION:Solarium
END:VEVENT
BEGIN:VEVENT
DTSTART;TZID=America/New_York:20250725T110000
DTEND;TZID=America/New_York:20250725T110000
DTSTAMP:20260424T183816
CREATED:20250701T163716Z
LAST-MODIFIED:20250701T163716Z
UID:17273-1753441200-1753441200@towerlane.org
SUMMARY:Knitting Group
DESCRIPTION:Part of our Intellectual Pathway \nMeets weekly to knit or crochet blankets for community donation.
URL:https://towerlane.org/event/knitting-group-72/2025-07-25/
LOCATION:Solarium
END:VEVENT
BEGIN:VEVENT
DTSTART;TZID=America/New_York:20250718T110000
DTEND;TZID=America/New_York:20250718T110000
DTSTAMP:20260424T183816
CREATED:20250701T163716Z
LAST-MODIFIED:20250701T163716Z
UID:17272-1752836400-1752836400@towerlane.org
SUMMARY:Knitting Group
DESCRIPTION:Part of our Intellectual Pathway \nMeets weekly to knit or crochet blankets for community donation.
URL:https://towerlane.org/event/knitting-group-72/2025-07-18/
LOCATION:Solarium
END:VEVENT
BEGIN:VEVENT
DTSTART;TZID=America/New_York:20250711T110000
DTEND;TZID=America/New_York:20250711T110000
DTSTAMP:20260424T183816
CREATED:20250701T163716Z
LAST-MODIFIED:20250701T163716Z
UID:17271-1752231600-1752231600@towerlane.org
SUMMARY:Knitting Group
DESCRIPTION:Part of our Intellectual Pathway \nMeets weekly to knit or crochet blankets for community donation.
URL:https://towerlane.org/event/knitting-group-72/2025-07-11/
LOCATION:Solarium
END:VEVENT
BEGIN:VEVENT
DTSTART;TZID=America/New_York:20250627T110000
DTEND;TZID=America/New_York:20250627T110000
DTSTAMP:20260424T183816
CREATED:20250601T181246Z
LAST-MODIFIED:20250601T181246Z
UID:16992-1751022000-1751022000@towerlane.org
SUMMARY:Knitting Group
DESCRIPTION:Part of our Intellectual Pathway \nMeets weekly to knit or crochet blankets for community donation.
URL:https://towerlane.org/event/knitting-group-71/2025-06-27/
LOCATION:Solarium
END:VEVENT
BEGIN:VEVENT
DTSTART;TZID=America/New_York:20250620T110000
DTEND;TZID=America/New_York:20250620T110000
DTSTAMP:20260424T183816
CREATED:20250601T181246Z
LAST-MODIFIED:20250601T181246Z
UID:16991-1750417200-1750417200@towerlane.org
SUMMARY:Knitting Group
DESCRIPTION:Part of our Intellectual Pathway \nMeets weekly to knit or crochet blankets for community donation.
URL:https://towerlane.org/event/knitting-group-71/2025-06-20/
LOCATION:Solarium
END:VEVENT
BEGIN:VEVENT
DTSTART;TZID=America/New_York:20250613T110000
DTEND;TZID=America/New_York:20250613T110000
DTSTAMP:20260424T183816
CREATED:20250601T181246Z
LAST-MODIFIED:20250601T181246Z
UID:16990-1749812400-1749812400@towerlane.org
SUMMARY:Knitting Group
DESCRIPTION:Part of our Intellectual Pathway \nMeets weekly to knit or crochet blankets for community donation.
URL:https://towerlane.org/event/knitting-group-71/2025-06-13/
LOCATION:Solarium
END:VEVENT
END:VCALENDAR