BEGIN:VCALENDAR
VERSION:2.0
PRODID:-//The Towers - ECPv6.10.3//NONSGML v1.0//EN
CALSCALE:GREGORIAN
METHOD:PUBLISH
X-ORIGINAL-URL:https://towerlane.org
X-WR-CALDESC:Events for The Towers
REFRESH-INTERVAL;VALUE=DURATION:PT1H
X-Robots-Tag:noindex
X-PUBLISHED-TTL:PT1H
BEGIN:VTIMEZONE
TZID:America/New_York
BEGIN:DAYLIGHT
TZOFFSETFROM:-0500
TZOFFSETTO:-0400
TZNAME:EDT
DTSTART:20240310T070000
END:DAYLIGHT
BEGIN:STANDARD
TZOFFSETFROM:-0400
TZOFFSETTO:-0500
TZNAME:EST
DTSTART:20241103T060000
END:STANDARD
END:VTIMEZONE
BEGIN:VEVENT
DTSTART;TZID=America/New_York:20240613T130000
DTEND;TZID=America/New_York:20240613T130000
DTSTAMP:20260420T141947
CREATED:20240531T161110Z
LAST-MODIFIED:20240531T161110Z
UID:13710-1718283600-1718283600@towerlane.org
SUMMARY:Catholic Mass
DESCRIPTION:
URL:https://towerlane.org/event/catholic-mass-45/
LOCATION:Tower One 20th Floor
END:VEVENT
BEGIN:VEVENT
DTSTART;TZID=America/New_York:20240610T111500
DTEND;TZID=America/New_York:20240610T111500
DTSTAMP:20260420T141947
CREATED:20240531T133904Z
LAST-MODIFIED:20240531T133904Z
UID:13626-1718018100-1718018100@towerlane.org
SUMMARY:Creative Art
DESCRIPTION:
URL:https://towerlane.org/event/creative-art-22/2024-06-10/
LOCATION:Tower One 20th Floor
END:VEVENT
BEGIN:VEVENT
DTSTART;TZID=America/New_York:20240607T110000
DTEND;TZID=America/New_York:20240607T110000
DTSTAMP:20260420T141947
CREATED:20240531T155649Z
LAST-MODIFIED:20240531T155649Z
UID:13677-1717758000-1717758000@towerlane.org
SUMMARY:Knitting Group
DESCRIPTION:
URL:https://towerlane.org/event/knitting-group-51/
LOCATION:Tower One 20th Floor
END:VEVENT
BEGIN:VEVENT
DTSTART;TZID=America/New_York:20240604T094500
DTEND;TZID=America/New_York:20240604T094500
DTSTAMP:20260420T141947
CREATED:20240531T134520Z
LAST-MODIFIED:20240531T134520Z
UID:13641-1717494300-1717494300@towerlane.org
SUMMARY:Sewing Project
DESCRIPTION:
URL:https://towerlane.org/event/sewing-project-15/
LOCATION:Tower One 20th Floor
END:VEVENT
BEGIN:VEVENT
DTSTART;TZID=America/New_York:20240603T111500
DTEND;TZID=America/New_York:20240603T111500
DTSTAMP:20260420T141947
CREATED:20240531T133904Z
LAST-MODIFIED:20240531T133904Z
UID:13625-1717413300-1717413300@towerlane.org
SUMMARY:Creative Art
DESCRIPTION:
URL:https://towerlane.org/event/creative-art-22/
LOCATION:Tower One 20th Floor
END:VEVENT
BEGIN:VEVENT
DTSTART;TZID=America/New_York:20240531T110000
DTEND;TZID=America/New_York:20240531T110000
DTSTAMP:20260420T141947
CREATED:20240507T135451Z
LAST-MODIFIED:20240507T135451Z
UID:13500-1717153200-1717153200@towerlane.org
SUMMARY:Knitting Group
DESCRIPTION:
URL:https://towerlane.org/event/knitting-group-50/2024-05-31/
LOCATION:Tower One 20th Floor
END:VEVENT
BEGIN:VEVENT
DTSTART;TZID=America/New_York:20240524T110000
DTEND;TZID=America/New_York:20240524T110000
DTSTAMP:20260420T141947
CREATED:20240507T135451Z
LAST-MODIFIED:20240507T135451Z
UID:13499-1716548400-1716548400@towerlane.org
SUMMARY:Knitting Group
DESCRIPTION:
URL:https://towerlane.org/event/knitting-group-50/2024-05-24/
LOCATION:Tower One 20th Floor
END:VEVENT
BEGIN:VEVENT
DTSTART;TZID=America/New_York:20240521T100000
DTEND;TZID=America/New_York:20240521T100000
DTSTAMP:20260420T141947
CREATED:20240507T140720Z
LAST-MODIFIED:20240507T140720Z
UID:13528-1716285600-1716285600@towerlane.org
SUMMARY:Sewing Project
DESCRIPTION:
URL:https://towerlane.org/event/sewing-project-14/
LOCATION:Tower One 20th Floor
END:VEVENT
BEGIN:VEVENT
DTSTART;TZID=America/New_York:20240520T111500
DTEND;TZID=America/New_York:20240520T111500
DTSTAMP:20260420T141947
CREATED:20240507T134645Z
LAST-MODIFIED:20240507T134645Z
UID:13480-1716203700-1716203700@towerlane.org
SUMMARY:Creative Art
DESCRIPTION:
URL:https://towerlane.org/event/creative-art-21/2024-05-20/
LOCATION:Tower One 20th Floor
END:VEVENT
BEGIN:VEVENT
DTSTART;TZID=America/New_York:20240517T110000
DTEND;TZID=America/New_York:20240517T110000
DTSTAMP:20260420T141947
CREATED:20240507T135451Z
LAST-MODIFIED:20240507T135451Z
UID:13498-1715943600-1715943600@towerlane.org
SUMMARY:Knitting Group
DESCRIPTION:
URL:https://towerlane.org/event/knitting-group-50/2024-05-17/
LOCATION:Tower One 20th Floor
END:VEVENT
BEGIN:VEVENT
DTSTART;TZID=America/New_York:20240516T110000
DTEND;TZID=America/New_York:20240516T110000
DTSTAMP:20260420T141947
CREATED:20240507T140315Z
LAST-MODIFIED:20240507T140315Z
UID:13518-1715857200-1715857200@towerlane.org
SUMMARY:Hearing Device Information Session and Demonstration with Dr. Horowitz
DESCRIPTION:
URL:https://towerlane.org/event/hearing-device-information-session-and-demonstration-with-dr-horowitz/
LOCATION:Tower One 20th Floor
END:VEVENT
BEGIN:VEVENT
DTSTART;TZID=America/New_York:20240513T111500
DTEND;TZID=America/New_York:20240513T111500
DTSTAMP:20260420T141947
CREATED:20240507T134645Z
LAST-MODIFIED:20240507T134645Z
UID:13479-1715598900-1715598900@towerlane.org
SUMMARY:Creative Art
DESCRIPTION:
URL:https://towerlane.org/event/creative-art-21/2024-05-13/
LOCATION:Tower One 20th Floor
END:VEVENT
BEGIN:VEVENT
DTSTART;TZID=America/New_York:20240510T110000
DTEND;TZID=America/New_York:20240510T110000
DTSTAMP:20260420T141947
CREATED:20240507T135451Z
LAST-MODIFIED:20240507T135451Z
UID:13497-1715338800-1715338800@towerlane.org
SUMMARY:Knitting Group
DESCRIPTION:
URL:https://towerlane.org/event/knitting-group-50/
LOCATION:Tower One 20th Floor
END:VEVENT
BEGIN:VEVENT
DTSTART;TZID=America/New_York:20240507T100000
DTEND;TZID=America/New_York:20240507T100000
DTSTAMP:20260420T141947
CREATED:20240506T203018Z
LAST-MODIFIED:20240506T203018Z
UID:13407-1715076000-1715076000@towerlane.org
SUMMARY:Sewing Project
DESCRIPTION:
URL:https://towerlane.org/event/sewing-project-13/
LOCATION:Tower One 20th Floor
END:VEVENT
BEGIN:VEVENT
DTSTART;TZID=America/New_York:20240506T111500
DTEND;TZID=America/New_York:20240506T111500
DTSTAMP:20260420T141947
CREATED:20240507T134645Z
LAST-MODIFIED:20240507T134645Z
UID:13478-1714994100-1714994100@towerlane.org
SUMMARY:Creative Art
DESCRIPTION:
URL:https://towerlane.org/event/creative-art-21/
LOCATION:Tower One 20th Floor
END:VEVENT
BEGIN:VEVENT
DTSTART;TZID=America/New_York:20240429T110000
DTEND;TZID=America/New_York:20240429T110000
DTSTAMP:20260420T141947
CREATED:20240330T134749Z
LAST-MODIFIED:20240330T134749Z
UID:13223-1714388400-1714388400@towerlane.org
SUMMARY:Creative Art
DESCRIPTION:
URL:https://towerlane.org/event/creative-art-20/2024-04-29/
LOCATION:Tower One 20th Floor
END:VEVENT
BEGIN:VEVENT
DTSTART;TZID=America/New_York:20240422T110000
DTEND;TZID=America/New_York:20240422T110000
DTSTAMP:20260420T141947
CREATED:20240330T134749Z
LAST-MODIFIED:20240330T134749Z
UID:13222-1713783600-1713783600@towerlane.org
SUMMARY:Creative Art
DESCRIPTION:
URL:https://towerlane.org/event/creative-art-20/2024-04-22/
LOCATION:Tower One 20th Floor
END:VEVENT
BEGIN:VEVENT
DTSTART;TZID=America/New_York:20240415T110000
DTEND;TZID=America/New_York:20240415T110000
DTSTAMP:20260420T141947
CREATED:20240330T134749Z
LAST-MODIFIED:20240330T134749Z
UID:13221-1713178800-1713178800@towerlane.org
SUMMARY:Creative Art
DESCRIPTION:
URL:https://towerlane.org/event/creative-art-20/2024-04-15/
LOCATION:Tower One 20th Floor
END:VEVENT
BEGIN:VEVENT
DTSTART;TZID=America/New_York:20240411T150000
DTEND;TZID=America/New_York:20240411T150000
DTSTAMP:20260420T141947
CREATED:20240402T135839Z
LAST-MODIFIED:20240402T135839Z
UID:13336-1712847600-1712847600@towerlane.org
SUMMARY:Book Club Meeting
DESCRIPTION:
URL:https://towerlane.org/event/book-club-meeting-14/
LOCATION:Tower One 20th Floor
END:VEVENT
BEGIN:VEVENT
DTSTART;TZID=America/New_York:20240408T110000
DTEND;TZID=America/New_York:20240408T110000
DTSTAMP:20260420T141947
CREATED:20240330T134749Z
LAST-MODIFIED:20240330T134749Z
UID:13220-1712574000-1712574000@towerlane.org
SUMMARY:Creative Art
DESCRIPTION:
URL:https://towerlane.org/event/creative-art-20/2024-04-08/
LOCATION:Tower One 20th Floor
END:VEVENT
BEGIN:VEVENT
DTSTART;TZID=America/New_York:20240401T110000
DTEND;TZID=America/New_York:20240401T110000
DTSTAMP:20260420T141947
CREATED:20240330T134749Z
LAST-MODIFIED:20240330T134749Z
UID:13219-1711969200-1711969200@towerlane.org
SUMMARY:Creative Art
DESCRIPTION:
URL:https://towerlane.org/event/creative-art-20/
LOCATION:Tower One 20th Floor
END:VEVENT
BEGIN:VEVENT
DTSTART;TZID=America/New_York:20240325T110000
DTEND;TZID=America/New_York:20240325T110000
DTSTAMP:20260420T141947
CREATED:20240229T190132Z
LAST-MODIFIED:20240229T190132Z
UID:13051-1711364400-1711364400@towerlane.org
SUMMARY:Creative Art
DESCRIPTION:
URL:https://towerlane.org/event/creative-art-19/2024-03-25/
LOCATION:Tower One 20th Floor
END:VEVENT
BEGIN:VEVENT
DTSTART;TZID=America/New_York:20240321T150000
DTEND;TZID=America/New_York:20240321T150000
DTSTAMP:20260420T141947
CREATED:20240229T195148Z
LAST-MODIFIED:20240229T195148Z
UID:13144-1711033200-1711033200@towerlane.org
SUMMARY:Book Club Meeting
DESCRIPTION:
URL:https://towerlane.org/event/book-club-meeting-13/
LOCATION:Tower One 20th Floor
END:VEVENT
BEGIN:VEVENT
DTSTART;TZID=America/New_York:20240318T110000
DTEND;TZID=America/New_York:20240318T110000
DTSTAMP:20260420T141947
CREATED:20240229T190132Z
LAST-MODIFIED:20240229T190132Z
UID:13050-1710759600-1710759600@towerlane.org
SUMMARY:Creative Art
DESCRIPTION:
URL:https://towerlane.org/event/creative-art-19/2024-03-18/
LOCATION:Tower One 20th Floor
END:VEVENT
BEGIN:VEVENT
DTSTART;TZID=America/New_York:20240311T110000
DTEND;TZID=America/New_York:20240311T110000
DTSTAMP:20260420T141947
CREATED:20240229T190132Z
LAST-MODIFIED:20240229T190132Z
UID:13049-1710154800-1710154800@towerlane.org
SUMMARY:Creative Art
DESCRIPTION:
URL:https://towerlane.org/event/creative-art-19/2024-03-11/
LOCATION:Tower One 20th Floor
END:VEVENT
BEGIN:VEVENT
DTSTART;TZID=America/New_York:20240304T110000
DTEND;TZID=America/New_York:20240304T110000
DTSTAMP:20260420T141947
CREATED:20240229T190132Z
LAST-MODIFIED:20240229T190132Z
UID:13048-1709550000-1709550000@towerlane.org
SUMMARY:Creative Art
DESCRIPTION:
URL:https://towerlane.org/event/creative-art-19/
LOCATION:Tower One 20th Floor
END:VEVENT
BEGIN:VEVENT
DTSTART;TZID=America/New_York:20240227T104500
DTEND;TZID=America/New_York:20240227T104500
DTSTAMP:20260420T141947
CREATED:20240201T185736Z
LAST-MODIFIED:20240201T185736Z
UID:12851-1709030700-1709030700@towerlane.org
SUMMARY:Create a Word
DESCRIPTION:
URL:https://towerlane.org/event/create-a-word-23/2024-02-27/
LOCATION:Tower One 20th Floor
END:VEVENT
BEGIN:VEVENT
DTSTART;TZID=America/New_York:20240226T110000
DTEND;TZID=America/New_York:20240226T110000
DTSTAMP:20260420T141947
CREATED:20240201T184922Z
LAST-MODIFIED:20240201T184922Z
UID:12831-1708945200-1708945200@towerlane.org
SUMMARY:Creative Art
DESCRIPTION:
URL:https://towerlane.org/event/creative-art-18/2024-02-26/
LOCATION:Tower One 20th Floor
END:VEVENT
BEGIN:VEVENT
DTSTART;TZID=America/New_York:20240223T110000
DTEND;TZID=America/New_York:20240223T110000
DTSTAMP:20260420T141947
CREATED:20240201T194319Z
LAST-MODIFIED:20240201T194319Z
UID:12948-1708686000-1708686000@towerlane.org
SUMMARY:Knitting Group
DESCRIPTION:
URL:https://towerlane.org/event/knitting-group-47/
LOCATION:Tower One 20th Floor
END:VEVENT
BEGIN:VEVENT
DTSTART;TZID=America/New_York:20240222T150000
DTEND;TZID=America/New_York:20240222T150000
DTSTAMP:20260420T141947
CREATED:20240201T193214Z
LAST-MODIFIED:20240201T193214Z
UID:12941-1708614000-1708614000@towerlane.org
SUMMARY:Book Club Meeting
DESCRIPTION:
URL:https://towerlane.org/event/book-club-meeting-12/
LOCATION:Tower One 20th Floor
END:VEVENT
END:VCALENDAR